Workbook
Name clasp: Table38[Clasp Type]
Name collection: Table27[Collection / Look]
Name color: Table28[Color]
Name design: Table41[design]
Name gemstone: Table32[Gemstones]
Name gift: Table43[gift for]
Name material: Table30[Material]
Name necklace_type: Table36[necklace_type]
Name ocassion: Table42[ocassion]
Name ornamentation: Table37[Ornamentation Type]
Name package: Table2[Package Contains]
Name pandent_shape: Table3[Pandent shape]
Name pearl_shape: 'valid values'!$I$2:$I$28
Name pearl_type: Table34[Pearl Type]
Name shape: Table33[Stone Shape]
Name style: Table40[Style]
Name tags: Table44[tags]
Name trend: Table39[Trend]
Name type: Table2427[[#All],[type]]
Name work: Table31[Jewellery Work]

Sheet Guidelines

Sheet work here
A1: SKU | B1: Type | C1: Title | D1: Parent | E1: Price | F1: Look | G1: Color | H1: Necklace Length (cm) | I1: Necklace Widht (cm) | J1: Necklace Depth (cm) | K1: Chain Length (CM) | L1: Chain Thickness (mm) | M1: Pandent Shape | N1: Main Image | O1: White Background Image | P1: Other Image 1 | Q1: Other Image 2 | R1: Other Image 3 | S1: Other Image 4 | T1: Other Image 5 | U1: Other Image 6 | V1: Other Image 7 | W1: Other Image 8 | X1: Other Image 9 | Y1: Swatch Image | Z1: Stock | AA1: Material | AB1: Work | AC1: Gemstone | AD1: Necklace Type | AE1: Clasp Type | AF1: Ornamentation Type | AG1: Necklace Design | AH1: Occasion1 | AI1: Occasion2 | AJ1: Occasion3 | AK1: Gift For1 | AL1: Gift For2 | AM1: Gift For3 | AN1: Stone Color | AO1: Stone Shape | AP1: Pearl Type | AQ1: Pearl Shape | AR1: Pearl Color | AS1: Pearl Size (mm) | AT1: Trend | AU1: Tag 1 | AV1: Tag 2 | AW1: Tag 3 | AX1: Tag 4 | AY1: Tag 5 | AZ1: Package Contains | BA1: Package Waight (gm) | BB1: Package Length (cm) | BC1: Package Width (cm) | BD1: Package Depth (cm)
B2: simple

Sheet created
A1: Type | B1: SKU | C1: Name | D1: Published | E1: Is featured? | F1: Visibility in catalog | G1: Description | H1: In stock? | I1: Stock | J1: Low stock amount | K1: Backorders allowed? | L1: Sold individually? | M1: Weight (g) | N1: Length (cm) | O1: Width (cm) | P1: Height (cm) | Q1: Allow customer reviews? | R1: Purchase note | S1: Sale price | T1: Regular price | U1: Categories | V1: Images | W1: Woo Variation Gallery Images | X1: Parent | Y1: Attribute 1 name | Z1: Attribute 1 value(s) | AA1: Attribute 1 visible | AB1: Attribute 1 global | AC1: Attribute 1 default | AD1: Attribute 2 name | AE1: Attribute 2 value(s) | AF1: Attribute 2 visible | AG1: Attribute 2 global | AH1: Attribute 2 default | AI1: Attribute 3 name | AJ1: Attribute 3 value(s) | AK1: Attribute 3 visible | AL1: Attribute 3 global | AM1: Attribute 4 name | AN1: Attribute 4 value(s) | AO1: Attribute 4 visible | AP1: Attribute 4 global | AQ1: Attribute 5 name | AR1: Attribute 5 value(s) | AS1: Attribute 5 visible | AT1: Attribute 5 global | AU1: Attribute 6 name | AV1: Attribute 6 value(s) | AW1: Attribute 6 visible | AX1: Attribute 6 global | AY1: Attribute 7 name | AZ1: Attribute 7 value(s) | BA1: Attribute 7 visible | BB1: Attribute 7 global | BC1: Attribute 8 name | BD1: Attribute 8 value(s) | BE1: Attribute 8 visible | BF1: Attribute 8 global | BG1: Attribute 9 name | BH1: Attribute 9 value(s) | BI1: Attribute 9 visible | BJ1: Attribute 9 global | BK1: Attribute 10 name | BL1: Attribute 10 value(s) | BM1: Attribute 10 visible | BN1: Attribute 10 global | BO1: Attribute 10 default
A2: =IF('work here'!A2="simple","simple",IF('work here'!A2="parent","variable",IF('work here'!A2="child","variation",""))) | B2: =IF('work here'!C2<>"", 'work here'!C2, "") | C2: =IF('work here'!B2<>"", 'work here'!B2, "") -> simple | D2: =IF(A2<>"",1,"") | E2: =IF(A2<>"",0,"") | F2: =IF(A2<>"","visible","") | G2: =IF('work here'!#REF!<>"", 'work here'!#REF!, "") -> #REF! | I2: =IF('work here'!Z2<>"", 'work here'!Z2, "") | J2: =IF(A2<>"",2,"") | K2: =IF(A2<>"",0,"") | L2: =IF(A2<>"",0,"") | M2: =IF('work here'!AA2<>"", 'work here'!AA2, "") | N2: =IF('work here'!AD2<>"", 'work here'!AD2, "") | O2: =IF('work here'!AC2<>"", 'work here'!AC2, "") | P2: =IF('work here'!AB2<>"", 'work here'!AB2, "") | Q2: =IF(A2<>"",1,"") | S2: =IF('work here'!E2<>"", 'work here'!E2, "") | T2: =IF('work here'!#REF!<>"", 'work here'!#REF!, "") -> #REF! | U2: =IF(A2="", "", _xlfn.TEXTJOIN(", ", TRUE, "jewellery", "jewellery > " & 'work here'!F2, "jewellery > " & 'work here'!F2 & " > " & 'work here'!#REF!, 'work here'!#REF!, 'work here'!AG2, 'work here'!H2, 'work here'!I2, 'work here'!J2)) | V2: {=_xlfn.LET( _xlpm.yr, TEXT(TODAY(), "yyyy"), _xlpm.mn, TEXT(TODAY(), "mm"), _xlpm.path, "https://richlook.co.in/wp-content/uploads/" & _xlpm.yr & "/" & _xlpm.mn & "/", _xlpm.imgRange, 'work here'!N2:X2, _xlpm.imgLinks, IF(_xlpm.imgRange<>"", _xlpm.path & _xlpm.imgRange & ".webp", ""), _xlpm.urls, IF(A2="variable", _xlpm.imgLinks, IF(A2="variation", IF('work here'!N2<>"", _xlpm.path & 'work here'!N2 & ".webp", ""), IF(A2="simple", _xlpm.imgLinks, ""))), _xlfn.TEXTJOIN(", ", TRUE, _xlpm.urls) )} | W2: {=_xlfn.LET( _xlpm.yr, TEXT(TODAY(), "yyyy"), _xlpm.mn, TEXT(TODAY(), "mm"), _xlpm.path, "https://richlook.co.in/wp-content/uploads/" & _xlpm.yr & "/" & _xlpm.mn & "/", _xlpm.imgRange, 'work here'!O2:X2, _xlpm.imgLinks, IF(_xlpm.imgRange<>"", _xlpm.path & _xlpm.imgRange & ".webp", ""), _xlpm.urls, IF(A2="variable", "", IF(A2="variation", _xlpm.imgLinks, IF(A2="simple", "", ""))), _xlfn.TEXTJOIN(", ", TRUE, _xlpm.urls) )} | X2: =IF('work here'!D2<>"", 'work here'!D2, "") | Y2: =IF('work here'!#REF!<>"","color","") -> #REF! | Z2: =IF('work here'!#REF!<>"",'work here'!#REF!,"") -> #REF! | AA2: =IF(AND(OR(A2="simple", A2="variable"), Y2="color"), 1, "") -> #REF! | AB2: =IF(AND( Y2="color"), 1, "") -> #REF! | AC2: =IF(A2="variable", Z3, "") | AD2: =IF('work here'!#REF!<>"",'work here'!#REF!,"") -> #REF! | AE2: =IF('work here'!#REF!<>"",'work here'!#REF!,"") -> #REF! | AF2: =IF(AD2<>"", 1, "") -> #REF! | AG2: =IF(AD2<>"", 1, "") -> #REF! | AH2: =IF(A2="variable", AE3, "") | AI2: =IF('work here'!AF2<>"","Jewellery Work","") | AJ2: =IF('work here'!AF2<>"",'work here'!AF2,"") | AK2: =IF(AND(OR(A2="simple", A2="variable"), AI2="Jewellery Work"), 1, "") | AL2: =IF(AND(OR(A2="simple", A2="variable"), AI2="Jewellery Work"), 1, "") | AM2: =IF('work here'!#REF!<>"","Gemstone","") -> #REF! | AN2: =IF('work here'!#REF!<>"",'work here'!#REF!,"") -> #REF! | AO2: =IF(AND(OR(A2="simple", A2="variable"), AM2="Gemstone"), 1, "") -> #REF! | AP2: =IF(AND(OR(A2="simple", A2="variable"), AM2="Gemstone"), 1, "") -> #REF! | AQ2: =IF('work here'!AE2<>"","Plating","") | AR2: =IF('work here'!AE2<>"",'work here'!AE2,"") | AS2: =IF(AND(OR(A2="simple", A2="variable"), AQ2="Plating"), 1, "") | AT2: =IF(AND(OR(A2="simple", A2="variable"), AQ2="Plating"), 1, "") | AU2: =IF('work here'!AT2<>"","Material","") | AV2: =IF('work here'!AT2<>"",'work here'!AT2,"") | AW2: =IF(AND(OR(A2="simple", A2="variable"), AU2="Material"), 1, "") | AX2: =IF(AND(OR(A2="simple", A2="variable"), AU2="Material"), 1, "") | AY2: =IF('work here'!#REF!<>"","Look","") -> #REF! | AZ2: =IF('work here'!#REF!<>"",'work here'!#REF!,"") -> #REF! | BA2: =IF(AND(OR(A2="simple", A2="variable"), AY2="Look"), 1, "") -> #REF! | BB2: =IF(AND(OR(A2="simple", A2="variable"), AY2="Look"), 1, "") -> #REF! | BC2: =IF('work here'!#REF!<>"","Finish","") -> #REF! | BD2: =IF('work here'!#REF!<>"",'work here'!#REF!,"") -> #REF! | BE2: =IF(AND(OR(A2="simple", A2="variable"), BC2="Finish"), 1, "") -> #REF! | BF2: =IF(AND(OR(A2="simple", A2="variable"), BC2="Finish"), 1, "") -> #REF! | BG2: =IF('work here'!#REF!<>"","Care","") -> #REF! | BH2: =IF('work here'!#REF!<>"",'work here'!#REF!,"") -> #REF! | BI2: =IF(AND(OR(A2="simple", A2="variable"), BG2="Care"), 1, "") -> #REF! | BJ2: =IF(AND(OR(A2="simple", A2="variable"), BG2="Care"), 1, "") -> #REF! | BK2: =IF(OR('work here'!F2="Rings", 'work here'!F2="Bangles"), 'work here'!F2 & " Size", "") | BL2: =IF('work here'!#REF!<>"",'work here'!#REF!,"") -> #REF! | BM2: =IF(AND(OR(A2="simple", A2="variable"), OR(BK2="Rings Size", BK2="Bangles Size")), 1, "") | BN2: =IF(AND(OR(A2="simple", A2="variable"), OR(BK2="Rings Size", BK2="Bangles Size")), 1, "") | BO2: =IF(A2="variable", BL3, "")
A3: =IF('work here'!#REF!="simple","simple",IF('work here'!#REF!="parent","variable",IF('work here'!#REF!="child","variation",""))) -> #REF! | B3: =IF('work here'!#REF!<>"", 'work here'!#REF!, "") -> #REF! | C3: =IF('work here'!#REF!<>"", 'work here'!#REF!, "") -> #REF! | D3: =IF(A3<>"",1,"") -> #REF! | E3: =IF(A3<>"",0,"") -> #REF! | F3: =IF(A3<>"","visible","") -> #REF! | G3: =IF('work here'!#REF!<>"", 'work here'!#REF!, "") -> #REF! | I3: =IF('work here'!#REF!<>"", 'work here'!#REF!, "") -> #REF! | J3: =IF(A3<>"",2,"") -> #REF! | K3: =IF(A3<>"",0,"") -> #REF! | L3: =IF(A3<>"",0,"") -> #REF! | M3: =IF('work here'!#REF!<>"", 'work here'!#REF!, "") -> #REF! | N3: =IF('work here'!#REF!<>"", 'work here'!#REF!, "") -> #REF! | O3: =IF('work here'!#REF!<>"", 'work here'!#REF!, "") -> #REF! | P3: =IF('work here'!#REF!<>"", 'work here'!#REF!, "") -> #REF! | Q3: =IF(A3<>"",1,"") -> #REF! | S3: =IF('work here'!#REF!<>"", 'work here'!#REF!, "") -> #REF! | T3: =IF('work here'!#REF!<>"", 'work here'!#REF!, "") -> #REF! | U3: =IF(A3="", "", _xlfn.TEXTJOIN(", ", TRUE, "jewellery", "jewellery > " & 'work here'!#REF!, "jewellery > " & 'work here'!#REF! & " > " & 'work here'!#REF!, 'work here'!#REF!, 'work here'!#REF!, 'work here'!#REF!, 'work here'!#REF!, 'work here'!#REF!)) -> #REF! | V3: {=_xlfn.LET( _xlpm.yr, TEXT(TODAY(), "yyyy"), _xlpm.mn, TEXT(TODAY(), "mm"), _xlpm.path, "https://richlook.co.in/wp-content/uploads/" & _xlpm.yr & "/" & _xlpm.mn & "/", _xlpm.imgRange, 'work here'!#REF!, _xlpm.imgLinks, IF(_xlpm.imgRange<>"", _xlpm.path & _xlpm.imgRange & ".webp", ""), _xlpm.urls, IF(A3="variable", _xlpm.imgLinks, IF(A3="variation", IF('work here'!#REF!<>"", _xlpm.path & 'work here'!#REF! & ".webp", ""), IF(A3="simple", _xlpm.imgLinks, ""))), _xlfn.TEXTJOIN(", ", TRUE, _xlpm.urls) )} -> #REF! | W3: {=_xlfn.LET( _xlpm.yr, TEXT(TODAY(), "yyyy"), _xlpm.mn, TEXT(TODAY(), "mm"), _xlpm.path, "https://richlook.co.in/wp-content/uploads/" & _xlpm.yr & "/" & _xlpm.mn & "/", _xlpm.imgRange, 'work here'!#REF!, _xlpm.imgLinks, IF(_xlpm.imgRange<>"", _xlpm.path & _xlpm.imgRange & ".webp", ""), _xlpm.urls, IF(A3="variable", "", IF(A3="variation", _xlpm.imgLinks, IF(A3="simple", "", ""))), _xlfn.TEXTJOIN(", ", TRUE, _xlpm.urls) )} -> #REF! | X3: =IF('work here'!#REF!<>"", 'work here'!#REF!, "") -> #REF! | Y3: =IF('work here'!#REF!<>"","color","") -> #REF! | Z3: =IF('work here'!#REF!<>"",'work here'!#REF!,"") -> #REF! | AA3: =IF(AND(OR(A3="simple", A3="variable"), Y3="color"), 1, "") -> #REF! | AB3: =IF(AND( Y3="color"), 1, "") -> #REF! | AC3: =IF(A3="variable", Z4, "") -> #REF! | AD3: =IF('work here'!#REF!<>"",'work here'!#REF!,"") -> #REF! | AE3: =IF('work here'!#REF!<>"",'work here'!#REF!,"") -> #REF! | AF3: =IF(AD3<>"", 1, "") -> #REF! | AG3: =IF(AD3<>"", 1, "") -> #REF! | AH3: =IF(A3="variable", AE4, "") -> #REF! | AI3: =IF('work here'!#REF!<>"","Jewellery Work","") -> #REF! | AJ3: =IF('work here'!#REF!<>"",'work here'!#REF!,"") -> #REF! | AK3: =IF(AND(OR(A3="simple", A3="variable"), AI3="Jewellery Work"), 1, "") -> #REF! | AL3: =IF(AND(OR(A3="simple", A3="variable"), AI3="Jewellery Work"), 1, "") -> #REF! | AM3: =IF('work here'!#REF!<>"","Gemstone","") -> #REF! | AN3: =IF('work here'!#REF!<>"",'work here'!#REF!,"") -> #REF! | AO3: =IF(AND(OR(A3="simple", A3="variable"), AM3="Gemstone"), 1, "") -> #REF! | AP3: =IF(AND(OR(A3="simple", A3="variable"), AM3="Gemstone"), 1, "") -> #REF! | AQ3: =IF('work here'!#REF!<>"","Plating","") -> #REF! | AR3: =IF('work here'!#REF!<>"",'work here'!#REF!,"") -> #REF! | AS3: =IF(AND(OR(A3="simple", A3="variable"), AQ3="Plating"), 1, "") -> #REF! | AT3: =IF(AND(OR(A3="simple", A3="variable"), AQ3="Plating"), 1, "") -> #REF! | AU3: =IF('work here'!#REF!<>"","Material","") -> #REF! | AV3: =IF('work here'!#REF!<>"",'work here'!#REF!,"") -> #REF! | AW3: =IF(AND(OR(A3="simple", A3="variable"), AU3="Material"), 1, "") -> #REF! | AX3: =IF(AND(OR(A3="simple", A3="variable"), AU3="Material"), 1, "") -> #REF! | AY3: =IF('work here'!#REF!<>"","Look","") -> #REF! | AZ3: =IF('work here'!#REF!<>"",'work here'!#REF!,"") -> #REF! | BA3: =IF(AND(OR(A3="simple", A3="variable"), AY3="Look"), 1, "") -> #REF! | BB3: =IF(AND(OR(A3="simple", A3="variable"), AY3="Look"), 1, "") -> #REF! | BC3: =IF('work here'!#REF!<>"","Finish","") -> #REF! | BD3: =IF('work here'!#REF!<>"",'work here'!#REF!,"") -> #REF! | BE3: =IF(AND(OR(A3="simple", A3="variable"), BC3="Finish"), 1, "") -> #REF! | BF3: =IF(AND(OR(A3="simple", A3="variable"), BC3="Finish"), 1, "") -> #REF! | BG3: =IF('work here'!#REF!<>"","Care","") -> #REF! | BH3: =IF('work here'!#REF!<>"",'work here'!#REF!,"") -> #REF! | BI3: =IF(AND(OR(A3="simple", A3="variable"), BG3="Care"), 1, "") -> #REF! | BJ3: =IF(AND(OR(A3="simple", A3="variable"), BG3="Care"), 1, "") -> #REF! | BK3: =IF(OR('work here'!#REF!="Rings", 'work here'!#REF!="Bangles"), 'work here'!#REF! & " Size", "") -> #REF! | BL3: =IF('work here'!#REF!<>"",'work here'!#REF!,"") -> #REF! | BM3: =IF(AND(OR(A3="simple", A3="variable"), OR(BK3="Rings Size", BK3="Bangles Size")), 1, "") -> #REF! | BN3: =IF(AND(OR(A3="simple", A3="variable"), OR(BK3="Rings Size", BK3="Bangles Size")), 1, "") -> #REF! | BO3: =IF(A3="variable", BL4, "") -> #REF!
A4: =IF('work here'!A3="simple","simple",IF('work here'!A3="parent","variable",IF('work here'!A3="child","variation",""))) | B4: =IF('work here'!C3<>"", 'work here'!C3, "") | C4: =IF('work here'!B3<>"", 'work here'!B3, "") | D4: =IF(A4<>"",1,"") | E4: =IF(A4<>"",0,"") | F4: =IF(A4<>"","visible","") | G4: =IF('work here'!#REF!<>"", 'work here'!#REF!, "") -> #REF! | I4: =IF('work here'!Z3<>"", 'work here'!Z3, "") | J4: =IF(A4<>"",2,"") | K4: =IF(A4<>"",0,"") | L4: =IF(A4<>"",0,"") | M4: =IF('work here'!AA3<>"", 'work here'!AA3, "") | N4: =IF('work here'!AD3<>"", 'work here'!AD3, "") | O4: =IF('work here'!AC3<>"", 'work here'!AC3, "") | P4: =IF('work here'!AB3<>"", 'work here'!AB3, "") | Q4: =IF(A4<>"",1,"") | S4: =IF('work here'!E3<>"", 'work here'!E3, "") | T4: =IF('work here'!#REF!<>"", 'work here'!#REF!, "") -> #REF! | U4: =IF(A4="", "", _xlfn.TEXTJOIN(", ", TRUE, "jewellery", "jewellery > " & 'work here'!F3, "jewellery > " & 'work here'!F3 & " > " & 'work here'!#REF!, 'work here'!#REF!, 'work here'!AY3, 'work here'!H3, 'work here'!I3, 'work here'!J3)) | V4: {=_xlfn.LET( _xlpm.yr, TEXT(TODAY(), "yyyy"), _xlpm.mn, TEXT(TODAY(), "mm"), _xlpm.path, "https://richlook.co.in/wp-content/uploads/" & _xlpm.yr & "/" & _xlpm.mn & "/", _xlpm.imgRange, 'work here'!N3:X3, _xlpm.imgLinks, IF(_xlpm.imgRange<>"", _xlpm.path & _xlpm.imgRange & ".webp", ""), _xlpm.urls, IF(A4="variable", _xlpm.imgLinks, IF(A4="variation", IF('work here'!N3<>"", _xlpm.path & 'work here'!N3 & ".webp", ""), IF(A4="simple", _xlpm.imgLinks, ""))), _xlfn.TEXTJOIN(", ", TRUE, _xlpm.urls) )} | W4: {=_xlfn.LET( _xlpm.yr, TEXT(TODAY(), "yyyy"), _xlpm.mn, TEXT(TODAY(), "mm"), _xlpm.path, "https://richlook.co.in/wp-content/uploads/" & _xlpm.yr & "/" & _xlpm.mn & "/", _xlpm.imgRange, 'work here'!O3:X3, _xlpm.imgLinks, IF(_xlpm.imgRange<>"", _xlpm.path & _xlpm.imgRange & ".webp", ""), _xlpm.urls, IF(A4="variable", "", IF(A4="variation", _xlpm.imgLinks, IF(A4="simple", "", ""))), _xlfn.TEXTJOIN(", ", TRUE, _xlpm.urls) )} | X4: =IF('work here'!D3<>"", 'work here'!D3, "") | Y4: =IF('work here'!#REF!<>"","color","") -> #REF! | Z4: =IF('work here'!#REF!<>"",'work here'!#REF!,"") -> #REF! | AA4: =IF(AND(OR(A4="simple", A4="variable"), Y4="color"), 1, "") -> #REF! | AB4: =IF(AND( Y4="color"), 1, "") -> #REF! | AC4: =IF(A4="variable", Z5, "") | AD4: =IF('work here'!#REF!<>"",'work here'!#REF!,"") -> #REF! | AE4: =IF('work here'!#REF!<>"",'work here'!#REF!,"") -> #REF! | AF4: =IF(AD4<>"", 1, "") -> #REF! | AG4: =IF(AD4<>"", 1, "") -> #REF! | AH4: =IF(A4="variable", AE5, "") | AI4: =IF('work here'!AE3<>"","Jewellery Work","") | AJ4: =IF('work here'!AE3<>"",'work here'!AE3,"") | AK4: =IF(AND(OR(A4="simple", A4="variable"), AI4="Jewellery Work"), 1, "") | AL4: =IF(AND(OR(A4="simple", A4="variable"), AI4="Jewellery Work"), 1, "") | AM4: =IF('work here'!#REF!<>"","Gemstone","") -> #REF! | AN4: =IF('work here'!#REF!<>"",'work here'!#REF!,"") -> #REF! | AO4: =IF(AND(OR(A4="simple", A4="variable"), AM4="Gemstone"), 1, "") -> #REF! | AP4: =IF(AND(OR(A4="simple", A4="variable"), AM4="Gemstone"), 1, "") -> #REF! | AQ4: =IF('work here'!AW3<>"","Plating","") | AR4: =IF('work here'!AW3<>"",'work here'!AW3,"") | AS4: =IF(AND(OR(A4="simple", A4="variable"), AQ4="Plating"), 1, "") | AT4: =IF(AND(OR(A4="simple", A4="variable"), AQ4="Plating"), 1, "") | AU4: =IF('work here'!AX3<>"","Material","") | AV4: =IF('work here'!AX3<>"",'work here'!AX3,"") | AW4: =IF(AND(OR(A4="simple", A4="variable"), AU4="Material"), 1, "") | AX4: =IF(AND(OR(A4="simple", A4="variable"), AU4="Material"), 1, "") | AY4: =IF('work here'!#REF!<>"","Look","") -> #REF! | AZ4: =IF('work here'!#REF!<>"",'work here'!#REF!,"") -> #REF! | BA4: =IF(AND(OR(A4="simple", A4="variable"), AY4="Look"), 1, "") -> #REF! | BB4: =IF(AND(OR(A4="simple", A4="variable"), AY4="Look"), 1, "") -> #REF! | BC4: =IF('work here'!#REF!<>"","Finish","") -> #REF! | BD4: =IF('work here'!#REF!<>"",'work here'!#REF!,"") -> #REF! | BE4: =IF(AND(OR(A4="simple", A4="variable"), BC4="Finish"), 1, "") -> #REF! | BF4: =IF(AND(OR(A4="simple", A4="variable"), BC4="Finish"), 1, "") -> #REF! | BG4: =IF('work here'!#REF!<>"","Care","") -> #REF! | BH4: =IF('work here'!#REF!<>"",'work here'!#REF!,"") -> #REF! | BI4: =IF(AND(OR(A4="simple", A4="variable"), BG4="Care"), 1, "") -> #REF! | BJ4: =IF(AND(OR(A4="simple", A4="variable"), BG4="Care"), 1, "") -> #REF! | BK4: =IF(OR('work here'!F3="Rings", 'work here'!F3="Bangles"), 'work here'!F3 & " Size", "") | BL4: =IF('work here'!#REF!<>"",'work here'!#REF!,"") -> #REF! | BM4: =IF(AND(OR(A4="simple", A4="variable"), OR(BK4="Rings Size", BK4="Bangles Size")), 1, "") | BN4: =IF(AND(OR(A4="simple", A4="variable"), OR(BK4="Rings Size", BK4="Bangles Size")), 1, "") | BO4: =IF(A4="variable", BL5, "")
A5: =IF('work here'!A4="simple","simple",IF('work here'!A4="parent","variable",IF('work here'!A4="child","variation",""))) | B5: =IF('work here'!C4<>"", 'work here'!C4, "") | C5: =IF('work here'!B4<>"", 'work here'!B4, "") | D5: =IF(A5<>"",1,"") | E5: =IF(A5<>"",0,"") | F5: =IF(A5<>"","visible","") | G5: =IF('work here'!#REF!<>"", 'work here'!#REF!, "") -> #REF! | I5: =IF('work here'!Z4<>"", 'work here'!Z4, "") | J5: =IF(A5<>"",2,"") | K5: =IF(A5<>"",0,"") | L5: =IF(A5<>"",0,"") | M5: =IF('work here'!AA4<>"", 'work here'!AA4, "") | N5: =IF('work here'!AD4<>"", 'work here'!AD4, "") | O5: =IF('work here'!AC4<>"", 'work here'!AC4, "") | P5: =IF('work here'!AB4<>"", 'work here'!AB4, "") | Q5: =IF(A5<>"",1,"") | S5: =IF('work here'!E4<>"", 'work here'!E4, "") | T5: =IF('work here'!#REF!<>"", 'work here'!#REF!, "") -> #REF! | U5: =IF(A5="", "", _xlfn.TEXTJOIN(", ", TRUE, "jewellery", "jewellery > " & 'work here'!F4, "jewellery > " & 'work here'!F4 & " > " & 'work here'!#REF!, 'work here'!#REF!, 'work here'!AY4, 'work here'!H4, 'work here'!I4, 'work here'!J4)) | V5: {=_xlfn.LET( _xlpm.yr, TEXT(TODAY(), "yyyy"), _xlpm.mn, TEXT(TODAY(), "mm"), _xlpm.path, "https://richlook.co.in/wp-content/uploads/" & _xlpm.yr & "/" & _xlpm.mn & "/", _xlpm.imgRange, 'work here'!N4:X4, _xlpm.imgLinks, IF(_xlpm.imgRange<>"", _xlpm.path & _xlpm.imgRange & ".webp", ""), _xlpm.urls, IF(A5="variable", _xlpm.imgLinks, IF(A5="variation", IF('work here'!N4<>"", _xlpm.path & 'work here'!N4 & ".webp", ""), IF(A5="simple", _xlpm.imgLinks, ""))), _xlfn.TEXTJOIN(", ", TRUE, _xlpm.urls) )} | W5: {=_xlfn.LET( _xlpm.yr, TEXT(TODAY(), "yyyy"), _xlpm.mn, TEXT(TODAY(), "mm"), _xlpm.path, "https://richlook.co.in/wp-content/uploads/" & _xlpm.yr & "/" & _xlpm.mn & "/", _xlpm.imgRange, 'work here'!O4:X4, _xlpm.imgLinks, IF(_xlpm.imgRange<>"", _xlpm.path & _xlpm.imgRange & ".webp", ""), _xlpm.urls, IF(A5="variable", "", IF(A5="variation", _xlpm.imgLinks, IF(A5="simple", "", ""))), _xlfn.TEXTJOIN(", ", TRUE, _xlpm.urls) )} | X5: =IF('work here'!D4<>"", 'work here'!D4, "") | Y5: =IF('work here'!#REF!<>"","color","") -> #REF! | Z5: =IF('work here'!#REF!<>"",'work here'!#REF!,"") -> #REF! | AA5: =IF(AND(OR(A5="simple", A5="variable"), Y5="color"), 1, "") -> #REF! | AB5: =IF(AND( Y5="color"), 1, "") -> #REF! | AC5: =IF(A5="variable", Z6, "") | AD5: =IF('work here'!#REF!<>"",'work here'!#REF!,"") -> #REF! | AE5: =IF('work here'!#REF!<>"",'work here'!#REF!,"") -> #REF! | AF5: =IF(AD5<>"", 1, "") -> #REF! | AG5: =IF(AD5<>"", 1, "") -> #REF! | AH5: =IF(A5="variable", AE6, "") | AI5: =IF('work here'!AE4<>"","Jewellery Work","") | AJ5: =IF('work here'!AE4<>"",'work here'!AE4,"") | AK5: =IF(AND(OR(A5="simple", A5="variable"), AI5="Jewellery Work"), 1, "") | AL5: =IF(AND(OR(A5="simple", A5="variable"), AI5="Jewellery Work"), 1, "") | AM5: =IF('work here'!#REF!<>"","Gemstone","") -> #REF! | AN5: =IF('work here'!#REF!<>"",'work here'!#REF!,"") -> #REF! | AO5: =IF(AND(OR(A5="simple", A5="variable"), AM5="Gemstone"), 1, "") -> #REF! | AP5: =IF(AND(OR(A5="simple", A5="variable"), AM5="Gemstone"), 1, "") -> #REF! | AQ5: =IF('work here'!AW4<>"","Plating","") | AR5: =IF('work here'!AW4<>"",'work here'!AW4,"") | AS5: =IF(AND(OR(A5="simple", A5="variable"), AQ5="Plating"), 1, "") | AT5: =IF(AND(OR(A5="simple", A5="variable"), AQ5="Plating"), 1, "") | AU5: =IF('work here'!AX4<>"","Material","") | AV5: =IF('work here'!AX4<>"",'work here'!AX4,"") | AW5: =IF(AND(OR(A5="simple", A5="variable"), AU5="Material"), 1, "") | AX5: =IF(AND(OR(A5="simple", A5="variable"), AU5="Material"), 1, "") | AY5: =IF('work here'!#REF!<>"","Look","") -> #REF! | AZ5: =IF('work here'!#REF!<>"",'work here'!#REF!,"") -> #REF! | BA5: =IF(AND(OR(A5="simple", A5="variable"), AY5="Look"), 1, "") -> #REF! | BB5: =IF(AND(OR(A5="simple", A5="variable"), AY5="Look"), 1, "") -> #REF! | BC5: =IF('work here'!#REF!<>"","Finish","") -> #REF! | BD5: =IF('work here'!#REF!<>"",'work here'!#REF!,"") -> #REF! | BE5: =IF(AND(OR(A5="simple", A5="variable"), BC5="Finish"), 1, "") -> #REF! | BF5: =IF(AND(OR(A5="simple", A5="variable"), BC5="Finish"), 1, "") -> #REF! | BG5: =IF('work here'!#REF!<>"","Care","") -> #REF! | BH5: =IF('work here'!#REF!<>"",'work here'!#REF!,"") -> #REF! | BI5: =IF(AND(OR(A5="simple", A5="variable"), BG5="Care"), 1, "") -> #REF! | BJ5: =IF(AND(OR(A5="simple", A5="variable"), BG5="Care"), 1, "") -> #REF! | BK5: =IF(OR('work here'!F4="Rings", 'work here'!F4="Bangles"), 'work here'!F4 & " Size", "") | BL5: =IF('work here'!#REF!<>"",'work here'!#REF!,"") -> #REF! | BM5: =IF(AND(OR(A5="simple", A5="variable"), OR(BK5="Rings Size", BK5="Bangles Size")), 1, "") | BN5: =IF(AND(OR(A5="simple", A5="variable"), OR(BK5="Rings Size", BK5="Bangles Size")), 1, "") | BO5: =IF(A5="variable", BL6, "")
A6: =IF('work here'!A5="simple","simple",IF('work here'!A5="parent","variable",IF('work here'!A5="child","variation",""))) | B6: =IF('work here'!C5<>"", 'work here'!C5, "") | C6: =IF('work here'!B5<>"", 'work here'!B5, "") | D6: =IF(A6<>"",1,"") | E6: =IF(A6<>"",0,"") | F6: =IF(A6<>"","visible","") | G6: =IF('work here'!#REF!<>"", 'work here'!#REF!, "") -> #REF! | I6: =IF('work here'!Z5<>"", 'work here'!Z5, "") | J6: =IF(A6<>"",2,"") | K6: =IF(A6<>"",0,"") | L6: =IF(A6<>"",0,"") | M6: =IF('work here'!AA5<>"", 'work here'!AA5, "") | N6: =IF('work here'!AD5<>"", 'work here'!AD5, "") | O6: =IF('work here'!AC5<>"", 'work here'!AC5, "") | P6: =IF('work here'!AB5<>"", 'work here'!AB5, "") | Q6: =IF(A6<>"",1,"") | S6: =IF('work here'!E5<>"", 'work here'!E5, "") | T6: =IF('work here'!#REF!<>"", 'work here'!#REF!, "") -> #REF! | U6: =IF(A6="", "", _xlfn.TEXTJOIN(", ", TRUE, "jewellery", "jewellery > " & 'work here'!F5, "jewellery > " & 'work here'!F5 & " > " & 'work here'!#REF!, 'work here'!#REF!, 'work here'!AY5, 'work here'!H5, 'work here'!I5, 'work here'!J5)) | V6: {=_xlfn.LET( _xlpm.yr, TEXT(TODAY(), "yyyy"), _xlpm.mn, TEXT(TODAY(), "mm"), _xlpm.path, "https://richlook.co.in/wp-content/uploads/" & _xlpm.yr & "/" & _xlpm.mn & "/", _xlpm.imgRange, 'work here'!N5:X5, _xlpm.imgLinks, IF(_xlpm.imgRange<>"", _xlpm.path & _xlpm.imgRange & ".webp", ""), _xlpm.urls, IF(A6="variable", _xlpm.imgLinks, IF(A6="variation", IF('work here'!N5<>"", _xlpm.path & 'work here'!N5 & ".webp", ""), IF(A6="simple", _xlpm.imgLinks, ""))), _xlfn.TEXTJOIN(", ", TRUE, _xlpm.urls) )} | W6: {=_xlfn.LET( _xlpm.yr, TEXT(TODAY(), "yyyy"), _xlpm.mn, TEXT(TODAY(), "mm"), _xlpm.path, "https://richlook.co.in/wp-content/uploads/" & _xlpm.yr & "/" & _xlpm.mn & "/", _xlpm.imgRange, 'work here'!O5:X5, _xlpm.imgLinks, IF(_xlpm.imgRange<>"", _xlpm.path & _xlpm.imgRange & ".webp", ""), _xlpm.urls, IF(A6="variable", "", IF(A6="variation", _xlpm.imgLinks, IF(A6="simple", "", ""))), _xlfn.TEXTJOIN(", ", TRUE, _xlpm.urls) )} | X6: =IF('work here'!D5<>"", 'work here'!D5, "") | Y6: =IF('work here'!#REF!<>"","color","") -> #REF! | Z6: =IF('work here'!#REF!<>"",'work here'!#REF!,"") -> #REF! | AA6: =IF(AND(OR(A6="simple", A6="variable"), Y6="color"), 1, "") -> #REF! | AB6: =IF(AND( Y6="color"), 1, "") -> #REF! | AC6: =IF(A6="variable", Z7, "") | AD6: =IF('work here'!#REF!<>"",'work here'!#REF!,"") -> #REF! | AE6: =IF('work here'!#REF!<>"",'work here'!#REF!,"") -> #REF! | AF6: =IF(AD6<>"", 1, "") -> #REF! | AG6: =IF(AD6<>"", 1, "") -> #REF! | AH6: =IF(A6="variable", AE7, "") | AI6: =IF('work here'!AE5<>"","Jewellery Work","") | AJ6: =IF('work here'!AE5<>"",'work here'!AE5,"") | AK6: =IF(AND(OR(A6="simple", A6="variable"), AI6="Jewellery Work"), 1, "") | AL6: =IF(AND(OR(A6="simple", A6="variable"), AI6="Jewellery Work"), 1, "") | AM6: =IF('work here'!#REF!<>"","Gemstone","") -> #REF! | AN6: =IF('work here'!#REF!<>"",'work here'!#REF!,"") -> #REF! | AO6: =IF(AND(OR(A6="simple", A6="variable"), AM6="Gemstone"), 1, "") -> #REF! | AP6: =IF(AND(OR(A6="simple", A6="variable"), AM6="Gemstone"), 1, "") -> #REF! | AQ6: =IF('work here'!AW5<>"","Plating","") | AR6: =IF('work here'!AW5<>"",'work here'!AW5,"") | AS6: =IF(AND(OR(A6="simple", A6="variable"), AQ6="Plating"), 1, "") | AT6: =IF(AND(OR(A6="simple", A6="variable"), AQ6="Plating"), 1, "") | AU6: =IF('work here'!AX5<>"","Material","") | AV6: =IF('work here'!AX5<>"",'work here'!AX5,"") | AW6: =IF(AND(OR(A6="simple", A6="variable"), AU6="Material"), 1, "") | AX6: =IF(AND(OR(A6="simple", A6="variable"), AU6="Material"), 1, "") | AY6: =IF('work here'!#REF!<>"","Look","") -> #REF! | AZ6: =IF('work here'!#REF!<>"",'work here'!#REF!,"") -> #REF! | BA6: =IF(AND(OR(A6="simple", A6="variable"), AY6="Look"), 1, "") -> #REF! | BB6: =IF(AND(OR(A6="simple", A6="variable"), AY6="Look"), 1, "") -> #REF! | BC6: =IF('work here'!#REF!<>"","Finish","") -> #REF! | BD6: =IF('work here'!#REF!<>"",'work here'!#REF!,"") -> #REF! | BE6: =IF(AND(OR(A6="simple", A6="variable"), BC6="Finish"), 1, "") -> #REF! | BF6: =IF(AND(OR(A6="simple", A6="variable"), BC6="Finish"), 1, "") -> #REF! | BG6: =IF('work here'!#REF!<>"","Care","") -> #REF! | BH6: =IF('work here'!#REF!<>"",'work here'!#REF!,"") -> #REF! | BI6: =IF(AND(OR(A6="simple", A6="variable"), BG6="Care"), 1, "") -> #REF! | BJ6: =IF(AND(OR(A6="simple", A6="variable"), BG6="Care"), 1, "") -> #REF! | BK6: =IF(OR('work here'!F5="Rings", 'work here'!F5="Bangles"), 'work here'!F5 & " Size", "") | BL6: =IF('work here'!#REF!<>"",'work here'!#REF!,"") -> #REF! | BM6: =IF(AND(OR(A6="simple", A6="variable"), OR(BK6="Rings Size", BK6="Bangles Size")), 1, "") | BN6: =IF(AND(OR(A6="simple", A6="variable"), OR(BK6="Rings Size", BK6="Bangles Size")), 1, "") | BO6: =IF(A6="variable", BL7, "")
A7: =IF('work here'!A6="simple","simple",IF('work here'!A6="parent","variable",IF('work here'!A6="child","variation",""))) | B7: =IF('work here'!C6<>"", 'work here'!C6, "") | C7: =IF('work here'!B6<>"", 'work here'!B6, "") | D7: =IF(A7<>"",1,"") | E7: =IF(A7<>"",0,"") | F7: =IF(A7<>"","visible","") | G7: =IF('work here'!#REF!<>"", 'work here'!#REF!, "") -> #REF! | I7: =IF('work here'!Z6<>"", 'work here'!Z6, "") | J7: =IF(A7<>"",2,"") | K7: =IF(A7<>"",0,"") | L7: =IF(A7<>"",0,"") | M7: =IF('work here'!AA6<>"", 'work here'!AA6, "") | N7: =IF('work here'!AD6<>"", 'work here'!AD6, "") | O7: =IF('work here'!AC6<>"", 'work here'!AC6, "") | P7: =IF('work here'!AB6<>"", 'work here'!AB6, "") | Q7: =IF(A7<>"",1,"") | S7: =IF('work here'!E6<>"", 'work here'!E6, "") | T7: =IF('work here'!#REF!<>"", 'work here'!#REF!, "") -> #REF! | U7: =IF(A7="", "", _xlfn.TEXTJOIN(", ", TRUE, "jewellery", "jewellery > " & 'work here'!F6, "jewellery > " & 'work here'!F6 & " > " & 'work here'!#REF!, 'work here'!#REF!, 'work here'!AY6, 'work here'!H6, 'work here'!I6, 'work here'!J6)) | V7: {=_xlfn.LET( _xlpm.yr, TEXT(TODAY(), "yyyy"), _xlpm.mn, TEXT(TODAY(), "mm"), _xlpm.path, "https://richlook.co.in/wp-content/uploads/" & _xlpm.yr & "/" & _xlpm.mn & "/", _xlpm.imgRange, 'work here'!N6:X6, _xlpm.imgLinks, IF(_xlpm.imgRange<>"", _xlpm.path & _xlpm.imgRange & ".webp", ""), _xlpm.urls, IF(A7="variable", _xlpm.imgLinks, IF(A7="variation", IF('work here'!N6<>"", _xlpm.path & 'work here'!N6 & ".webp", ""), IF(A7="simple", _xlpm.imgLinks, ""))), _xlfn.TEXTJOIN(", ", TRUE, _xlpm.urls) )} | W7: {=_xlfn.LET( _xlpm.yr, TEXT(TODAY(), "yyyy"), _xlpm.mn, TEXT(TODAY(), "mm"), _xlpm.path, "https://richlook.co.in/wp-content/uploads/" & _xlpm.yr & "/" & _xlpm.mn & "/", _xlpm.imgRange, 'work here'!O6:X6, _xlpm.imgLinks, IF(_xlpm.imgRange<>"", _xlpm.path & _xlpm.imgRange & ".webp", ""), _xlpm.urls, IF(A7="variable", "", IF(A7="variation", _xlpm.imgLinks, IF(A7="simple", "", ""))), _xlfn.TEXTJOIN(", ", TRUE, _xlpm.urls) )} | X7: =IF('work here'!D6<>"", 'work here'!D6, "") | Y7: =IF('work here'!#REF!<>"","color","") -> #REF! | Z7: =IF('work here'!#REF!<>"",'work here'!#REF!,"") -> #REF! | AA7: =IF(AND(OR(A7="simple", A7="variable"), Y7="color"), 1, "") -> #REF! | AB7: =IF(AND( Y7="color"), 1, "") -> #REF! | AC7: =IF(A7="variable", Z8, "") | AD7: =IF('work here'!#REF!<>"",'work here'!#REF!,"") -> #REF! | AE7: =IF('work here'!#REF!<>"",'work here'!#REF!,"") -> #REF! | AF7: =IF(AD7<>"", 1, "") -> #REF! | AG7: =IF(AD7<>"", 1, "") -> #REF! | AH7: =IF(A7="variable", AE8, "") | AI7: =IF('work here'!AE6<>"","Jewellery Work","") | AJ7: =IF('work here'!AE6<>"",'work here'!AE6,"") | AK7: =IF(AND(OR(A7="simple", A7="variable"), AI7="Jewellery Work"), 1, "") | AL7: =IF(AND(OR(A7="simple", A7="variable"), AI7="Jewellery Work"), 1, "") | AM7: =IF('work here'!#REF!<>"","Gemstone","") -> #REF! | AN7: =IF('work here'!#REF!<>"",'work here'!#REF!,"") -> #REF! | AO7: =IF(AND(OR(A7="simple", A7="variable"), AM7="Gemstone"), 1, "") -> #REF! | AP7: =IF(AND(OR(A7="simple", A7="variable"), AM7="Gemstone"), 1, "") -> #REF! | AQ7: =IF('work here'!AW6<>"","Plating","") | AR7: =IF('work here'!AW6<>"",'work here'!AW6,"") | AS7: =IF(AND(OR(A7="simple", A7="variable"), AQ7="Plating"), 1, "") | AT7: =IF(AND(OR(A7="simple", A7="variable"), AQ7="Plating"), 1, "") | AU7: =IF('work here'!AX6<>"","Material","") | AV7: =IF('work here'!AX6<>"",'work here'!AX6,"") | AW7: =IF(AND(OR(A7="simple", A7="variable"), AU7="Material"), 1, "") | AX7: =IF(AND(OR(A7="simple", A7="variable"), AU7="Material"), 1, "") | AY7: =IF('work here'!#REF!<>"","Look","") -> #REF! | AZ7: =IF('work here'!#REF!<>"",'work here'!#REF!,"") -> #REF! | BA7: =IF(AND(OR(A7="simple", A7="variable"), AY7="Look"), 1, "") -> #REF! | BB7: =IF(AND(OR(A7="simple", A7="variable"), AY7="Look"), 1, "") -> #REF! | BC7: =IF('work here'!#REF!<>"","Finish","") -> #REF! | BD7: =IF('work here'!#REF!<>"",'work here'!#REF!,"") -> #REF! | BE7: =IF(AND(OR(A7="simple", A7="variable"), BC7="Finish"), 1, "") -> #REF! | BF7: =IF(AND(OR(A7="simple", A7="variable"), BC7="Finish"), 1, "") -> #REF! | BG7: =IF('work here'!#REF!<>"","Care","") -> #REF! | BH7: =IF('work here'!#REF!<>"",'work here'!#REF!,"") -> #REF! | BI7: =IF(AND(OR(A7="simple", A7="variable"), BG7="Care"), 1, "") -> #REF! | BJ7: =IF(AND(OR(A7="simple", A7="variable"), BG7="Care"), 1, "") -> #REF! | BK7: =IF(OR('work here'!F6="Rings", 'work here'!F6="Bangles"), 'work here'!F6 & " Size", "") | BL7: =IF('work here'!#REF!<>"",'work here'!#REF!,"") -> #REF! | BM7: =IF(AND(OR(A7="simple", A7="variable"), OR(BK7="Rings Size", BK7="Bangles Size")), 1, "") | BN7: =IF(AND(OR(A7="simple", A7="variable"), OR(BK7="Rings Size", BK7="Bangles Size")), 1, "") | BO7: =IF(A7="variable", BL8, "")
A8: =IF('work here'!A7="simple","simple",IF('work here'!A7="parent","variable",IF('work here'!A7="child","variation",""))) | B8: =IF('work here'!C7<>"", 'work here'!C7, "") | C8: =IF('work here'!B7<>"", 'work here'!B7, "") | D8: =IF(A8<>"",1,"") | E8: =IF(A8<>"",0,"") | F8: =IF(A8<>"","visible","") | G8: =IF('work here'!#REF!<>"", 'work here'!#REF!, "") -> #REF! | I8: =IF('work here'!Z7<>"", 'work here'!Z7, "") | J8: =IF(A8<>"",2,"") | K8: =IF(A8<>"",0,"") | L8: =IF(A8<>"",0,"") | M8: =IF('work here'!AA7<>"", 'work here'!AA7, "") | N8: =IF('work here'!AD7<>"", 'work here'!AD7, "") | O8: =IF('work here'!AC7<>"", 'work here'!AC7, "") | P8: =IF('work here'!AB7<>"", 'work here'!AB7, "") | Q8: =IF(A8<>"",1,"") | S8: =IF('work here'!E7<>"", 'work here'!E7, "") | T8: =IF('work here'!#REF!<>"", 'work here'!#REF!, "") -> #REF! | U8: =IF(A8="", "", _xlfn.TEXTJOIN(", ", TRUE, "jewellery", "jewellery > " & 'work here'!F7, "jewellery > " & 'work here'!F7 & " > " & 'work here'!#REF!, 'work here'!#REF!, 'work here'!AY7, 'work here'!H7, 'work here'!I7, 'work here'!J7)) | V8: {=_xlfn.LET( _xlpm.yr, TEXT(TODAY(), "yyyy"), _xlpm.mn, TEXT(TODAY(), "mm"), _xlpm.path, "https://richlook.co.in/wp-content/uploads/" & _xlpm.yr & "/" & _xlpm.mn & "/", _xlpm.imgRange, 'work here'!N7:X7, _xlpm.imgLinks, IF(_xlpm.imgRange<>"", _xlpm.path & _xlpm.imgRange & ".webp", ""), _xlpm.urls, IF(A8="variable", _xlpm.imgLinks, IF(A8="variation", IF('work here'!N7<>"", _xlpm.path & 'work here'!N7 & ".webp", ""), IF(A8="simple", _xlpm.imgLinks, ""))), _xlfn.TEXTJOIN(", ", TRUE, _xlpm.urls) )} | W8: {=_xlfn.LET( _xlpm.yr, TEXT(TODAY(), "yyyy"), _xlpm.mn, TEXT(TODAY(), "mm"), _xlpm.path, "https://richlook.co.in/wp-content/uploads/" & _xlpm.yr & "/" & _xlpm.mn & "/", _xlpm.imgRange, 'work here'!O7:X7, _xlpm.imgLinks, IF(_xlpm.imgRange<>"", _xlpm.path & _xlpm.imgRange & ".webp", ""), _xlpm.urls, IF(A8="variable", "", IF(A8="variation", _xlpm.imgLinks, IF(A8="simple", "", ""))), _xlfn.TEXTJOIN(", ", TRUE, _xlpm.urls) )} | X8: =IF('work here'!D7<>"", 'work here'!D7, "") | Y8: =IF('work here'!#REF!<>"","color","") -> #REF! | Z8: =IF('work here'!#REF!<>"",'work here'!#REF!,"") -> #REF! | AA8: =IF(AND(OR(A8="simple", A8="variable"), Y8="color"), 1, "") -> #REF! | AB8: =IF(AND( Y8="color"), 1, "") -> #REF! | AC8: =IF(A8="variable", Z9, "") | AD8: =IF('work here'!#REF!<>"",'work here'!#REF!,"") -> #REF! | AE8: =IF('work here'!#REF!<>"",'work here'!#REF!,"") -> #REF! | AF8: =IF(AD8<>"", 1, "") -> #REF! | AG8: =IF(AD8<>"", 1, "") -> #REF! | AH8: =IF(A8="variable", AE9, "") | AI8: =IF('work here'!AE7<>"","Jewellery Work","") | AJ8: =IF('work here'!AE7<>"",'work here'!AE7,"") | AK8: =IF(AND(OR(A8="simple", A8="variable"), AI8="Jewellery Work"), 1, "") | AL8: =IF(AND(OR(A8="simple", A8="variable"), AI8="Jewellery Work"), 1, "") | AM8: =IF('work here'!#REF!<>"","Gemstone","") -> #REF! | AN8: =IF('work here'!#REF!<>"",'work here'!#REF!,"") -> #REF! | AO8: =IF(AND(OR(A8="simple", A8="variable"), AM8="Gemstone"), 1, "") -> #REF! | AP8: =IF(AND(OR(A8="simple", A8="variable"), AM8="Gemstone"), 1, "") -> #REF! | AQ8: =IF('work here'!AW7<>"","Plating","") | AR8: =IF('work here'!AW7<>"",'work here'!AW7,"") | AS8: =IF(AND(OR(A8="simple", A8="variable"), AQ8="Plating"), 1, "") | AT8: =IF(AND(OR(A8="simple", A8="variable"), AQ8="Plating"), 1, "") | AU8: =IF('work here'!AX7<>"","Material","") | AV8: =IF('work here'!AX7<>"",'work here'!AX7,"") | AW8: =IF(AND(OR(A8="simple", A8="variable"), AU8="Material"), 1, "") | AX8: =IF(AND(OR(A8="simple", A8="variable"), AU8="Material"), 1, "") | AY8: =IF('work here'!#REF!<>"","Look","") -> #REF! | AZ8: =IF('work here'!#REF!<>"",'work here'!#REF!,"") -> #REF! | BA8: =IF(AND(OR(A8="simple", A8="variable"), AY8="Look"), 1, "") -> #REF! | BB8: =IF(AND(OR(A8="simple", A8="variable"), AY8="Look"), 1, "") -> #REF! | BC8: =IF('work here'!#REF!<>"","Finish","") -> #REF! | BD8: =IF('work here'!#REF!<>"",'work here'!#REF!,"") -> #REF! | BE8: =IF(AND(OR(A8="simple", A8="variable"), BC8="Finish"), 1, "") -> #REF! | BF8: =IF(AND(OR(A8="simple", A8="variable"), BC8="Finish"), 1, "") -> #REF! | BG8: =IF('work here'!#REF!<>"","Care","") -> #REF! | BH8: =IF('work here'!#REF!<>"",'work here'!#REF!,"") -> #REF! | BI8: =IF(AND(OR(A8="simple", A8="variable"), BG8="Care"), 1, "") -> #REF! | BJ8: =IF(AND(OR(A8="simple", A8="variable"), BG8="Care"), 1, "") -> #REF! | BK8: =IF(OR('work here'!F7="Rings", 'work here'!F7="Bangles"), 'work here'!F7 & " Size", "") | BL8: =IF('work here'!#REF!<>"",'work here'!#REF!,"") -> #REF! | BM8: =IF(AND(OR(A8="simple", A8="variable"), OR(BK8="Rings Size", BK8="Bangles Size")), 1, "") | BN8: =IF(AND(OR(A8="simple", A8="variable"), OR(BK8="Rings Size", BK8="Bangles Size")), 1, "") | BO8: =IF(A8="variable", BL9, "")
A9: =IF('work here'!A8="simple","simple",IF('work here'!A8="parent","variable",IF('work here'!A8="child","variation",""))) | B9: =IF('work here'!C8<>"", 'work here'!C8, "") | C9: =IF('work here'!B8<>"", 'work here'!B8, "") | D9: =IF(A9<>"",1,"") | E9: =IF(A9<>"",0,"") | F9: =IF(A9<>"","visible","") | G9: =IF('work here'!#REF!<>"", 'work here'!#REF!, "") -> #REF! | I9: =IF('work here'!Z8<>"", 'work here'!Z8, "") | J9: =IF(A9<>"",2,"") | K9: =IF(A9<>"",0,"") | L9: =IF(A9<>"",0,"") | M9: =IF('work here'!AA8<>"", 'work here'!AA8, "") | N9: =IF('work here'!AD8<>"", 'work here'!AD8, "") | O9: =IF('work here'!AC8<>"", 'work here'!AC8, "") | P9: =IF('work here'!AB8<>"", 'work here'!AB8, "") | Q9: =IF(A9<>"",1,"") | S9: =IF('work here'!E8<>"", 'work here'!E8, "") | T9: =IF('work here'!#REF!<>"", 'work here'!#REF!, "") -> #REF! | U9: =IF(A9="", "", _xlfn.TEXTJOIN(", ", TRUE, "jewellery", "jewellery > " & 'work here'!F8, "jewellery > " & 'work here'!F8 & " > " & 'work here'!#REF!, 'work here'!#REF!, 'work here'!AY8, 'work here'!H8, 'work here'!I8, 'work here'!J8)) | V9: {=_xlfn.LET( _xlpm.yr, TEXT(TODAY(), "yyyy"), _xlpm.mn, TEXT(TODAY(), "mm"), _xlpm.path, "https://richlook.co.in/wp-content/uploads/" & _xlpm.yr & "/" & _xlpm.mn & "/", _xlpm.imgRange, 'work here'!N8:X8, _xlpm.imgLinks, IF(_xlpm.imgRange<>"", _xlpm.path & _xlpm.imgRange & ".webp", ""), _xlpm.urls, IF(A9="variable", _xlpm.imgLinks, IF(A9="variation", IF('work here'!N8<>"", _xlpm.path & 'work here'!N8 & ".webp", ""), IF(A9="simple", _xlpm.imgLinks, ""))), _xlfn.TEXTJOIN(", ", TRUE, _xlpm.urls) )} | W9: {=_xlfn.LET( _xlpm.yr, TEXT(TODAY(), "yyyy"), _xlpm.mn, TEXT(TODAY(), "mm"), _xlpm.path, "https://richlook.co.in/wp-content/uploads/" & _xlpm.yr & "/" & _xlpm.mn & "/", _xlpm.imgRange, 'work here'!O8:X8, _xlpm.imgLinks, IF(_xlpm.imgRange<>"", _xlpm.path & _xlpm.imgRange & ".webp", ""), _xlpm.urls, IF(A9="variable", "", IF(A9="variation", _xlpm.imgLinks, IF(A9="simple", "", ""))), _xlfn.TEXTJOIN(", ", TRUE, _xlpm.urls) )} | X9: =IF('work here'!D8<>"", 'work here'!D8, "") | Y9: =IF('work here'!#REF!<>"","color","") -> #REF! | Z9: =IF('work here'!#REF!<>"",'work here'!#REF!,"") -> #REF! | AA9: =IF(AND(OR(A9="simple", A9="variable"), Y9="color"), 1, "") -> #REF! | AB9: =IF(AND( Y9="color"), 1, "") -> #REF! | AC9: =IF(A9="variable", Z10, "") | AD9: =IF('work here'!#REF!<>"",'work here'!#REF!,"") -> #REF! | AE9: =IF('work here'!#REF!<>"",'work here'!#REF!,"") -> #REF! | AF9: =IF(AD9<>"", 1, "") -> #REF! | AG9: =IF(AD9<>"", 1, "") -> #REF! | AH9: =IF(A9="variable", AE10, "") | AI9: =IF('work here'!AE8<>"","Jewellery Work","") | AJ9: =IF('work here'!AE8<>"",'work here'!AE8,"") | AK9: =IF(AND(OR(A9="simple", A9="variable"), AI9="Jewellery Work"), 1, "") | AL9: =IF(AND(OR(A9="simple", A9="variable"), AI9="Jewellery Work"), 1, "") | AM9: =IF('work here'!#REF!<>"","Gemstone","") -> #REF! | AN9: =IF('work here'!#REF!<>"",'work here'!#REF!,"") -> #REF! | AO9: =IF(AND(OR(A9="simple", A9="variable"), AM9="Gemstone"), 1, "") -> #REF! | AP9: =IF(AND(OR(A9="simple", A9="variable"), AM9="Gemstone"), 1, "") -> #REF! | AQ9: =IF('work here'!AW8<>"","Plating","") | AR9: =IF('work here'!AW8<>"",'work here'!AW8,"") | AS9: =IF(AND(OR(A9="simple", A9="variable"), AQ9="Plating"), 1, "") | AT9: =IF(AND(OR(A9="simple", A9="variable"), AQ9="Plating"), 1, "") | AU9: =IF('work here'!AX8<>"","Material","") | AV9: =IF('work here'!AX8<>"",'work here'!AX8,"") | AW9: =IF(AND(OR(A9="simple", A9="variable"), AU9="Material"), 1, "") | AX9: =IF(AND(OR(A9="simple", A9="variable"), AU9="Material"), 1, "") | AY9: =IF('work here'!#REF!<>"","Look","") -> #REF! | AZ9: =IF('work here'!#REF!<>"",'work here'!#REF!,"") -> #REF! | BA9: =IF(AND(OR(A9="simple", A9="variable"), AY9="Look"), 1, "") -> #REF! | BB9: =IF(AND(OR(A9="simple", A9="variable"), AY9="Look"), 1, "") -> #REF! | BC9: =IF('work here'!#REF!<>"","Finish","") -> #REF! | BD9: =IF('work here'!#REF!<>"",'work here'!#REF!,"") -> #REF! | BE9: =IF(AND(OR(A9="simple", A9="variable"), BC9="Finish"), 1, "") -> #REF! | BF9: =IF(AND(OR(A9="simple", A9="variable"), BC9="Finish"), 1, "") -> #REF! | BG9: =IF('work here'!#REF!<>"","Care","") -> #REF! | BH9: =IF('work here'!#REF!<>"",'work here'!#REF!,"") -> #REF! | BI9: =IF(AND(OR(A9="simple", A9="variable"), BG9="Care"), 1, "") -> #REF! | BJ9: =IF(AND(OR(A9="simple", A9="variable"), BG9="Care"), 1, "") -> #REF! | BK9: =IF(OR('work here'!F8="Rings", 'work here'!F8="Bangles"), 'work here'!F8 & " Size", "") | BL9: =IF('work here'!#REF!<>"",'work here'!#REF!,"") -> #REF! | BM9: =IF(AND(OR(A9="simple", A9="variable"), OR(BK9="Rings Size", BK9="Bangles Size")), 1, "") | BN9: =IF(AND(OR(A9="simple", A9="variable"), OR(BK9="Rings Size", BK9="Bangles Size")), 1, "") | BO9: =IF(A9="variable", BL10, "")
A10: =IF('work here'!A9="simple","simple",IF('work here'!A9="parent","variable",IF('work here'!A9="child","variation",""))) | B10: =IF('work here'!C9<>"", 'work here'!C9, "") | C10: =IF('work here'!B9<>"", 'work here'!B9, "") | D10: =IF(A10<>"",1,"") | E10: =IF(A10<>"",0,"") | F10: =IF(A10<>"","visible","") | G10: =IF('work here'!#REF!<>"", 'work here'!#REF!, "") -> #REF! | I10: =IF('work here'!Z9<>"", 'work here'!Z9, "") | J10: =IF(A10<>"",2,"") | K10: =IF(A10<>"",0,"") | L10: =IF(A10<>"",0,"") | M10: =IF('work here'!AA9<>"", 'work here'!AA9, "") | N10: =IF('work here'!AD9<>"", 'work here'!AD9, "") | O10: =IF('work here'!AC9<>"", 'work here'!AC9, "") | P10: =IF('work here'!AB9<>"", 'work here'!AB9, "") | Q10: =IF(A10<>"",1,"") | S10: =IF('work here'!E9<>"", 'work here'!E9, "") | T10: =IF('work here'!#REF!<>"", 'work here'!#REF!, "") -> #REF! | U10: =IF(A10="", "", _xlfn.TEXTJOIN(", ", TRUE, "jewellery", "jewellery > " & 'work here'!F9, "jewellery > " & 'work here'!F9 & " > " & 'work here'!#REF!, 'work here'!#REF!, 'work here'!AY9, 'work here'!H9, 'work here'!I9, 'work here'!J9)) | V10: {=_xlfn.LET( _xlpm.yr, TEXT(TODAY(), "yyyy"), _xlpm.mn, TEXT(TODAY(), "mm"), _xlpm.path, "https://richlook.co.in/wp-content/uploads/" & _xlpm.yr & "/" & _xlpm.mn & "/", _xlpm.imgRange, 'work here'!N9:X9, _xlpm.imgLinks, IF(_xlpm.imgRange<>"", _xlpm.path & _xlpm.imgRange & ".webp", ""), _xlpm.urls, IF(A10="variable", _xlpm.imgLinks, IF(A10="variation", IF('work here'!N9<>"", _xlpm.path & 'work here'!N9 & ".webp", ""), IF(A10="simple", _xlpm.imgLinks, ""))), _xlfn.TEXTJOIN(", ", TRUE, _xlpm.urls) )} | W10: {=_xlfn.LET( _xlpm.yr, TEXT(TODAY(), "yyyy"), _xlpm.mn, TEXT(TODAY(), "mm"), _xlpm.path, "https://richlook.co.in/wp-content/uploads/" & _xlpm.yr & "/" & _xlpm.mn & "/", _xlpm.imgRange, 'work here'!O9:X9, _xlpm.imgLinks, IF(_xlpm.imgRange<>"", _xlpm.path & _xlpm.imgRange & ".webp", ""), _xlpm.urls, IF(A10="variable", "", IF(A10="variation", _xlpm.imgLinks, IF(A10="simple", "", ""))), _xlfn.TEXTJOIN(", ", TRUE, _xlpm.urls) )} | X10: =IF('work here'!D9<>"", 'work here'!D9, "") | Y10: =IF('work here'!#REF!<>"","color","") -> #REF! | Z10: =IF('work here'!#REF!<>"",'work here'!#REF!,"") -> #REF! | AA10: =IF(AND(OR(A10="simple", A10="variable"), Y10="color"), 1, "") -> #REF! | AB10: =IF(AND( Y10="color"), 1, "") -> #REF! | AC10: =IF(A10="variable", Z11, "") | AD10: =IF('work here'!#REF!<>"",'work here'!#REF!,"") -> #REF! | AE10: =IF('work here'!#REF!<>"",'work here'!#REF!,"") -> #REF! | AF10: =IF(AD10<>"", 1, "") -> #REF! | AG10: =IF(AD10<>"", 1, "") -> #REF! | AH10: =IF(A10="variable", AE11, "") | AI10: =IF('work here'!AE9<>"","Jewellery Work","") | AJ10: =IF('work here'!AE9<>"",'work here'!AE9,"") | AK10: =IF(AND(OR(A10="simple", A10="variable"), AI10="Jewellery Work"), 1, "") | AL10: =IF(AND(OR(A10="simple", A10="variable"), AI10="Jewellery Work"), 1, "") | AM10: =IF('work here'!#REF!<>"","Gemstone","") -> #REF! | AN10: =IF('work here'!#REF!<>"",'work here'!#REF!,"") -> #REF! | AO10: =IF(AND(OR(A10="simple", A10="variable"), AM10="Gemstone"), 1, "") -> #REF! | AP10: =IF(AND(OR(A10="simple", A10="variable"), AM10="Gemstone"), 1, "") -> #REF! | AQ10: =IF('work here'!AW9<>"","Plating","") | AR10: =IF('work here'!AW9<>"",'work here'!AW9,"") | AS10: =IF(AND(OR(A10="simple", A10="variable"), AQ10="Plating"), 1, "") | AT10: =IF(AND(OR(A10="simple", A10="variable"), AQ10="Plating"), 1, "") | AU10: =IF('work here'!AX9<>"","Material","") | AV10: =IF('work here'!AX9<>"",'work here'!AX9,"") | AW10: =IF(AND(OR(A10="simple", A10="variable"), AU10="Material"), 1, "") | AX10: =IF(AND(OR(A10="simple", A10="variable"), AU10="Material"), 1, "") | AY10: =IF('work here'!#REF!<>"","Look","") -> #REF! | AZ10: =IF('work here'!#REF!<>"",'work here'!#REF!,"") -> #REF! | BA10: =IF(AND(OR(A10="simple", A10="variable"), AY10="Look"), 1, "") -> #REF! | BB10: =IF(AND(OR(A10="simple", A10="variable"), AY10="Look"), 1, "") -> #REF! | BC10: =IF('work here'!#REF!<>"","Finish","") -> #REF! | BD10: =IF('work here'!#REF!<>"",'work here'!#REF!,"") -> #REF! | BE10: =IF(AND(OR(A10="simple", A10="variable"), BC10="Finish"), 1, "") -> #REF! | BF10: =IF(AND(OR(A10="simple", A10="variable"), BC10="Finish"), 1, "") -> #REF! | BG10: =IF('work here'!#REF!<>"","Care","") -> #REF! | BH10: =IF('work here'!#REF!<>"",'work here'!#REF!,"") -> #REF! | BI10: =IF(AND(OR(A10="simple", A10="variable"), BG10="Care"), 1, "") -> #REF! | BJ10: =IF(AND(OR(A10="simple", A10="variable"), BG10="Care"), 1, "") -> #REF! | BK10: =IF(OR('work here'!F9="Rings", 'work here'!F9="Bangles"), 'work here'!F9 & " Size", "") | BL10: =IF('work here'!#REF!<>"",'work here'!#REF!,"") -> #REF! | BM10: =IF(AND(OR(A10="simple", A10="variable"), OR(BK10="Rings Size", BK10="Bangles Size")), 1, "") | BN10: =IF(AND(OR(A10="simple", A10="variable"), OR(BK10="Rings Size", BK10="Bangles Size")), 1, "") | BO10: =IF(A10="variable", BL11, "")
A11: =IF('work here'!A10="simple","simple",IF('work here'!A10="parent","variable",IF('work here'!A10="child","variation",""))) | B11: =IF('work here'!C10<>"", 'work here'!C10, "") | C11: =IF('work here'!B10<>"", 'work here'!B10, "") | D11: =IF(A11<>"",1,"") | E11: =IF(A11<>"",0,"") | F11: =IF(A11<>"","visible","") | G11: =IF('work here'!#REF!<>"", 'work here'!#REF!, "") -> #REF! | I11: =IF('work here'!Z10<>"", 'work here'!Z10, "") | J11: =IF(A11<>"",2,"") | K11: =IF(A11<>"",0,"") | L11: =IF(A11<>"",0,"") | M11: =IF('work here'!AA10<>"", 'work here'!AA10, "") | N11: =IF('work here'!AD10<>"", 'work here'!AD10, "") | O11: =IF('work here'!AC10<>"", 'work here'!AC10, "") | P11: =IF('work here'!AB10<>"", 'work here'!AB10, "") | Q11: =IF(A11<>"",1,"") | S11: =IF('work here'!E10<>"", 'work here'!E10, "") | T11: =IF('work here'!#REF!<>"", 'work here'!#REF!, "") -> #REF! | U11: =IF(A11="", "", _xlfn.TEXTJOIN(", ", TRUE, "jewellery", "jewellery > " & 'work here'!F10, "jewellery > " & 'work here'!F10 & " > " & 'work here'!#REF!, 'work here'!#REF!, 'work here'!AY10, 'work here'!H10, 'work here'!I10, 'work here'!J10)) | V11: {=_xlfn.LET( _xlpm.yr, TEXT(TODAY(), "yyyy"), _xlpm.mn, TEXT(TODAY(), "mm"), _xlpm.path, "https://richlook.co.in/wp-content/uploads/" & _xlpm.yr & "/" & _xlpm.mn & "/", _xlpm.imgRange, 'work here'!N10:X10, _xlpm.imgLinks, IF(_xlpm.imgRange<>"", _xlpm.path & _xlpm.imgRange & ".webp", ""), _xlpm.urls, IF(A11="variable", _xlpm.imgLinks, IF(A11="variation", IF('work here'!N10<>"", _xlpm.path & 'work here'!N10 & ".webp", ""), IF(A11="simple", _xlpm.imgLinks, ""))), _xlfn.TEXTJOIN(", ", TRUE, _xlpm.urls) )} | W11: {=_xlfn.LET( _xlpm.yr, TEXT(TODAY(), "yyyy"), _xlpm.mn, TEXT(TODAY(), "mm"), _xlpm.path, "https://richlook.co.in/wp-content/uploads/" & _xlpm.yr & "/" & _xlpm.mn & "/", _xlpm.imgRange, 'work here'!O10:X10, _xlpm.imgLinks, IF(_xlpm.imgRange<>"", _xlpm.path & _xlpm.imgRange & ".webp", ""), _xlpm.urls, IF(A11="variable", "", IF(A11="variation", _xlpm.imgLinks, IF(A11="simple", "", ""))), _xlfn.TEXTJOIN(", ", TRUE, _xlpm.urls) )} | X11: =IF('work here'!D10<>"", 'work here'!D10, "") | Y11: =IF('work here'!#REF!<>"","color","") -> #REF! | Z11: =IF('work here'!#REF!<>"",'work here'!#REF!,"") -> #REF! | AA11: =IF(AND(OR(A11="simple", A11="variable"), Y11="color"), 1, "") -> #REF! | AB11: =IF(AND( Y11="color"), 1, "") -> #REF! | AC11: =IF(A11="variable", Z12, "") | AD11: =IF('work here'!#REF!<>"",'work here'!#REF!,"") -> #REF! | AE11: =IF('work here'!#REF!<>"",'work here'!#REF!,"") -> #REF! | AF11: =IF(AD11<>"", 1, "") -> #REF! | AG11: =IF(AD11<>"", 1, "") -> #REF! | AH11: =IF(A11="variable", AE12, "") | AI11: =IF('work here'!AE10<>"","Jewellery Work","") | AJ11: =IF('work here'!AE10<>"",'work here'!AE10,"") | AK11: =IF(AND(OR(A11="simple", A11="variable"), AI11="Jewellery Work"), 1, "") | AL11: =IF(AND(OR(A11="simple", A11="variable"), AI11="Jewellery Work"), 1, "") | AM11: =IF('work here'!#REF!<>"","Gemstone","") -> #REF! | AN11: =IF('work here'!#REF!<>"",'work here'!#REF!,"") -> #REF! | AO11: =IF(AND(OR(A11="simple", A11="variable"), AM11="Gemstone"), 1, "") -> #REF! | AP11: =IF(AND(OR(A11="simple", A11="variable"), AM11="Gemstone"), 1, "") -> #REF! | AQ11: =IF('work here'!AW10<>"","Plating","") | AR11: =IF('work here'!AW10<>"",'work here'!AW10,"") | AS11: =IF(AND(OR(A11="simple", A11="variable"), AQ11="Plating"), 1, "") | AT11: =IF(AND(OR(A11="simple", A11="variable"), AQ11="Plating"), 1, "") | AU11: =IF('work here'!AX10<>"","Material","") | AV11: =IF('work here'!AX10<>"",'work here'!AX10,"") | AW11: =IF(AND(OR(A11="simple", A11="variable"), AU11="Material"), 1, "") | AX11: =IF(AND(OR(A11="simple", A11="variable"), AU11="Material"), 1, "") | AY11: =IF('work here'!#REF!<>"","Look","") -> #REF! | AZ11: =IF('work here'!#REF!<>"",'work here'!#REF!,"") -> #REF! | BA11: =IF(AND(OR(A11="simple", A11="variable"), AY11="Look"), 1, "") -> #REF! | BB11: =IF(AND(OR(A11="simple", A11="variable"), AY11="Look"), 1, "") -> #REF! | BC11: =IF('work here'!#REF!<>"","Finish","") -> #REF! | BD11: =IF('work here'!#REF!<>"",'work here'!#REF!,"") -> #REF! | BE11: =IF(AND(OR(A11="simple", A11="variable"), BC11="Finish"), 1, "") -> #REF! | BF11: =IF(AND(OR(A11="simple", A11="variable"), BC11="Finish"), 1, "") -> #REF! | BG11: =IF('work here'!#REF!<>"","Care","") -> #REF! | BH11: =IF('work here'!#REF!<>"",'work here'!#REF!,"") -> #REF! | BI11: =IF(AND(OR(A11="simple", A11="variable"), BG11="Care"), 1, "") -> #REF! | BJ11: =IF(AND(OR(A11="simple", A11="variable"), BG11="Care"), 1, "") -> #REF! | BK11: =IF(OR('work here'!F10="Rings", 'work here'!F10="Bangles"), 'work here'!F10 & " Size", "") | BL11: =IF('work here'!#REF!<>"",'work here'!#REF!,"") -> #REF! | BM11: =IF(AND(OR(A11="simple", A11="variable"), OR(BK11="Rings Size", BK11="Bangles Size")), 1, "") | BN11: =IF(AND(OR(A11="simple", A11="variable"), OR(BK11="Rings Size", BK11="Bangles Size")), 1, "") | BO11: =IF(A11="variable", BL12, "")
A12: =IF('work here'!A11="simple","simple",IF('work here'!A11="parent","variable",IF('work here'!A11="child","variation",""))) | B12: =IF('work here'!C11<>"", 'work here'!C11, "") | C12: =IF('work here'!B11<>"", 'work here'!B11, "") | D12: =IF(A12<>"",1,"") | E12: =IF(A12<>"",0,"") | F12: =IF(A12<>"","visible","") | G12: =IF('work here'!#REF!<>"", 'work here'!#REF!, "") -> #REF! | I12: =IF('work here'!Z11<>"", 'work here'!Z11, "") | J12: =IF(A12<>"",2,"") | K12: =IF(A12<>"",0,"") | L12: =IF(A12<>"",0,"") | M12: =IF('work here'!AA11<>"", 'work here'!AA11, "") | N12: =IF('work here'!AD11<>"", 'work here'!AD11, "") | O12: =IF('work here'!AC11<>"", 'work here'!AC11, "") | P12: =IF('work here'!AB11<>"", 'work here'!AB11, "") | Q12: =IF(A12<>"",1,"") | S12: =IF('work here'!E11<>"", 'work here'!E11, "") | T12: =IF('work here'!#REF!<>"", 'work here'!#REF!, "") -> #REF! | U12: =IF(A12="", "", _xlfn.TEXTJOIN(", ", TRUE, "jewellery", "jewellery > " & 'work here'!F11, "jewellery > " & 'work here'!F11 & " > " & 'work here'!#REF!, 'work here'!#REF!, 'work here'!AY11, 'work here'!H11, 'work here'!I11, 'work here'!J11)) | V12: {=_xlfn.LET( _xlpm.yr, TEXT(TODAY(), "yyyy"), _xlpm.mn, TEXT(TODAY(), "mm"), _xlpm.path, "https://richlook.co.in/wp-content/uploads/" & _xlpm.yr & "/" & _xlpm.mn & "/", _xlpm.imgRange, 'work here'!N11:X11, _xlpm.imgLinks, IF(_xlpm.imgRange<>"", _xlpm.path & _xlpm.imgRange & ".webp", ""), _xlpm.urls, IF(A12="variable", _xlpm.imgLinks, IF(A12="variation", IF('work here'!N11<>"", _xlpm.path & 'work here'!N11 & ".webp", ""), IF(A12="simple", _xlpm.imgLinks, ""))), _xlfn.TEXTJOIN(", ", TRUE, _xlpm.urls) )} | W12: {=_xlfn.LET( _xlpm.yr, TEXT(TODAY(), "yyyy"), _xlpm.mn, TEXT(TODAY(), "mm"), _xlpm.path, "https://richlook.co.in/wp-content/uploads/" & _xlpm.yr & "/" & _xlpm.mn & "/", _xlpm.imgRange, 'work here'!O11:X11, _xlpm.imgLinks, IF(_xlpm.imgRange<>"", _xlpm.path & _xlpm.imgRange & ".webp", ""), _xlpm.urls, IF(A12="variable", "", IF(A12="variation", _xlpm.imgLinks, IF(A12="simple", "", ""))), _xlfn.TEXTJOIN(", ", TRUE, _xlpm.urls) )} | X12: =IF('work here'!D11<>"", 'work here'!D11, "") | Y12: =IF('work here'!#REF!<>"","color","") -> #REF! | Z12: =IF('work here'!#REF!<>"",'work here'!#REF!,"") -> #REF! | AA12: =IF(AND(OR(A12="simple", A12="variable"), Y12="color"), 1, "") -> #REF! | AB12: =IF(AND( Y12="color"), 1, "") -> #REF! | AC12: =IF(A12="variable", Z13, "") | AD12: =IF('work here'!#REF!<>"",'work here'!#REF!,"") -> #REF! | AE12: =IF('work here'!#REF!<>"",'work here'!#REF!,"") -> #REF! | AF12: =IF(AD12<>"", 1, "") -> #REF! | AG12: =IF(AD12<>"", 1, "") -> #REF! | AH12: =IF(A12="variable", AE13, "") | AI12: =IF('work here'!AE11<>"","Jewellery Work","") | AJ12: =IF('work here'!AE11<>"",'work here'!AE11,"") | AK12: =IF(AND(OR(A12="simple", A12="variable"), AI12="Jewellery Work"), 1, "") | AL12: =IF(AND(OR(A12="simple", A12="variable"), AI12="Jewellery Work"), 1, "") | AM12: =IF('work here'!#REF!<>"","Gemstone","") -> #REF! | AN12: =IF('work here'!#REF!<>"",'work here'!#REF!,"") -> #REF! | AO12: =IF(AND(OR(A12="simple", A12="variable"), AM12="Gemstone"), 1, "") -> #REF! | AP12: =IF(AND(OR(A12="simple", A12="variable"), AM12="Gemstone"), 1, "") -> #REF! | AQ12: =IF('work here'!AW11<>"","Plating","") | AR12: =IF('work here'!AW11<>"",'work here'!AW11,"") | AS12: =IF(AND(OR(A12="simple", A12="variable"), AQ12="Plating"), 1, "") | AT12: =IF(AND(OR(A12="simple", A12="variable"), AQ12="Plating"), 1, "") | AU12: =IF('work here'!AX11<>"","Material","") | AV12: =IF('work here'!AX11<>"",'work here'!AX11,"") | AW12: =IF(AND(OR(A12="simple", A12="variable"), AU12="Material"), 1, "") | AX12: =IF(AND(OR(A12="simple", A12="variable"), AU12="Material"), 1, "") | AY12: =IF('work here'!#REF!<>"","Look","") -> #REF! | AZ12: =IF('work here'!#REF!<>"",'work here'!#REF!,"") -> #REF! | BA12: =IF(AND(OR(A12="simple", A12="variable"), AY12="Look"), 1, "") -> #REF! | BB12: =IF(AND(OR(A12="simple", A12="variable"), AY12="Look"), 1, "") -> #REF! | BC12: =IF('work here'!#REF!<>"","Finish","") -> #REF! | BD12: =IF('work here'!#REF!<>"",'work here'!#REF!,"") -> #REF! | BE12: =IF(AND(OR(A12="simple", A12="variable"), BC12="Finish"), 1, "") -> #REF! | BF12: =IF(AND(OR(A12="simple", A12="variable"), BC12="Finish"), 1, "") -> #REF! | BG12: =IF('work here'!#REF!<>"","Care","") -> #REF! | BH12: =IF('work here'!#REF!<>"",'work here'!#REF!,"") -> #REF! | BI12: =IF(AND(OR(A12="simple", A12="variable"), BG12="Care"), 1, "") -> #REF! | BJ12: =IF(AND(OR(A12="simple", A12="variable"), BG12="Care"), 1, "") -> #REF! | BK12: =IF(OR('work here'!F11="Rings", 'work here'!F11="Bangles"), 'work here'!F11 & " Size", "") | BL12: =IF('work here'!#REF!<>"",'work here'!#REF!,"") -> #REF! | BM12: =IF(AND(OR(A12="simple", A12="variable"), OR(BK12="Rings Size", BK12="Bangles Size")), 1, "") | BN12: =IF(AND(OR(A12="simple", A12="variable"), OR(BK12="Rings Size", BK12="Bangles Size")), 1, "") | BO12: =IF(A12="variable", BL13, "")
