Workbook
Name clasp: Table38[Clasp Type]
Name collection: Table27[Collection / Look]
Name color: Table28[Color]
Name design: Table41[design]
Name gemstone: Table32[Gemstones]
Name gift: Table43[gift for]
Name material: Table30[Material]
Name necklace_type: Table36[necklace_type]
Name ocassion: Table42[ocassion]
Name ornamentation: Table37[Ornamentation Type]
Name package: Table2[Package Contains]
Name pandent_shape: Table3[Pandent shape]
Name pearl_shape: 'valid values'!$I$2:$I$28
Name pearl_type: Table34[Pearl Type]
Name shape: Table33[Stone Shape]
Name style: Table40[Style]
Name tags: Table44[tags]
Name trend: Table39[Trend]
Name type: Table2427[[#All],[type]]
Name work: Table31[Jewellery Work]

Sheet Guidelines

Sheet work here
A1: SKU | B1: Type | C1: Title | D1: Parent | E1: Price | F1: Look | G1: Color | H1: Necklace Length (cm) | I1: Necklace Widht (cm) | J1: Necklace Depth (cm) | K1: Chain Length (CM) | L1: Chain Thickness (mm) | M1: Pandent Shape | N1: Main Image | O1: White Background Image | P1: Other Image 1 | Q1: Other Image 2 | R1: Other Image 3 | S1: Other Image 4 | T1: Other Image 5 | U1: Other Image 6 | V1: Other Image 7 | W1: Other Image 8 | X1: Other Image 9 | Y1: Swatch Image | Z1: Stock | AA1: Material | AB1: Work | AC1: Gemstone | AD1: Necklace Type | AE1: Clasp Type | AF1: Ornamentation Type | AG1: Necklace Design | AH1: Occasion1 | AI1: Occasion2 | AJ1: Occasion3 | AK1: Gift For1 | AL1: Gift For2 | AM1: Gift For3 | AN1: Stone Color | AO1: Stone Shape | AP1: Pearl Type | AQ1: Pearl Shape | AR1: Pearl Color | AS1: Pearl Size (mm) | AT1: Trend | AU1: Tag 1 | AV1: Tag 2 | AW1: Tag 3 | AX1: Tag 4 | AY1: Tag 5 | AZ1: Package Contains | BA1: Package Waight (gm) | BB1: Package Length (cm) | BC1: Package Width (cm) | BD1: Package Depth (cm)
B2: simple

Sheet created
A1: Type | B1: SKU | C1: Name | D1: Published | E1: Is featured? | F1: Visibility in catalog | G1: Description | H1: In stock? | I1: Stock | J1: Low stock amount | K1: Backorders allowed? | L1: Sold individually? | M1: Weight (g) | N1: Length (cm) | O1: Width (cm) | P1: Height (cm) | Q1: Allow customer reviews? | R1: Purchase note | S1: Sale price | T1: Regular price | U1: Categories | V1: Images | W1: Woo Variation Gallery Images | X1: Parent | Y1: Attribute 1 name | Z1: Attribute 1 value(s) | AA1: Attribute 1 visible | AB1: Attribute 1 global | AC1: Attribute 1 default | AD1: Attribute 2 name | AE1: Attribute 2 value(s) | AF1: Attribute 2 visible | AG1: Attribute 2 global | AH1: Attribute 2 default | AI1: Attribute 3 name | AJ1: Attribute 3 value(s) | AK1: Attribute 3 visible | AL1: Attribute 3 global | AM1: Attribute 4 name | AN1: Attribute 4 value(s) | AO1: Attribute 4 visible | AP1: Attribute 4 global | AQ1: Attribute 5 name | AR1: Attribute 5 value(s) | AS1: Attribute 5 visible | AT1: Attribute 5 global | AU1: Attribute 6 name | AV1: Attribute 6 value(s) | AW1: Attribute 6 visible | AX1: Attribute 6 global | AY1: Attribute 7 name | AZ1: Attribute 7 value(s) | BA1: Attribute 7 visible | BB1: Attribute 7 global | BC1: Attribute 8 name | BD1: Attribute 8 value(s) | BE1: Attribute 8 visible | BF1: Attribute 8 global | BG1: Attribute 9 name | BH1: Attribute 9 value(s) | BI1: Attribute 9 visible | BJ1: Attribute 9 global | BK1: Attribute 10 name | BL1: Attribute 10 value(s) | BM1: Attribute 10 visible | BN1: Attribute 10 global | BO1: Attribute 10 default
A2: =IF('work here'!A2="simple","simple",IF('work here'!A2="parent","variable",IF('work here'!A2="child","variation",""))) | B2: =IF('work here'!C2<>"", 'work here'!C2, "") | C2: =IF('work here'!B2<>"", 'work here'!B2, "") -> simple | D2: =IF(A2<>"",1,"") | E2: =IF(A2<>"",0,"") | F2: =IF(A2<>"","visible","") | G2: =IF('work here'!#REF!<>"", 'work here'!#REF!, "") -> #REF! | I2: =IF('work here'!Z2<>"", 'work here'!Z2, "") | J2: =IF(A2<>"",2,"") | K2: =IF(A2<>"",0,"") | L2: =IF(A2<>"",0,"") | M2: =IF('work here'!AA2<>"", 'work here'!AA2, "") | N2: =IF('work here'!AD2<>"", 'work here'!AD2, "") | O2: =IF('work here'!AC2<>"", 'work here'!AC2, "") | P2: =IF('work here'!AB2<>"", 'work here'!AB2, "") | Q2: =IF(A2<>"",1,"") | S2: =IF('work here'!E2<>"", 'work here'!E2, "") | T2: =IF('work here'!#REF!<>"", 'work here'!#REF!, "") -> #REF! | U2: =IF(A2="", "", _xlfn.TEXTJOIN(", ", TRUE, "jewellery", "jewellery > " & 'work here'!F2, "jewellery > " & 'work here'!F2 & " > " & 'work here'!#REF!, 'work here'!#REF!, 'work here'!AG2, 'work here'!H2, 'work here'!I2, 'work here'!J2)) | V2: {=_xlfn.LET( _xlpm.yr, TEXT(TODAY(), "yyyy"), _xlpm.mn, TEXT(TODAY(), "mm"), _xlpm.path, "https://richlook.co.in/wp-content/uploads/" & _xlpm.yr & "/" & _xlpm.mn & "/", _xlpm.imgRange, 'work here'!N2:X2, _xlpm.imgLinks, IF(_xlpm.imgRange<>"", _xlpm.path & _xlpm.imgRange & ".webp", ""), _xlpm.urls, IF(A2="variable", _xlpm.imgLinks, IF(A2="variation", IF('work here'!N2<>"", _xlpm.path & 'work here'!N2 & ".webp", ""), IF(A2="simple", _xlpm.imgLinks, ""))), _xlfn.TEXTJOIN(", ", TRUE, _xlpm.urls) )} | W2: {=_xlfn.LET( _xlpm.yr, TEXT(TODAY(), "yyyy"), _xlpm.mn, TEXT(TODAY(), "mm"), _xlpm.path, "https://richlook.co.in/wp-content/uploads/" & _xlpm.yr & "/" & _xlpm.mn & "/", _xlpm.imgRange, 'work here'!O2:X2, _xlpm.imgLinks, IF(_xlpm.imgRange<>"", _xlpm.path & _xlpm.imgRange & ".webp", ""), _xlpm.urls, IF(A2="variable", "", IF(A2="variation", _xlpm.imgLinks, IF(A2="simple", "", ""))), _xlfn.TEXTJOIN(", ", TRUE, _xlpm.urls) )} | X2: =IF('work here'!D2<>"", 'work here'!D2, "") | Y2: =IF('work here'!#REF!<>"","color","") -> #REF! | Z2: =IF('work here'!#REF!<>"",'work here'!#REF!,"") -> #REF! | AA2: =IF(AND(OR(A2="simple", A2="variable"), Y2="color"), 1, "") -> #REF! | AB2: =IF(AND( Y2="color"), 1, "") -> #REF! | AC2: =IF(A2="variable", Z3, "") | AD2: =IF('work here'!#REF!<>"",'work here'!#REF!,"") -> #REF! | AE2: =IF('work here'!#REF!<>"",'work here'!#REF!,"") -> #REF! | AF2: =IF(AD2<>"", 1, "") -> #REF! | AG2: =IF(AD2<>"", 1, "") -> #REF! | AH2: =IF(A2="variable", AE3, "") | AI2: =IF('work here'!AF2<>"","Jewellery Work","") | AJ2: =IF('work here'!AF2<>"",'work here'!AF2,"") | AK2: =IF(AND(OR(A2="simple", A2="variable"), AI2="Jewellery Work"), 1, "") | AL2: =IF(AND(OR(A2="simple", A2="variable"), AI2="Jewellery Work"), 1, "") | AM2: =IF('work here'!#REF!<>"","Gemstone","") -> #REF! | AN2: =IF('work here'!#REF!<>"",'work here'!#REF!,"") -> #REF! | AO2: =IF(AND(OR(A2="simple", A2="variable"), AM2="Gemstone"), 1, "") -> #REF! | AP2: =IF(AND(OR(A2="simple", A2="variable"), AM2="Gemstone"), 1, "") -> #REF! | AQ2: =IF('work here'!AE2<>"","Plating","") | AR2: =IF('work here'!AE2<>"",'work here'!AE2,"") | AS2: =IF(AND(OR(A2="simple", A2="variable"), AQ2="Plating"), 1, "") | AT2: =IF(AND(OR(A2="simple", A2="variable"), AQ2="Plating"), 1, "") | AU2: =IF('work here'!AT2<>"","Material","") | AV2: =IF('work here'!AT2<>"",'work here'!AT2,"") | AW2: =IF(AND(OR(A2="simple", A2="variable"), AU2="Material"), 1, "") | AX2: =IF(AND(OR(A2="simple", A2="variable"), AU2="Material"), 1, "") | AY2: =IF('work here'!#REF!<>"","Look","") -> #REF! | AZ2: =IF('work here'!#REF!<>"",'work here'!#REF!,"") -> #REF! | BA2: =IF(AND(OR(A2="simple", A2="variable"), AY2="Look"), 1, "") -> #REF! | BB2: =IF(AND(OR(A2="simple", A2="variable"), AY2="Look"), 1, "") -> #REF! | BC2: =IF('work here'!#REF!<>"","Finish","") -> #REF! | BD2: =IF('work here'!#REF!<>"",'work here'!#REF!,"") -> #REF! | BE2: =IF(AND(OR(A2="simple", A2="variable"), BC2="Finish"), 1, "") -> #REF! | BF2: =IF(AND(OR(A2="simple", A2="variable"), BC2="Finish"), 1, "") -> #REF! | BG2: =IF('work here'!#REF!<>"","Care","") -> #REF! | BH2: =IF('work here'!#REF!<>"",'work here'!#REF!,"") -> #REF! | BI2: =IF(AND(OR(A2="simple", A2="variable"), BG2="Care"), 1, "") -> #REF! | BJ2: =IF(AND(OR(A2="simple", A2="variable"), BG2="Care"), 1, "") -> #REF! | BK2: =IF(OR('work here'!F2="Rings", 'work here'!F2="Bangles"), 'work here'!F2 & " Size", "") | BL2: =IF('work here'!#REF!<>"",'work here'!#REF!,"") -> #REF! | BM2: =IF(AND(OR(A2="simple", A2="variable"), OR(BK2="Rings Size", BK2="Bangles Size")), 1, "") | BN2: =IF(AND(OR(A2="simple", A2="variable"), OR(BK2="Rings Size", BK2="Bangles Size")), 1, "") | BO2: =IF(A2="variable", BL3, "")
A3: =IF('work here'!#REF!="simple","simple",IF('work here'!#REF!="parent","variable",IF('work here'!#REF!="child","variation",""))) -> #REF! | B3: =IF('work here'!#REF!<>"", 'work here'!#REF!, "") -> #REF! | C3: =IF('work here'!#REF!<>"", 'work here'!#REF!, "") -> #REF! | D3: =IF(A3<>"",1,"") -> #REF! | E3: =IF(A3<>"",0,"") -> #REF! | F3: =IF(A3<>"","visible","") -> #REF! | G3: =IF('work here'!#REF!<>"", 'work here'!#REF!, "") -> #REF! | I3: =IF('work here'!#REF!<>"", 'work here'!#REF!, "") -> #REF! | J3: =IF(A3<>"",2,"") -> #REF! | K3: =IF(A3<>"",0,"") -> #REF! | L3: =IF(A3<>"",0,"") -> #REF! | M3: =IF('work here'!#REF!<>"", 'work here'!#REF!, "") -> #REF! | N3: =IF('work here'!#REF!<>"", 'work here'!#REF!, "") -> #REF! | O3: =IF('work here'!#REF!<>"", 'work here'!#REF!, "") -> #REF! | P3: =IF('work here'!#REF!<>"", 'work here'!#REF!, "") -> #REF! | Q3: =IF(A3<>"",1,"") -> #REF! | S3: =IF('work here'!#REF!<>"", 'work here'!#REF!, "") -> #REF! | T3: =IF('work here'!#REF!<>"", 'work here'!#REF!, "") -> #REF! | U3: =IF(A3="", "", _xlfn.TEXTJOIN(", ", TRUE, "jewellery", "jewellery > " & 'work here'!#REF!, "jewellery > " & 'work here'!#REF! & " > " & 'work here'!#REF!, 'work here'!#REF!, 'work here'!#REF!, 'work here'!#REF!, 'work here'!#REF!, 'work here'!#REF!)) -> #REF! | V3: {=_xlfn.LET( _xlpm.yr, TEXT(TODAY(), "yyyy"), _xlpm.mn, TEXT(TODAY(), "mm"), _xlpm.path, "https://richlook.co.in/wp-content/uploads/" & _xlpm.yr & "/" & _xlpm.mn & "/", _xlpm.imgRange, 'work here'!#REF!, _xlpm.imgLinks, IF(_xlpm.imgRange<>"", _xlpm.path & _xlpm.imgRange & ".webp", ""), _xlpm.urls, IF(A3="variable", _xlpm.imgLinks, IF(A3="variation", IF('work here'!#REF!<>"", _xlpm.path & 'work here'!#REF! & ".webp", ""), IF(A3="simple", _xlpm.imgLinks, ""))), _xlfn.TEXTJOIN(", ", TRUE, _xlpm.urls) )} -> #REF! | W3: {=_xlfn.LET( _xlpm.yr, TEXT(TODAY(), "yyyy"), _xlpm.mn, TEXT(TODAY(), "mm"), _xlpm.path, "https://richlook.co.in/wp-content/uploads/" & _xlpm.yr & "/" & _xlpm.mn & "/", _xlpm.imgRange, 'work here'!#REF!, _xlpm.imgLinks, IF(_xlpm.imgRange<>"", _xlpm.path & _xlpm.imgRange & ".webp", ""), _xlpm.urls, IF(A3="variable", "", IF(A3="variation", _xlpm.imgLinks, IF(A3="simple", "", ""))), _xlfn.TEXTJOIN(", ", TRUE, _xlpm.urls) )} -> #REF! | X3: =IF('work here'!#REF!<>"", 'work here'!#REF!, "") -> #REF! | Y3: =IF('work here'!#REF!<>"","color","") -> #REF! | Z3: =IF('work here'!#REF!<>"",'work here'!#REF!,"") -> #REF! | AA3: =IF(AND(OR(A3="simple", A3="variable"), Y3="color"), 1, "") -> #REF! | AB3: =IF(AND( Y3="color"), 1, "") -> #REF! | AC3: =IF(A3="variable", Z4, "") -> #REF! | AD3: =IF('work here'!#REF!<>"",'work here'!#REF!,"") -> #REF! | AE3: =IF('work here'!#REF!<>"",'work here'!#REF!,"") -> #REF! | AF3: =IF(AD3<>"", 1, "") -> #REF! | AG3: =IF(AD3<>"", 1, "") -> #REF! | AH3: =IF(A3="variable", AE4, "") -> #REF! | AI3: =IF('work here'!#REF!<>"","Jewellery Work","") -> #REF! | AJ3: =IF('work here'!#REF!<>"",'work here'!#REF!,"") -> #REF! | AK3: =IF(AND(OR(A3="simple", A3="variable"), AI3="Jewellery Work"), 1, "") -> #REF! | AL3: =IF(AND(OR(A3="simple", A3="variable"), AI3="Jewellery Work"), 1, "") -> #REF! | AM3: =IF('work here'!#REF!<>"","Gemstone","") -> #REF! | AN3: =IF('work here'!#REF!<>"",'work here'!#REF!,"") -> #REF! | AO3: =IF(AND(OR(A3="simple", A3="variable"), AM3="Gemstone"), 1, "") -> #REF! | AP3: =IF(AND(OR(A3="simple", A3="variable"), AM3="Gemstone"), 1, "") -> #REF! | AQ3: =IF('work here'!#REF!<>"","Plating","") -> #REF! | AR3: =IF('work here'!#REF!<>"",'work here'!#REF!,"") -> #REF! | AS3: =IF(AND(OR(A3="simple", A3="variable"), AQ3="Plating"), 1, "") -> #REF! | AT3: =IF(AND(OR(A3="simple", A3="variable"), AQ3="Plating"), 1, "") -> #REF! | AU3: =IF('work here'!#REF!<>"","Material","") -> #REF! | AV3: =IF('work here'!#REF!<>"",'work here'!#REF!,"") -> #REF! | AW3: =IF(AND(OR(A3="simple", A3="variable"), AU3="Material"), 1, "") -> #REF! | AX3: =IF(AND(OR(A3="simple", A3="variable"), AU3="Material"), 1, "") -> #REF! | AY3: =IF('work here'!#REF!<>"","Look","") -> #REF! | AZ3: =IF('work here'!#REF!<>"",'work here'!#REF!,"") -> #REF! | BA3: =IF(AND(OR(A3="simple", A3="variable"), AY3="Look"), 1, "") -> #REF! | BB3: =IF(AND(OR(A3="simple", A3="variable"), AY3="Look"), 1, "") -> #REF! | BC3: =IF('work here'!#REF!<>"","Finish","") -> #REF! | BD3: =IF('work here'!#REF!<>"",'work here'!#REF!,"") -> #REF! | BE3: =IF(AND(OR(A3="simple", A3="variable"), BC3="Finish"), 1, "") -> #REF! | BF3: =IF(AND(OR(A3="simple", A3="variable"), BC3="Finish"), 1, "") -> #REF! | BG3: =IF('work here'!#REF!<>"","Care","") -> #REF! | BH3: =IF('work here'!#REF!<>"",'work here'!#REF!,"") -> #REF! | BI3: =IF(AND(OR(A3="simple", A3="variable"), BG3="Care"), 1, "") -> #REF! | BJ3: =IF(AND(OR(A3="simple", A3="variable"), BG3="Care"), 1, "") -> #REF! | BK3: =IF(OR('work here'!#REF!="Rings", 'work here'!#REF!="Bangles"), 'work here'!#REF! & " Size", "") -> #REF! | BL3: =IF('work here'!#REF!<>"",'work here'!#REF!,"") -> #REF! | BM3: =IF(AND(OR(A3="simple", A3="variable"), OR(BK3="Rings Size", BK3="Bangles Size")), 1, "") -> #REF! | BN3: =IF(AND(OR(A3="simple", A3="variable"), OR(BK3="Rings Size", BK3="Bangles Size")), 1, "") -> #REF! | BO3: =IF(A3="variable", BL4, "") -> #REF!
A4: =IF('work here'!A3="simple","simple",IF('work here'!A3="parent","variable",IF('work here'!A3="child","variation",""))) | B4: =IF('work here'!C3<>"", 'work here'!C3, "") | C4: =IF('work here'!B3<>"", 'work here'!B3, "") | D4: =IF(A4<>"",1,"") | E4: =IF(A4<>"",0,"") | F4: =IF(A4<>"","visible","") | G4: =IF('work here'!#REF!<>"", 'work here'!#REF!, "") -> #REF! | I4: =IF('work here'!Z3<>"", 'work here'!Z3, "") | J4: =IF(A4<>"",2,"") | K4: =IF(A4<>"",0,"") | L4: =IF(A4<>"",0,"") | M4: =IF('work here'!AA3<>"", 'work here'!AA3, "") | N4: =IF('work here'!AD3<>"", 'work here'!AD3, "") | O4: =IF('work here'!AC3<>"", 'work here'!AC3, "") | P4: =IF('work here'!AB3<>"", 'work here'!AB3, "") | Q4: =IF(A4<>"",1,"") | S4: =IF('work here'!E3<>"", 'work here'!E3, "") | T4: =IF('work here'!#REF!<>"", 'work here'!#REF!, "") -> #REF! | U4: =IF(A4="", "", _xlfn.TEXTJOIN(", ", TRUE, "jewellery", "jewellery > " & 'work here'!F3, "jewellery > " & 'work here'!F3 & " > " & 'work here'!#REF!, 'work here'!#REF!, 'work here'!AY3, 'work here'!H3, 'work here'!I3, 'work here'!J3)) | V4: {=_xlfn.LET( _xlpm.yr, TEXT(TODAY(), "yyyy"), _xlpm.mn, TEXT(TODAY(), "mm"), _xlpm.path, "https://richlook.co.in/wp-content/uploads/" & _xlpm.yr & "/" & _xlpm.mn & "/", _xlpm.imgRange, 'work here'!N3:X3, _xlpm.imgLinks, IF(_xlpm.imgRange<>"", _xlpm.path & _xlpm.imgRange & ".webp", ""), _xlpm.urls, IF(A4="variable", _xlpm.imgLinks, IF(A4="variation", IF('work here'!N3<>"", _xlpm.path & 'work here'!N3 & ".webp", ""), IF(A4="simple", _xlpm.imgLinks, ""))), _xlfn.TEXTJOIN(", ", TRUE, _xlpm.urls) )} | W4: {=_xlfn.LET( _xlpm.yr, TEXT(TODAY(), "yyyy"), _xlpm.mn, TEXT(TODAY(), "mm"), _xlpm.path, "https://richlook.co.in/wp-content/uploads/" & _xlpm.yr & "/" & _xlpm.mn & "/", _xlpm.imgRange, 'work here'!O3:X3, _xlpm.imgLinks, IF(_xlpm.imgRange<>"", _xlpm.path & _xlpm.imgRange & ".webp", ""), _xlpm.urls, IF(A4="variable", "", IF(A4="variation", _xlpm.imgLinks, IF(A4="simple", "", ""))), _xlfn.TEXTJOIN(", ", TRUE, _xlpm.urls) )} | X4: =IF('work here'!D3<>"", 'work here'!D3, "") | Y4: =IF('work here'!#REF!<>"","color","") -> #REF! | Z4: =IF('work here'!#REF!<>"",'work here'!#REF!,"") -> #REF! | AA4: =IF(AND(OR(A4="simple", A4="variable"), Y4="color"), 1, "") -> #REF! | AB4: =IF(AND( Y4="color"), 1, "") -> #REF! | AC4: =IF(A4="variable", Z5, "") | AD4: =IF('work here'!#REF!<>"",'work here'!#REF!,"") -> #REF! | AE4: =IF('work here'!#REF!<>"",'work here'!#REF!,"") -> #REF! | AF4: =IF(AD4<>"", 1, "") -> #REF! | AG4: =IF(AD4<>"", 1, "") -> #REF! | AH4: =IF(A4="variable", AE5, "") | AI4: =IF('work here'!AE3<>"","Jewellery Work","") | AJ4: =IF('work here'!AE3<>"",'work here'!AE3,"") | AK4: =IF(AND(OR(A4="simple", A4="variable"), AI4="Jewellery Work"), 1, "") | AL4: =IF(AND(OR(A4="simple", A4="variable"), AI4="Jewellery Work"), 1, "") | AM4: =IF('work here'!#REF!<>"","Gemstone","") -> #REF! | AN4: =IF('work here'!#REF!<>"",'work here'!#REF!,"") -> #REF! | AO4: =IF(AND(OR(A4="simple", A4="variable"), AM4="Gemstone"), 1, "") -> #REF! | AP4: =IF(AND(OR(A4="simple", A4="variable"), AM4="Gemstone"), 1, "") -> #REF! | AQ4: =IF('work here'!AW3<>"","Plating","") | AR4: =IF('work here'!AW3<>"",'work here'!AW3,"") | AS4: =IF(AND(OR(A4="simple", A4="variable"), AQ4="Plating"), 1, "") | AT4: =IF(AND(OR(A4="simple", A4="variable"), AQ4="Plating"), 1, "") | AU4: =IF('work here'!AX3<>"","Material","") | AV4: =IF('work here'!AX3<>"",'work here'!AX3,"") | AW4: =IF(AND(OR(A4="simple", A4="variable"), AU4="Material"), 1, "") | AX4: =IF(AND(OR(A4="simple", A4="variable"), AU4="Material"), 1, "") | AY4: =IF('work here'!#REF!<>"","Look","") -> #REF! | AZ4: =IF('work here'!#REF!<>"",'work here'!#REF!,"") -> #REF! | BA4: =IF(AND(OR(A4="simple", A4="variable"), AY4="Look"), 1, "") -> #REF! | BB4: =IF(AND(OR(A4="simple", A4="variable"), AY4="Look"), 1, "") -> #REF! | BC4: =IF('work here'!#REF!<>"","Finish","") -> #REF! | BD4: =IF('work here'!#REF!<>"",'work here'!#REF!,"") -> #REF! | BE4: =IF(AND(OR(A4="simple", A4="variable"), BC4="Finish"), 1, "") -> #REF! | BF4: =IF(AND(OR(A4="simple", A4="variable"), BC4="Finish"), 1, "") -> #REF! | BG4: =IF('work here'!#REF!<>"","Care","") -> #REF! | BH4: =IF('work here'!#REF!<>"",'work here'!#REF!,"") -> #REF! | BI4: =IF(AND(OR(A4="simple", A4="variable"), BG4="Care"), 1, "") -> #REF! | BJ4: =IF(AND(OR(A4="simple", A4="variable"), BG4="Care"), 1, "") -> #REF! | BK4: =IF(OR('work here'!F3="Rings", 'work here'!F3="Bangles"), 'work here'!F3 & " Size", "") | BL4: =IF('work here'!#REF!<>"",'work here'!#REF!,"") -> #REF! | BM4: =IF(AND(OR(A4="simple", A4="variable"), OR(BK4="Rings Size", BK4="Bangles Size")), 1, "") | BN4: =IF(AND(OR(A4="simple", A4="variable"), OR(BK4="Rings Size", BK4="Bangles Size")), 1, "") | BO4: =IF(A4="variable", BL5, "")
A5: =IF('work here'!A4="simple","simple",IF('work here'!A4="parent","variable",IF('work here'!A4="child","variation",""))) | B5: =IF('work here'!C4<>"", 'work here'!C4, "") | C5: =IF('work here'!B4<>"", 'work here'!B4, "") | D5: =IF(A5<>"",1,"") | E5: =IF(A5<>"",0,"") | F5: =IF(A5<>"","visible","") | G5: =IF('work here'!#REF!<>"", 'work here'!#REF!, "") -> #REF! | I5: =IF('work here'!Z4<>"", 'work here'!Z4, "") | J5: =IF(A5<>"",2,"") | K5: =IF(A5<>"",0,"") | L5: =IF(A5<>"",0,"") | M5: =IF('work here'!AA4<>"", 'work here'!AA4, "") | N5: =IF('work here'!AD4<>"", 'work here'!AD4, "") | O5: =IF('work here'!AC4<>"", 'work here'!AC4, "") | P5: =IF('work here'!AB4<>"", 'work here'!AB4, "") | Q5: =IF(A5<>"",1,"") | S5: =IF('work here'!E4<>"", 'work here'!E4, "") | T5: =IF('work here'!#REF!<>"", 'work here'!#REF!, "") -> #REF! | U5: =IF(A5="", "", _xlfn.TEXTJOIN(", ", TRUE, "jewellery", "jewellery > " & 'work here'!F4, "jewellery > " & 'work here'!F4 & " > " & 'work here'!#REF!, 'work here'!#REF!, 'work here'!AY4, 'work here'!H4, 'work here'!I4, 'work here'!J4)) | V5: {=_xlfn.LET( _xlpm.yr, TEXT(TODAY(), "yyyy"), _xlpm.mn, TEXT(TODAY(), "mm"), _xlpm.path, "https://richlook.co.in/wp-content/uploads/" & _xlpm.yr & "/" & _xlpm.mn & "/", _xlpm.imgRange, 'work here'!N4:X4, _xlpm.imgLinks, IF(_xlpm.imgRange<>"", _xlpm.path & _xlpm.imgRange & ".webp", ""), _xlpm.urls, IF(A5="variable", _xlpm.imgLinks, IF(A5="variation", IF('work here'!N4<>"", _xlpm.path & 'work here'!N4 & ".webp", ""), IF(A5="simple", _xlpm.imgLinks, ""))), _xlfn.TEXTJOIN(", ", TRUE, _xlpm.urls) )} | W5: {=_xlfn.LET( _xlpm.yr, TEXT(TODAY(), "yyyy"), _xlpm.mn, TEXT(TODAY(), "mm"), _xlpm.path, "https://richlook.co.in/wp-content/uploads/" & _xlpm.yr & "/" & _xlpm.mn & "/", _xlpm.imgRange, 'work here'!O4:X4, _xlpm.imgLinks, IF(_xlpm.imgRange<>"", _xlpm.path & _xlpm.imgRange & ".webp", ""), _xlpm.urls, IF(A5="variable", "", IF(A5="variation", _xlpm.imgLinks, IF(A5="simple", "", ""))), _xlfn.TEXTJOIN(", ", TRUE, _xlpm.urls) )} | X5: =IF('work here'!D4<>"", 'work here'!D4, "") | Y5: =IF('work here'!#REF!<>"","color","") -> #REF! | Z5: =IF('work here'!#REF!<>"",'work here'!#REF!,"") -> #REF! | AA5: =IF(AND(OR(A5="simple", A5="variable"), Y5="color"), 1, "") -> #REF! | AB5: =IF(AND( Y5="color"), 1, "") -> #REF! | AC5: =IF(A5="variable", Z6, "") | AD5: =IF('work here'!#REF!<>"",'work here'!#REF!,"") -> #REF! | AE5: =IF('work here'!#REF!<>"",'work here'!#REF!,"") -> #REF! | AF5: =IF(AD5<>"", 1, "") -> #REF! | AG5: =IF(AD5<>"", 1, "") -> #REF! | AH5: =IF(A5="variable", AE6, "") | AI5: =IF('work here'!AE4<>"","Jewellery Work","") | AJ5: =IF('work here'!AE4<>"",'work here'!AE4,"") | AK5: =IF(AND(OR(A5="simple", A5="variable"), AI5="Jewellery Work"), 1, "") | AL5: =IF(AND(OR(A5="simple", A5="variable"), AI5="Jewellery Work"), 1, "") | AM5: =IF('work here'!#REF!<>"","Gemstone","") -> #REF! | AN5: =IF('work here'!#REF!<>"",'work here'!#REF!,"") -> #REF! | AO5: =IF(AND(OR(A5="simple", A5="variable"), AM5="Gemstone"), 1, "") -> #REF! | AP5: =IF(AND(OR(A5="simple", A5="variable"), AM5="Gemstone"), 1, "") -> #REF! | AQ5: =IF('work here'!AW4<>"","Plating","") | AR5: =IF('work here'!AW4<>"",'work here'!AW4,"") | AS5: =IF(AND(OR(A5="simple", A5="variable"), AQ5="Plating"), 1, "") | AT5: =IF(AND(OR(A5="simple", A5="variable"), AQ5="Plating"), 1, "") | AU5: =IF('work here'!AX4<>"","Material","") | AV5: =IF('work here'!AX4<>"",'work here'!AX4,"") | AW5: =IF(AND(OR(A5="simple", A5="variable"), AU5="Material"), 1, "") | AX5: =IF(AND(OR(A5="simple", A5="variable"), AU5="Material"), 1, "") | AY5: =IF('work here'!#REF!<>"","Look","") -> #REF! | AZ5: =IF('work here'!#REF!<>"",'work here'!#REF!,"") -> #REF! | BA5: =IF(AND(OR(A5="simple", A5="variable"), AY5="Look"), 1, "") -> #REF! | BB5: =IF(AND(OR(A5="simple", A5="variable"), AY5="Look"), 1, "") -> #REF! | BC5: =IF('work here'!#REF!<>"","Finish","") -> #REF! | BD5: =IF('work here'!#REF!<>"",'work here'!#REF!,"") -> #REF! | BE5: =IF(AND(OR(A5="simple", A5="variable"), BC5="Finish"), 1, "") -> #REF! | BF5: =IF(AND(OR(A5="simple", A5="variable"), BC5="Finish"), 1, "") -> #REF! | BG5: =IF('work here'!#REF!<>"","Care","") -> #REF! | BH5: =IF('work here'!#REF!<>"",'work here'!#REF!,"") -> #REF! | BI5: =IF(AND(OR(A5="simple", A5="variable"), BG5="Care"), 1, "") -> #REF! | BJ5: =IF(AND(OR(A5="simple", A5="variable"), BG5="Care"), 1, "") -> #REF! | BK5: =IF(OR('work here'!F4="Rings", 'work here'!F4="Bangles"), 'work here'!F4 & " Size", "") | BL5: =IF('work here'!#REF!<>"",'work here'!#REF!,"") -> #REF! | BM5: =IF(AND(OR(A5="simple", A5="variable"), OR(BK5="Rings Size", BK5="Bangles Size")), 1, "") | BN5: =IF(AND(OR(A5="simple", A5="variable"), OR(BK5="Rings Size", BK5="Bangles Size")), 1, "") | BO5: =IF(A5="variable", BL6, "")
A6: =IF('work here'!A5="simple","simple",IF('work here'!A5="parent","variable",IF('work here'!A5="child","variation",""))) | B6: =IF('work here'!C5<>"", 'work here'!C5, "") | C6: =IF('work here'!B5<>"", 'work here'!B5, "") | D6: =IF(A6<>"",1,"") | E6: =IF(A6<>"",0,"") | F6: =IF(A6<>"","visible","") | G6: =IF('work here'!#REF!<>"", 'work here'!#REF!, "") -> #REF! | I6: =IF('work here'!Z5<>"", 'work here'!Z5, "") | J6: =IF(A6<>"",2,"") | K6: =IF(A6<>"",0,"") | L6: =IF(A6<>"",0,"") | M6: =IF('work here'!AA5<>"", 'work here'!AA5, "") | N6: =IF('work here'!AD5<>"", 'work here'!AD5, "") | O6: =IF('work here'!AC5<>"", 'work here'!AC5, "") | P6: =IF('work here'!AB5<>"", 'work here'!AB5, "") | Q6: =IF(A6<>"",1,"") | S6: =IF('work here'!E5<>"", 'work here'!E5, "") | T6: =IF('work here'!#REF!<>"", 'work here'!#REF!, "") -> #REF! | U6: =IF(A6="", "", _xlfn.TEXTJOIN(", ", TRUE, "jewellery", "jewellery > " & 'work here'!F5, "jewellery > " & 'work here'!F5 & " > " & 'work here'!#REF!, 'work here'!#REF!, 'work here'!AY5, 'work here'!H5, 'work here'!I5, 'work here'!J5)) | V6: {=_xlfn.LET( _xlpm.yr, TEXT(TODAY(), "yyyy"), _xlpm.mn, TEXT(TODAY(), "mm"), _xlpm.path, "https://richlook.co.in/wp-content/uploads/" & _xlpm.yr & "/" & _xlpm.mn & "/", _xlpm.imgRange, 'work here'!N5:X5, _xlpm.imgLinks, IF(_xlpm.imgRange<>"", _xlpm.path & _xlpm.imgRange & ".webp", ""), _xlpm.urls, IF(A6="variable", _xlpm.imgLinks, IF(A6="variation", IF('work here'!N5<>"", _xlpm.path & 'work here'!N5 & ".webp", ""), IF(A6="simple", _xlpm.imgLinks, ""))), _xlfn.TEXTJOIN(", ", TRUE, _xlpm.urls) )} | W6: {=_xlfn.LET( _xlpm.yr, TEXT(TODAY(), "yyyy"), _xlpm.mn, TEXT(TODAY(), "mm"), _xlpm.path, "https://richlook.co.in/wp-content/uploads/" & _xlpm.yr & "/" & _xlpm.mn & "/", _xlpm.imgRange, 'work here'!O5:X5, _xlpm.imgLinks, IF(_xlpm.imgRange<>"", _xlpm.path & _xlpm.imgRange & ".webp", ""), _xlpm.urls, IF(A6="variable", "", IF(A6="variation", _xlpm.imgLinks, IF(A6="simple", "", ""))), _xlfn.TEXTJOIN(", ", TRUE, _xlpm.urls) )} | X6: =IF('work here'!D5<>"", 'work here'!D5, "") | Y6: =IF('work here'!#REF!<>"","color","") -> #REF! | Z6: =IF('work here'!#REF!<>"",'work here'!#REF!,"") -> #REF! | AA6: =IF(AND(OR(A6="simple", A6="variable"), Y6="color"), 1, "") -> #REF! | AB6: =IF(AND( Y6="color"), 1, "") -> #REF! | AC6: =IF(A6="variable", Z7, "") | AD6: =IF('work here'!#REF!<>"",'work here'!#REF!,"") -> #REF! | AE6: =IF('work here'!#REF!<>"",'work here'!#REF!,"") -> #REF! | AF6: =IF(AD6<>"", 1, "") -> #REF! | AG6: =IF(AD6<>"", 1, "") -> #REF! | AH6: =IF(A6="variable", AE7, "") | AI6: =IF('work here'!AE5<>"","Jewellery Work","") | AJ6: =IF('work here'!AE5<>"",'work here'!AE5,"") | AK6: =IF(AND(OR(A6="simple", A6="variable"), AI6="Jewellery Work"), 1, "") | AL6: =IF(AND(OR(A6="simple", A6="variable"), AI6="Jewellery Work"), 1, "") | AM6: =IF('work here'!#REF!<>"","Gemstone","") -> #REF! | AN6: =IF('work here'!#REF!<>"",'work here'!#REF!,"") -> #REF! | AO6: =IF(AND(OR(A6="simple", A6="variable"), AM6="Gemstone"), 1, "") -> #REF! | AP6: =IF(AND(OR(A6="simple", A6="variable"), AM6="Gemstone"), 1, "") -> #REF! | AQ6: =IF('work here'!AW5<>"","Plating","") | AR6: =IF('work here'!AW5<>"",'work here'!AW5,"") | AS6: =IF(AND(OR(A6="simple", A6="variable"), AQ6="Plating"), 1, "") | AT6: =IF(AND(OR(A6="simple", A6="variable"), AQ6="Plating"), 1, "") | AU6: =IF('work here'!AX5<>"","Material","") | AV6: =IF('work here'!AX5<>"",'work here'!AX5,"") | AW6: =IF(AND(OR(A6="simple", A6="variable"), AU6="Material"), 1, "") | AX6: =IF(AND(OR(A6="simple", A6="variable"), AU6="Material"), 1, "") | AY6: =IF('work here'!#REF!<>"","Look","") -> #REF! | AZ6: =IF('work here'!#REF!<>"",'work here'!#REF!,"") -> #REF! | BA6: =IF(AND(OR(A6="simple", A6="variable"), AY6="Look"), 1, "") -> #REF! | BB6: =IF(AND(OR(A6="simple", A6="variable"), AY6="Look"), 1, "") -> #REF! | BC6: =IF('work here'!#REF!<>"","Finish","") -> #REF! | BD6: =IF('work here'!#REF!<>"",'work here'!#REF!,"") -> #REF! | BE6: =IF(AND(OR(A6="simple", A6="variable"), BC6="Finish"), 1, "") -> #REF! | BF6: =IF(AND(OR(A6="simple", A6="variable"), BC6="Finish"), 1, "") -> #REF! | BG6: =IF('work here'!#REF!<>"","Care","") -> #REF! | BH6: =IF('work here'!#REF!<>"",'work here'!#REF!,"") -> #REF! | BI6: =IF(AND(OR(A6="simple", A6="variable"), BG6="Care"), 1, "") -> #REF! | BJ6: =IF(AND(OR(A6="simple", A6="variable"), BG6="Care"), 1, "") -> #REF! | BK6: =IF(OR('work here'!F5="Rings", 'work here'!F5="Bangles"), 'work here'!F5 & " Size", "") | BL6: =IF('work here'!#REF!<>"",'work here'!#REF!,"") -> #REF! | BM6: =IF(AND(OR(A6="simple", A6="variable"), OR(BK6="Rings Size", BK6="Bangles Size")), 1, "") | BN6: =IF(AND(OR(A6="simple", A6="variable"), OR(BK6="Rings Size", BK6="Bangles Size")), 1, "") | BO6: =IF(A6="variable", BL7, "")
A7: =IF('work here'!A6="simple","simple",IF('work here'!A6="parent","variable",IF('work here'!A6="child","variation",""))) | B7: =IF('work here'!C6<>"", 'work here'!C6, "") | C7: =IF('work here'!B6<>"", 'work here'!B6, "") | D7: =IF(A7<>"",1,"") | E7: =IF(A7<>"",0,"") | F7: =IF(A7<>"","visible","") | G7: =IF('work here'!#REF!<>"", 'work here'!#REF!, "") -> #REF! | I7: =IF('work here'!Z6<>"", 'work here'!Z6, "") | J7: =IF(A7<>"",2,"") | K7: =IF(A7<>"",0,"") | L7: =IF(A7<>"",0,"") | M7: =IF('work here'!AA6<>"", 'work here'!AA6, "") | N7: =IF('work here'!AD6<>"", 'work here'!AD6, "") | O7: =IF('work here'!AC6<>"", 'work here'!AC6, "") | P7: =IF('work here'!AB6<>"", 'work here'!AB6, "") | Q7: =IF(A7<>"",1,"") | S7: =IF('work here'!E6<>"", 'work here'!E6, "") | T7: =IF('work here'!#REF!<>"", 'work here'!#REF!, "") -> #REF! | U7: =IF(A7="", "", _xlfn.TEXTJOIN(", ", TRUE, "jewellery", "jewellery > " & 'work here'!F6, "jewellery > " & 'work here'!F6 & " > " & 'work here'!#REF!, 'work here'!#REF!, 'work here'!AY6, 'work here'!H6, 'work here'!I6, 'work here'!J6)) | V7: {=_xlfn.LET( _xlpm.yr, TEXT(TODAY(), "yyyy"), _xlpm.mn, TEXT(TODAY(), "mm"), _xlpm.path, "https://richlook.co.in/wp-content/uploads/" & _xlpm.yr & "/" & _xlpm.mn & "/", _xlpm.imgRange, 'work here'!N6:X6, _xlpm.imgLinks, IF(_xlpm.imgRange<>"", _xlpm.path & _xlpm.imgRange & ".webp", ""), _xlpm.urls, IF(A7="variable", _xlpm.imgLinks, IF(A7="variation", IF('work here'!N6<>"", _xlpm.path & 'work here'!N6 & ".webp", ""), IF(A7="simple", _xlpm.imgLinks, ""))), _xlfn.TEXTJOIN(", ", TRUE, _xlpm.urls) )} | W7: {=_xlfn.LET( _xlpm.yr, TEXT(TODAY(), "yyyy"), _xlpm.mn, TEXT(TODAY(), "mm"), _xlpm.path, "https://richlook.co.in/wp-content/uploads/" & _xlpm.yr & "/" & _xlpm.mn & "/", _xlpm.imgRange, 'work here'!O6:X6, _xlpm.imgLinks, IF(_xlpm.imgRange<>"", _xlpm.path & _xlpm.imgRange & ".webp", ""), _xlpm.urls, IF(A7="variable", "", IF(A7="variation", _xlpm.imgLinks, IF(A7="simple", "", ""))), _xlfn.TEXTJOIN(", ", TRUE, _xlpm.urls) )} | X7: =IF('work here'!D6<>"", 'work here'!D6, "") | Y7: =IF('work here'!#REF!<>"","color","") -> #REF! | Z7: =IF('work here'!#REF!<>"",'work here'!#REF!,"") -> #REF! | AA7: =IF(AND(OR(A7="simple", A7="variable"), Y7="color"), 1, "") -> #REF! | AB7: =IF(AND( Y7="color"), 1, "") -> #REF! | AC7: =IF(A7="variable", Z8, "") | AD7: =IF('work here'!#REF!<>"",'work here'!#REF!,"") -> #REF! | AE7: =IF('work here'!#REF!<>"",'work here'!#REF!,"") -> #REF! | AF7: =IF(AD7<>"", 1, "") -> #REF! | AG7: =IF(AD7<>"", 1, "") -> #REF! | AH7: =IF(A7="variable", AE8, "") | AI7: =IF('work here'!AE6<>"","Jewellery Work","") | AJ7: =IF('work here'!AE6<>"",'work here'!AE6,"") | AK7: =IF(AND(OR(A7="simple", A7="variable"), AI7="Jewellery Work"), 1, "") | AL7: =IF(AND(OR(A7="simple", A7="variable"), AI7="Jewellery Work"), 1, "") | AM7: =IF('work here'!#REF!<>"","Gemstone","") -> #REF! | AN7: =IF('work here'!#REF!<>"",'work here'!#REF!,"") -> #REF! | AO7: =IF(AND(OR(A7="simple", A7="variable"), AM7="Gemstone"), 1, "") -> #REF! | AP7: =IF(AND(OR(A7="simple", A7="variable"), AM7="Gemstone"), 1, "") -> #REF! | AQ7: =IF('work here'!AW6<>"","Plating","") | AR7: =IF('work here'!AW6<>"",'work here'!AW6,"") | AS7: =IF(AND(OR(A7="simple", A7="variable"), AQ7="Plating"), 1, "") | AT7: =IF(AND(OR(A7="simple", A7="variable"), AQ7="Plating"), 1, "") | AU7: =IF('work here'!AX6<>"","Material","") | AV7: =IF('work here'!AX6<>"",'work here'!AX6,"") | AW7: =IF(AND(OR(A7="simple", A7="variable"), AU7="Material"), 1, "") | AX7: =IF(AND(OR(A7="simple", A7="variable"), AU7="Material"), 1, "") | AY7: =IF('work here'!#REF!<>"","Look","") -> #REF! | AZ7: =IF('work here'!#REF!<>"",'work here'!#REF!,"") -> #REF! | BA7: =IF(AND(OR(A7="simple", A7="variable"), AY7="Look"), 1, "") -> #REF! | BB7: =IF(AND(OR(A7="simple", A7="variable"), AY7="Look"), 1, "") -> #REF! | BC7: =IF('work here'!#REF!<>"","Finish","") -> #REF! | BD7: =IF('work here'!#REF!<>"",'work here'!#REF!,"") -> #REF! | BE7: =IF(AND(OR(A7="simple", A7="variable"), BC7="Finish"), 1, "") -> #REF! | BF7: =IF(AND(OR(A7="simple", A7="variable"), BC7="Finish"), 1, "") -> #REF! | BG7: =IF('work here'!#REF!<>"","Care","") -> #REF! | BH7: =IF('work here'!#REF!<>"",'work here'!#REF!,"") -> #REF! | BI7: =IF(AND(OR(A7="simple", A7="variable"), BG7="Care"), 1, "") -> #REF! | BJ7: =IF(AND(OR(A7="simple", A7="variable"), BG7="Care"), 1, "") -> #REF! | BK7: =IF(OR('work here'!F6="Rings", 'work here'!F6="Bangles"), 'work here'!F6 & " Size", "") | BL7: =IF('work here'!#REF!<>"",'work here'!#REF!,"") -> #REF! | BM7: =IF(AND(OR(A7="simple", A7="variable"), OR(BK7="Rings Size", BK7="Bangles Size")), 1, "") | BN7: =IF(AND(OR(A7="simple", A7="variable"), OR(BK7="Rings Size", BK7="Bangles Size")), 1, "") | BO7: =IF(A7="variable", BL8, "")
A8: =IF('work here'!A7="simple","simple",IF('work here'!A7="parent","variable",IF('work here'!A7="child","variation",""))) | B8: =IF('work here'!C7<>"", 'work here'!C7, "") | C8: =IF('work here'!B7<>"", 'work here'!B7, "") | D8: =IF(A8<>"",1,"") | E8: =IF(A8<>"",0,"") | F8: =IF(A8<>"","visible","") | G8: =IF('work here'!#REF!<>"", 'work here'!#REF!, "") -> #REF! | I8: =IF('work here'!Z7<>"", 'work here'!Z7, "") | J8: =IF(A8<>"",2,"") | K8: =IF(A8<>"",0,"") | L8: =IF(A8<>"",0,"") | M8: =IF('work here'!AA7<>"", 'work here'!AA7, "") | N8: =IF('work here'!AD7<>"", 'work here'!AD7, "") | O8: =IF('work here'!AC7<>"", 'work here'!AC7, "") | P8: =IF('work here'!AB7<>"", 'work here'!AB7, "") | Q8: =IF(A8<>"",1,"") | S8: =IF('work here'!E7<>"", 'work here'!E7, "") | T8: =IF('work here'!#REF!<>"", 'work here'!#REF!, "") -> #REF! | U8: =IF(A8="", "", _xlfn.TEXTJOIN(", ", TRUE, "jewellery", "jewellery > " & 'work here'!F7, "jewellery > " & 'work here'!F7 & " > " & 'work here'!#REF!, 'work here'!#REF!, 'work here'!AY7, 'work here'!H7, 'work here'!I7, 'work here'!J7)) | V8: {=_xlfn.LET( _xlpm.yr, TEXT(TODAY(), "yyyy"), _xlpm.mn, TEXT(TODAY(), "mm"), _xlpm.path, "https://richlook.co.in/wp-content/uploads/" & _xlpm.yr & "/" & _xlpm.mn & "/", _xlpm.imgRange, 'work here'!N7:X7, _xlpm.imgLinks, IF(_xlpm.imgRange<>"", _xlpm.path & _xlpm.imgRange & ".webp", ""), _xlpm.urls, IF(A8="variable", _xlpm.imgLinks, IF(A8="variation", IF('work here'!N7<>"", _xlpm.path & 'work here'!N7 & ".webp", ""), IF(A8="simple", _xlpm.imgLinks, ""))), _xlfn.TEXTJOIN(", ", TRUE, _xlpm.urls) )} | W8: {=_xlfn.LET( _xlpm.yr, TEXT(TODAY(), "yyyy"), _xlpm.mn, TEXT(TODAY(), "mm"), _xlpm.path, "https://richlook.co.in/wp-content/uploads/" & _xlpm.yr & "/" & _xlpm.mn & "/", _xlpm.imgRange, 'work here'!O7:X7, _xlpm.imgLinks, IF(_xlpm.imgRange<>"", _xlpm.path & _xlpm.imgRange & ".webp", ""), _xlpm.urls, IF(A8="variable", "", IF(A8="variation", _xlpm.imgLinks, IF(A8="simple", "", ""))), _xlfn.TEXTJOIN(", ", TRUE, _xlpm.urls) )} | X8: =IF('work here'!D7<>"", 'work here'!D7, "") | Y8: =IF('work here'!#REF!<>"","color","") -> #REF! | Z8: =IF('work here'!#REF!<>"",'work here'!#REF!,"") -> #REF! | AA8: =IF(AND(OR(A8="simple", A8="variable"), Y8="color"), 1, "") -> #REF! | AB8: =IF(AND( Y8="color"), 1, "") -> #REF! | AC8: =IF(A8="variable", Z9, "") | AD8: =IF('work here'!#REF!<>"",'work here'!#REF!,"") -> #REF! | AE8: =IF('work here'!#REF!<>"",'work here'!#REF!,"") -> #REF! | AF8: =IF(AD8<>"", 1, "") -> #REF! | AG8: =IF(AD8<>"", 1, "") -> #REF! | AH8: =IF(A8="variable", AE9, "") | AI8: =IF('work here'!AE7<>"","Jewellery Work","") | AJ8: =IF('work here'!AE7<>"",'work here'!AE7,"") | AK8: =IF(AND(OR(A8="simple", A8="variable"), AI8="Jewellery Work"), 1, "") | AL8: =IF(AND(OR(A8="simple", A8="variable"), AI8="Jewellery Work"), 1, "") | AM8: =IF('work here'!#REF!<>"","Gemstone","") -> #REF! | AN8: =IF('work here'!#REF!<>"",'work here'!#REF!,"") -> #REF! | AO8: =IF(AND(OR(A8="simple", A8="variable"), AM8="Gemstone"), 1, "") -> #REF! | AP8: =IF(AND(OR(A8="simple", A8="variable"), AM8="Gemstone"), 1, "") -> #REF! | AQ8: =IF('work here'!AW7<>"","Plating","") | AR8: =IF('work here'!AW7<>"",'work here'!AW7,"") | AS8: =IF(AND(OR(A8="simple", A8="variable"), AQ8="Plating"), 1, "") | AT8: =IF(AND(OR(A8="simple", A8="variable"), AQ8="Plating"), 1, "") | AU8: =IF('work here'!AX7<>"","Material","") | AV8: =IF('work here'!AX7<>"",'work here'!AX7,"") | AW8: =IF(AND(OR(A8="simple", A8="variable"), AU8="Material"), 1, "") | AX8: =IF(AND(OR(A8="simple", A8="variable"), AU8="Material"), 1, "") | AY8: =IF('work here'!#REF!<>"","Look","") -> #REF! | AZ8: =IF('work here'!#REF!<>"",'work here'!#REF!,"") -> #REF! | BA8: =IF(AND(OR(A8="simple", A8="variable"), AY8="Look"), 1, "") -> #REF! | BB8: =IF(AND(OR(A8="simple", A8="variable"), AY8="Look"), 1, "") -> #REF! | BC8: =IF('work here'!#REF!<>"","Finish","") -> #REF! | BD8: =IF('work here'!#REF!<>"",'work here'!#REF!,"") -> #REF! | BE8: =IF(AND(OR(A8="simple", A8="variable"), BC8="Finish"), 1, "") -> #REF! | BF8: =IF(AND(OR(A8="simple", A8="variable"), BC8="Finish"), 1, "") -> #REF! | BG8: =IF('work here'!#REF!<>"","Care","") -> #REF! | BH8: =IF('work here'!#REF!<>"",'work here'!#REF!,"") -> #REF! | BI8: =IF(AND(OR(A8="simple", A8="variable"), BG8="Care"), 1, "") -> #REF! | BJ8: =IF(AND(OR(A8="simple", A8="variable"), BG8="Care"), 1, "") -> #REF! | BK8: =IF(OR('work here'!F7="Rings", 'work here'!F7="Bangles"), 'work here'!F7 & " Size", "") | BL8: =IF('work here'!#REF!<>"",'work here'!#REF!,"") -> #REF! | BM8: =IF(AND(OR(A8="simple", A8="variable"), OR(BK8="Rings Size", BK8="Bangles Size")), 1, "") | BN8: =IF(AND(OR(A8="simple", A8="variable"), OR(BK8="Rings Size", BK8="Bangles Size")), 1, "") | BO8: =IF(A8="variable", BL9, "")
A9: =IF('work here'!A8="simple","simple",IF('work here'!A8="parent","variable",IF('work here'!A8="child","variation",""))) | B9: =IF('work here'!C8<>"", 'work here'!C8, "") | C9: =IF('work here'!B8<>"", 'work here'!B8, "") | D9: =IF(A9<>"",1,"") | E9: =IF(A9<>"",0,"") | F9: =IF(A9<>"","visible","") | G9: =IF('work here'!#REF!<>"", 'work here'!#REF!, "") -> #REF! | I9: =IF('work here'!Z8<>"", 'work here'!Z8, "") | J9: =IF(A9<>"",2,"") | K9: =IF(A9<>"",0,"") | L9: =IF(A9<>"",0,"") | M9: =IF('work here'!AA8<>"", 'work here'!AA8, "") | N9: =IF('work here'!AD8<>"", 'work here'!AD8, "") | O9: =IF('work here'!AC8<>"", 'work here'!AC8, "") | P9: =IF('work here'!AB8<>"", 'work here'!AB8, "") | Q9: =IF(A9<>"",1,"") | S9: =IF('work here'!E8<>"", 'work here'!E8, "") | T9: =IF('work here'!#REF!<>"", 'work here'!#REF!, "") -> #REF! | U9: =IF(A9="", "", _xlfn.TEXTJOIN(", ", TRUE, "jewellery", "jewellery > " & 'work here'!F8, "jewellery > " & 'work here'!F8 & " > " & 'work here'!#REF!, 'work here'!#REF!, 'work here'!AY8, 'work here'!H8, 'work here'!I8, 'work here'!J8)) | V9: {=_xlfn.LET( _xlpm.yr, TEXT(TODAY(), "yyyy"), _xlpm.mn, TEXT(TODAY(), "mm"), _xlpm.path, "https://richlook.co.in/wp-content/uploads/" & _xlpm.yr & "/" & _xlpm.mn & "/", _xlpm.imgRange, 'work here'!N8:X8, _xlpm.imgLinks, IF(_xlpm.imgRange<>"", _xlpm.path & _xlpm.imgRange & ".webp", ""), _xlpm.urls, IF(A9="variable", _xlpm.imgLinks, IF(A9="variation", IF('work here'!N8<>"", _xlpm.path & 'work here'!N8 & ".webp", ""), IF(A9="simple", _xlpm.imgLinks, ""))), _xlfn.TEXTJOIN(", ", TRUE, _xlpm.urls) )} | W9: {=_xlfn.LET( _xlpm.yr, TEXT(TODAY(), "yyyy"), _xlpm.mn, TEXT(TODAY(), "mm"), _xlpm.path, "https://richlook.co.in/wp-content/uploads/" & _xlpm.yr & "/" & _xlpm.mn & "/", _xlpm.imgRange, 'work here'!O8:X8, _xlpm.imgLinks, IF(_xlpm.imgRange<>"", _xlpm.path & _xlpm.imgRange & ".webp", ""), _xlpm.urls, IF(A9="variable", "", IF(A9="variation", _xlpm.imgLinks, IF(A9="simple", "", ""))), _xlfn.TEXTJOIN(", ", TRUE, _xlpm.urls) )} | X9: =IF('work here'!D8<>"", 'work here'!D8, "") | Y9: =IF('work here'!#REF!<>"","color","") -> #REF! | Z9: =IF('work here'!#REF!<>"",'work here'!#REF!,"") -> #REF! | AA9: =IF(AND(OR(A9="simple", A9="variable"), Y9="color"), 1, "") -> #REF! | AB9: =IF(AND( Y9="color"), 1, "") -> #REF! | AC9: =IF(A9="variable", Z10, "") | AD9: =IF('work here'!#REF!<>"",'work here'!#REF!,"") -> #REF! | AE9: =IF('work here'!#REF!<>"",'work here'!#REF!,"") -> #REF! | AF9: =IF(AD9<>"", 1, "") -> #REF! | AG9: =IF(AD9<>"", 1, "") -> #REF! | AH9: =IF(A9="variable", AE10, "") | AI9: =IF('work here'!AE8<>"","Jewellery Work","") | AJ9: =IF('work here'!AE8<>"",'work here'!AE8,"") | AK9: =IF(AND(OR(A9="simple", A9="variable"), AI9="Jewellery Work"), 1, "") | AL9: =IF(AND(OR(A9="simple", A9="variable"), AI9="Jewellery Work"), 1, "") | AM9: =IF('work here'!#REF!<>"","Gemstone","") -> #REF! | AN9: =IF('work here'!#REF!<>"",'work here'!#REF!,"") -> #REF! | AO9: =IF(AND(OR(A9="simple", A9="variable"), AM9="Gemstone"), 1, "") -> #REF! | AP9: =IF(AND(OR(A9="simple", A9="variable"), AM9="Gemstone"), 1, "") -> #REF! | AQ9: =IF('work here'!AW8<>"","Plating","") | AR9: =IF('work here'!AW8<>"",'work here'!AW8,"") | AS9: =IF(AND(OR(A9="simple", A9="variable"), AQ9="Plating"), 1, "") | AT9: =IF(AND(OR(A9="simple", A9="variable"), AQ9="Plating"), 1, "") | AU9: =IF('work here'!AX8<>"","Material","") | AV9: =IF('work here'!AX8<>"",'work here'!AX8,"") | AW9: =IF(AND(OR(A9="simple", A9="variable"), AU9="Material"), 1, "") | AX9: =IF(AND(OR(A9="simple", A9="variable"), AU9="Material"), 1, "") | AY9: =IF('work here'!#REF!<>"","Look","") -> #REF! | AZ9: =IF('work here'!#REF!<>"",'work here'!#REF!,"") -> #REF! | BA9: =IF(AND(OR(A9="simple", A9="variable"), AY9="Look"), 1, "") -> #REF! | BB9: =IF(AND(OR(A9="simple", A9="variable"), AY9="Look"), 1, "") -> #REF! | BC9: =IF('work here'!#REF!<>"","Finish","") -> #REF! | BD9: =IF('work here'!#REF!<>"",'work here'!#REF!,"") -> #REF! | BE9: =IF(AND(OR(A9="simple", A9="variable"), BC9="Finish"), 1, "") -> #REF! | BF9: =IF(AND(OR(A9="simple", A9="variable"), BC9="Finish"), 1, "") -> #REF! | BG9: =IF('work here'!#REF!<>"","Care","") -> #REF! | BH9: =IF('work here'!#REF!<>"",'work here'!#REF!,"") -> #REF! | BI9: =IF(AND(OR(A9="simple", A9="variable"), BG9="Care"), 1, "") -> #REF! | BJ9: =IF(AND(OR(A9="simple", A9="variable"), BG9="Care"), 1, "") -> #REF! | BK9: =IF(OR('work here'!F8="Rings", 'work here'!F8="Bangles"), 'work here'!F8 & " Size", "") | BL9: =IF('work here'!#REF!<>"",'work here'!#REF!,"") -> #REF! | BM9: =IF(AND(OR(A9="simple", A9="variable"), OR(BK9="Rings Size", BK9="Bangles Size")), 1, "") | BN9: =IF(AND(OR(A9="simple", A9="variable"), OR(BK9="Rings Size", BK9="Bangles Size")), 1, "") | BO9: =IF(A9="variable", BL10, "")
A10: =IF('work here'!A9="simple","simple",IF('work here'!A9="parent","variable",IF('work here'!A9="child","variation",""))) | B10: =IF('work here'!C9<>"", 'work here'!C9, "") | C10: =IF('work here'!B9<>"", 'work here'!B9, "") | D10: =IF(A10<>"",1,"") | E10: =IF(A10<>"",0,"") | F10: =IF(A10<>"","visible","") | G10: =IF('work here'!#REF!<>"", 'work here'!#REF!, "") -> #REF! | I10: =IF('work here'!Z9<>"", 'work here'!Z9, "") | J10: =IF(A10<>"",2,"") | K10: =IF(A10<>"",0,"") | L10: =IF(A10<>"",0,"") | M10: =IF('work here'!AA9<>"", 'work here'!AA9, "") | N10: =IF('work here'!AD9<>"", 'work here'!AD9, "") | O10: =IF('work here'!AC9<>"", 'work here'!AC9, "") | P10: =IF('work here'!AB9<>"", 'work here'!AB9, "") | Q10: =IF(A10<>"",1,"") | S10: =IF('work here'!E9<>"", 'work here'!E9, "") | T10: =IF('work here'!#REF!<>"", 'work here'!#REF!, "") -> #REF! | U10: =IF(A10="", "", _xlfn.TEXTJOIN(", ", TRUE, "jewellery", "jewellery > " & 'work here'!F9, "jewellery > " & 'work here'!F9 & " > " & 'work here'!#REF!, 'work here'!#REF!, 'work here'!AY9, 'work here'!H9, 'work here'!I9, 'work here'!J9)) | V10: {=_xlfn.LET( _xlpm.yr, TEXT(TODAY(), "yyyy"), _xlpm.mn, TEXT(TODAY(), "mm"), _xlpm.path, "https://richlook.co.in/wp-content/uploads/" & _xlpm.yr & "/" & _xlpm.mn & "/", _xlpm.imgRange, 'work here'!N9:X9, _xlpm.imgLinks, IF(_xlpm.imgRange<>"", _xlpm.path & _xlpm.imgRange & ".webp", ""), _xlpm.urls, IF(A10="variable", _xlpm.imgLinks, IF(A10="variation", IF('work here'!N9<>"", _xlpm.path & 'work here'!N9 & ".webp", ""), IF(A10="simple", _xlpm.imgLinks, ""))), _xlfn.TEXTJOIN(", ", TRUE, _xlpm.urls) )} | W10: {=_xlfn.LET( _xlpm.yr, TEXT(TODAY(), "yyyy"), _xlpm.mn, TEXT(TODAY(), "mm"), _xlpm.path, "https://richlook.co.in/wp-content/uploads/" & _xlpm.yr & "/" & _xlpm.mn & "/", _xlpm.imgRange, 'work here'!O9:X9, _xlpm.imgLinks, IF(_xlpm.imgRange<>"", _xlpm.path & _xlpm.imgRange & ".webp", ""), _xlpm.urls, IF(A10="variable", "", IF(A10="variation", _xlpm.imgLinks, IF(A10="simple", "", ""))), _xlfn.TEXTJOIN(", ", TRUE, _xlpm.urls) )} | X10: =IF('work here'!D9<>"", 'work here'!D9, "") | Y10: =IF('work here'!#REF!<>"","color","") -> #REF! | Z10: =IF('work here'!#REF!<>"",'work here'!#REF!,"") -> #REF! | AA10: =IF(AND(OR(A10="simple", A10="variable"), Y10="color"), 1, "") -> #REF! | AB10: =IF(AND( Y10="color"), 1, "") -> #REF! | AC10: =IF(A10="variable", Z11, "") | AD10: =IF('work here'!#REF!<>"",'work here'!#REF!,"") -> #REF! | AE10: =IF('work here'!#REF!<>"",'work here'!#REF!,"") -> #REF! | AF10: =IF(AD10<>"", 1, "") -> #REF! | AG10: =IF(AD10<>"", 1, "") -> #REF! | AH10: =IF(A10="variable", AE11, "") | AI10: =IF('work here'!AE9<>"","Jewellery Work","") | AJ10: =IF('work here'!AE9<>"",'work here'!AE9,"") | AK10: =IF(AND(OR(A10="simple", A10="variable"), AI10="Jewellery Work"), 1, "") | AL10: =IF(AND(OR(A10="simple", A10="variable"), AI10="Jewellery Work"), 1, "") | AM10: =IF('work here'!#REF!<>"","Gemstone","") -> #REF! | AN10: =IF('work here'!#REF!<>"",'work here'!#REF!,"") -> #REF! | AO10: =IF(AND(OR(A10="simple", A10="variable"), AM10="Gemstone"), 1, "") -> #REF! | AP10: =IF(AND(OR(A10="simple", A10="variable"), AM10="Gemstone"), 1, "") -> #REF! | AQ10: =IF('work here'!AW9<>"","Plating","") | AR10: =IF('work here'!AW9<>"",'work here'!AW9,"") | AS10: =IF(AND(OR(A10="simple", A10="variable"), AQ10="Plating"), 1, "") | AT10: =IF(AND(OR(A10="simple", A10="variable"), AQ10="Plating"), 1, "") | AU10: =IF('work here'!AX9<>"","Material","") | AV10: =IF('work here'!AX9<>"",'work here'!AX9,"") | AW10: =IF(AND(OR(A10="simple", A10="variable"), AU10="Material"), 1, "") | AX10: =IF(AND(OR(A10="simple", A10="variable"), AU10="Material"), 1, "") | AY10: =IF('work here'!#REF!<>"","Look","") -> #REF! | AZ10: =IF('work here'!#REF!<>"",'work here'!#REF!,"") -> #REF! | BA10: =IF(AND(OR(A10="simple", A10="variable"), AY10="Look"), 1, "") -> #REF! | BB10: =IF(AND(OR(A10="simple", A10="variable"), AY10="Look"), 1, "") -> #REF! | BC10: =IF('work here'!#REF!<>"","Finish","") -> #REF! | BD10: =IF('work here'!#REF!<>"",'work here'!#REF!,"") -> #REF! | BE10: =IF(AND(OR(A10="simple", A10="variable"), BC10="Finish"), 1, "") -> #REF! | BF10: =IF(AND(OR(A10="simple", A10="variable"), BC10="Finish"), 1, "") -> #REF! | BG10: =IF('work here'!#REF!<>"","Care","") -> #REF! | BH10: =IF('work here'!#REF!<>"",'work here'!#REF!,"") -> #REF! | BI10: =IF(AND(OR(A10="simple", A10="variable"), BG10="Care"), 1, "") -> #REF! | BJ10: =IF(AND(OR(A10="simple", A10="variable"), BG10="Care"), 1, "") -> #REF! | BK10: =IF(OR('work here'!F9="Rings", 'work here'!F9="Bangles"), 'work here'!F9 & " Size", "") | BL10: =IF('work here'!#REF!<>"",'work here'!#REF!,"") -> #REF! | BM10: =IF(AND(OR(A10="simple", A10="variable"), OR(BK10="Rings Size", BK10="Bangles Size")), 1, "") | BN10: =IF(AND(OR(A10="simple", A10="variable"), OR(BK10="Rings Size", BK10="Bangles Size")), 1, "") | BO10: =IF(A10="variable", BL11, "")
A11: =IF('work here'!A10="simple","simple",IF('work here'!A10="parent","variable",IF('work here'!A10="child","variation",""))) | B11: =IF('work here'!C10<>"", 'work here'!C10, "") | C11: =IF('work here'!B10<>"", 'work here'!B10, "") | D11: =IF(A11<>"",1,"") | E11: =IF(A11<>"",0,"") | F11: =IF(A11<>"","visible","") | G11: =IF('work here'!#REF!<>"", 'work here'!#REF!, "") -> #REF! | I11: =IF('work here'!Z10<>"", 'work here'!Z10, "") | J11: =IF(A11<>"",2,"") | K11: =IF(A11<>"",0,"") | L11: =IF(A11<>"",0,"") | M11: =IF('work here'!AA10<>"", 'work here'!AA10, "") | N11: =IF('work here'!AD10<>"", 'work here'!AD10, "") | O11: =IF('work here'!AC10<>"", 'work here'!AC10, "") | P11: =IF('work here'!AB10<>"", 'work here'!AB10, "") | Q11: =IF(A11<>"",1,"") | S11: =IF('work here'!E10<>"", 'work here'!E10, "") | T11: =IF('work here'!#REF!<>"", 'work here'!#REF!, "") -> #REF! | U11: =IF(A11="", "", _xlfn.TEXTJOIN(", ", TRUE, "jewellery", "jewellery > " & 'work here'!F10, "jewellery > " & 'work here'!F10 & " > " & 'work here'!#REF!, 'work here'!#REF!, 'work here'!AY10, 'work here'!H10, 'work here'!I10, 'work here'!J10)) | V11: {=_xlfn.LET( _xlpm.yr, TEXT(TODAY(), "yyyy"), _xlpm.mn, TEXT(TODAY(), "mm"), _xlpm.path, "https://richlook.co.in/wp-content/uploads/" & _xlpm.yr & "/" & _xlpm.mn & "/", _xlpm.imgRange, 'work here'!N10:X10, _xlpm.imgLinks, IF(_xlpm.imgRange<>"", _xlpm.path & _xlpm.imgRange & ".webp", ""), _xlpm.urls, IF(A11="variable", _xlpm.imgLinks, IF(A11="variation", IF('work here'!N10<>"", _xlpm.path & 'work here'!N10 & ".webp", ""), IF(A11="simple", _xlpm.imgLinks, ""))), _xlfn.TEXTJOIN(", ", TRUE, _xlpm.urls) )} | W11: {=_xlfn.LET( _xlpm.yr, TEXT(TODAY(), "yyyy"), _xlpm.mn, TEXT(TODAY(), "mm"), _xlpm.path, "https://richlook.co.in/wp-content/uploads/" & _xlpm.yr & "/" & _xlpm.mn & "/", _xlpm.imgRange, 'work here'!O10:X10, _xlpm.imgLinks, IF(_xlpm.imgRange<>"", _xlpm.path & _xlpm.imgRange & ".webp", ""), _xlpm.urls, IF(A11="variable", "", IF(A11="variation", _xlpm.imgLinks, IF(A11="simple", "", ""))), _xlfn.TEXTJOIN(", ", TRUE, _xlpm.urls) )} | X11: =IF('work here'!D10<>"", 'work here'!D10, "") | Y11: =IF('work here'!#REF!<>"","color","") -> #REF! | Z11: =IF('work here'!#REF!<>"",'work here'!#REF!,"") -> #REF! | AA11: =IF(AND(OR(A11="simple", A11="variable"), Y11="color"), 1, "") -> #REF! | AB11: =IF(AND( Y11="color"), 1, "") -> #REF! | AC11: =IF(A11="variable", Z12, "") | AD11: =IF('work here'!#REF!<>"",'work here'!#REF!,"") -> #REF! | AE11: =IF('work here'!#REF!<>"",'work here'!#REF!,"") -> #REF! | AF11: =IF(AD11<>"", 1, "") -> #REF! | AG11: =IF(AD11<>"", 1, "") -> #REF! | AH11: =IF(A11="variable", AE12, "") | AI11: =IF('work here'!AE10<>"","Jewellery Work","") | AJ11: =IF('work here'!AE10<>"",'work here'!AE10,"") | AK11: =IF(AND(OR(A11="simple", A11="variable"), AI11="Jewellery Work"), 1, "") | AL11: =IF(AND(OR(A11="simple", A11="variable"), AI11="Jewellery Work"), 1, "") | AM11: =IF('work here'!#REF!<>"","Gemstone","") -> #REF! | AN11: =IF('work here'!#REF!<>"",'work here'!#REF!,"") -> #REF! | AO11: =IF(AND(OR(A11="simple", A11="variable"), AM11="Gemstone"), 1, "") -> #REF! | AP11: =IF(AND(OR(A11="simple", A11="variable"), AM11="Gemstone"), 1, "") -> #REF! | AQ11: =IF('work here'!AW10<>"","Plating","") | AR11: =IF('work here'!AW10<>"",'work here'!AW10,"") | AS11: =IF(AND(OR(A11="simple", A11="variable"), AQ11="Plating"), 1, "") | AT11: =IF(AND(OR(A11="simple", A11="variable"), AQ11="Plating"), 1, "") | AU11: =IF('work here'!AX10<>"","Material","") | AV11: =IF('work here'!AX10<>"",'work here'!AX10,"") | AW11: =IF(AND(OR(A11="simple", A11="variable"), AU11="Material"), 1, "") | AX11: =IF(AND(OR(A11="simple", A11="variable"), AU11="Material"), 1, "") | AY11: =IF('work here'!#REF!<>"","Look","") -> #REF! | AZ11: =IF('work here'!#REF!<>"",'work here'!#REF!,"") -> #REF! | BA11: =IF(AND(OR(A11="simple", A11="variable"), AY11="Look"), 1, "") -> #REF! | BB11: =IF(AND(OR(A11="simple", A11="variable"), AY11="Look"), 1, "") -> #REF! | BC11: =IF('work here'!#REF!<>"","Finish","") -> #REF! | BD11: =IF('work here'!#REF!<>"",'work here'!#REF!,"") -> #REF! | BE11: =IF(AND(OR(A11="simple", A11="variable"), BC11="Finish"), 1, "") -> #REF! | BF11: =IF(AND(OR(A11="simple", A11="variable"), BC11="Finish"), 1, "") -> #REF! | BG11: =IF('work here'!#REF!<>"","Care","") -> #REF! | BH11: =IF('work here'!#REF!<>"",'work here'!#REF!,"") -> #REF! | BI11: =IF(AND(OR(A11="simple", A11="variable"), BG11="Care"), 1, "") -> #REF! | BJ11: =IF(AND(OR(A11="simple", A11="variable"), BG11="Care"), 1, "") -> #REF! | BK11: =IF(OR('work here'!F10="Rings", 'work here'!F10="Bangles"), 'work here'!F10 & " Size", "") | BL11: =IF('work here'!#REF!<>"",'work here'!#REF!,"") -> #REF! | BM11: =IF(AND(OR(A11="simple", A11="variable"), OR(BK11="Rings Size", BK11="Bangles Size")), 1, "") | BN11: =IF(AND(OR(A11="simple", A11="variable"), OR(BK11="Rings Size", BK11="Bangles Size")), 1, "") | BO11: =IF(A11="variable", BL12, "")
A12: =IF('work here'!A11="simple","simple",IF('work here'!A11="parent","variable",IF('work here'!A11="child","variation",""))) | B12: =IF('work here'!C11<>"", 'work here'!C11, "") | C12: =IF('work here'!B11<>"", 'work here'!B11, "") | D12: =IF(A12<>"",1,"") | E12: =IF(A12<>"",0,"") | F12: =IF(A12<>"","visible","") | G12: =IF('work here'!#REF!<>"", 'work here'!#REF!, "") -> #REF! | I12: =IF('work here'!Z11<>"", 'work here'!Z11, "") | J12: =IF(A12<>"",2,"") | K12: =IF(A12<>"",0,"") | L12: =IF(A12<>"",0,"") | M12: =IF('work here'!AA11<>"", 'work here'!AA11, "") | N12: =IF('work here'!AD11<>"", 'work here'!AD11, "") | O12: =IF('work here'!AC11<>"", 'work here'!AC11, "") | P12: =IF('work here'!AB11<>"", 'work here'!AB11, "") | Q12: =IF(A12<>"",1,"") | S12: =IF('work here'!E11<>"", 'work here'!E11, "") | T12: =IF('work here'!#REF!<>"", 'work here'!#REF!, "") -> #REF! | U12: =IF(A12="", "", _xlfn.TEXTJOIN(", ", TRUE, "jewellery", "jewellery > " & 'work here'!F11, "jewellery > " & 'work here'!F11 & " > " & 'work here'!#REF!, 'work here'!#REF!, 'work here'!AY11, 'work here'!H11, 'work here'!I11, 'work here'!J11)) | V12: {=_xlfn.LET( _xlpm.yr, TEXT(TODAY(), "yyyy"), _xlpm.mn, TEXT(TODAY(), "mm"), _xlpm.path, "https://richlook.co.in/wp-content/uploads/" & _xlpm.yr & "/" & _xlpm.mn & "/", _xlpm.imgRange, 'work here'!N11:X11, _xlpm.imgLinks, IF(_xlpm.imgRange<>"", _xlpm.path & _xlpm.imgRange & ".webp", ""), _xlpm.urls, IF(A12="variable", _xlpm.imgLinks, IF(A12="variation", IF('work here'!N11<>"", _xlpm.path & 'work here'!N11 & ".webp", ""), IF(A12="simple", _xlpm.imgLinks, ""))), _xlfn.TEXTJOIN(", ", TRUE, _xlpm.urls) )} | W12: {=_xlfn.LET( _xlpm.yr, TEXT(TODAY(), "yyyy"), _xlpm.mn, TEXT(TODAY(), "mm"), _xlpm.path, "https://richlook.co.in/wp-content/uploads/" & _xlpm.yr & "/" & _xlpm.mn & "/", _xlpm.imgRange, 'work here'!O11:X11, _xlpm.imgLinks, IF(_xlpm.imgRange<>"", _xlpm.path & _xlpm.imgRange & ".webp", ""), _xlpm.urls, IF(A12="variable", "", IF(A12="variation", _xlpm.imgLinks, IF(A12="simple", "", ""))), _xlfn.TEXTJOIN(", ", TRUE, _xlpm.urls) )} | X12: =IF('work here'!D11<>"", 'work here'!D11, "") | Y12: =IF('work here'!#REF!<>"","color","") -> #REF! | Z12: =IF('work here'!#REF!<>"",'work here'!#REF!,"") -> #REF! | AA12: =IF(AND(OR(A12="simple", A12="variable"), Y12="color"), 1, "") -> #REF! | AB12: =IF(AND( Y12="color"), 1, "") -> #REF! | AC12: =IF(A12="variable", Z13, "") | AD12: =IF('work here'!#REF!<>"",'work here'!#REF!,"") -> #REF! | AE12: =IF('work here'!#REF!<>"",'work here'!#REF!,"") -> #REF! | AF12: =IF(AD12<>"", 1, "") -> #REF! | AG12: =IF(AD12<>"", 1, "") -> #REF! | AH12: =IF(A12="variable", AE13, "") | AI12: =IF('work here'!AE11<>"","Jewellery Work","") | AJ12: =IF('work here'!AE11<>"",'work here'!AE11,"") | AK12: =IF(AND(OR(A12="simple", A12="variable"), AI12="Jewellery Work"), 1, "") | AL12: =IF(AND(OR(A12="simple", A12="variable"), AI12="Jewellery Work"), 1, "") | AM12: =IF('work here'!#REF!<>"","Gemstone","") -> #REF! | AN12: =IF('work here'!#REF!<>"",'work here'!#REF!,"") -> #REF! | AO12: =IF(AND(OR(A12="simple", A12="variable"), AM12="Gemstone"), 1, "") -> #REF! | AP12: =IF(AND(OR(A12="simple", A12="variable"), AM12="Gemstone"), 1, "") -> #REF! | AQ12: =IF('work here'!AW11<>"","Plating","") | AR12: =IF('work here'!AW11<>"",'work here'!AW11,"") | AS12: =IF(AND(OR(A12="simple", A12="variable"), AQ12="Plating"), 1, "") | AT12: =IF(AND(OR(A12="simple", A12="variable"), AQ12="Plating"), 1, "") | AU12: =IF('work here'!AX11<>"","Material","") | AV12: =IF('work here'!AX11<>"",'work here'!AX11,"") | AW12: =IF(AND(OR(A12="simple", A12="variable"), AU12="Material"), 1, "") | AX12: =IF(AND(OR(A12="simple", A12="variable"), AU12="Material"), 1, "") | AY12: =IF('work here'!#REF!<>"","Look","") -> #REF! | AZ12: =IF('work here'!#REF!<>"",'work here'!#REF!,"") -> #REF! | BA12: =IF(AND(OR(A12="simple", A12="variable"), AY12="Look"), 1, "") -> #REF! | BB12: =IF(AND(OR(A12="simple", A12="variable"), AY12="Look"), 1, "") -> #REF! | BC12: =IF('work here'!#REF!<>"","Finish","") -> #REF! | BD12: =IF('work here'!#REF!<>"",'work here'!#REF!,"") -> #REF! | BE12: =IF(AND(OR(A12="simple", A12="variable"), BC12="Finish"), 1, "") -> #REF! | BF12: =IF(AND(OR(A12="simple", A12="variable"), BC12="Finish"), 1, "") -> #REF! | BG12: =IF('work here'!#REF!<>"","Care","") -> #REF! | BH12: =IF('work here'!#REF!<>"",'work here'!#REF!,"") -> #REF! | BI12: =IF(AND(OR(A12="simple", A12="variable"), BG12="Care"), 1, "") -> #REF! | BJ12: =IF(AND(OR(A12="simple", A12="variable"), BG12="Care"), 1, "") -> #REF! | BK12: =IF(OR('work here'!F11="Rings", 'work here'!F11="Bangles"), 'work here'!F11 & " Size", "") | BL12: =IF('work here'!#REF!<>"",'work here'!#REF!,"") -> #REF! | BM12: =IF(AND(OR(A12="simple", A12="variable"), OR(BK12="Rings Size", BK12="Bangles Size")), 1, "") | BN12: =IF(AND(OR(A12="simple", A12="variable"), OR(BK12="Rings Size", BK12="Bangles Size")), 1, "") | BO12: =IF(A12="variable", BL13, "")
A13: =IF('work here'!A12="simple","simple",IF('work here'!A12="parent","variable",IF('work here'!A12="child","variation",""))) | B13: =IF('work here'!C12<>"", 'work here'!C12, "") | C13: =IF('work here'!B12<>"", 'work here'!B12, "") | D13: =IF(A13<>"",1,"") | E13: =IF(A13<>"",0,"") | F13: =IF(A13<>"","visible","") | G13: =IF('work here'!#REF!<>"", 'work here'!#REF!, "") -> #REF! | I13: =IF('work here'!Z12<>"", 'work here'!Z12, "") | J13: =IF(A13<>"",2,"") | K13: =IF(A13<>"",0,"") | L13: =IF(A13<>"",0,"") | M13: =IF('work here'!AA12<>"", 'work here'!AA12, "") | N13: =IF('work here'!AD12<>"", 'work here'!AD12, "") | O13: =IF('work here'!AC12<>"", 'work here'!AC12, "") | P13: =IF('work here'!AB12<>"", 'work here'!AB12, "") | Q13: =IF(A13<>"",1,"") | S13: =IF('work here'!E12<>"", 'work here'!E12, "") | T13: =IF('work here'!#REF!<>"", 'work here'!#REF!, "") -> #REF! | U13: =IF(A13="", "", _xlfn.TEXTJOIN(", ", TRUE, "jewellery", "jewellery > " & 'work here'!F12, "jewellery > " & 'work here'!F12 & " > " & 'work here'!#REF!, 'work here'!#REF!, 'work here'!AY12, 'work here'!H12, 'work here'!I12, 'work here'!J12)) | V13: {=_xlfn.LET( _xlpm.yr, TEXT(TODAY(), "yyyy"), _xlpm.mn, TEXT(TODAY(), "mm"), _xlpm.path, "https://richlook.co.in/wp-content/uploads/" & _xlpm.yr & "/" & _xlpm.mn & "/", _xlpm.imgRange, 'work here'!N12:X12, _xlpm.imgLinks, IF(_xlpm.imgRange<>"", _xlpm.path & _xlpm.imgRange & ".webp", ""), _xlpm.urls, IF(A13="variable", _xlpm.imgLinks, IF(A13="variation", IF('work here'!N12<>"", _xlpm.path & 'work here'!N12 & ".webp", ""), IF(A13="simple", _xlpm.imgLinks, ""))), _xlfn.TEXTJOIN(", ", TRUE, _xlpm.urls) )} | W13: {=_xlfn.LET( _xlpm.yr, TEXT(TODAY(), "yyyy"), _xlpm.mn, TEXT(TODAY(), "mm"), _xlpm.path, "https://richlook.co.in/wp-content/uploads/" & _xlpm.yr & "/" & _xlpm.mn & "/", _xlpm.imgRange, 'work here'!O12:X12, _xlpm.imgLinks, IF(_xlpm.imgRange<>"", _xlpm.path & _xlpm.imgRange & ".webp", ""), _xlpm.urls, IF(A13="variable", "", IF(A13="variation", _xlpm.imgLinks, IF(A13="simple", "", ""))), _xlfn.TEXTJOIN(", ", TRUE, _xlpm.urls) )} | X13: =IF('work here'!D12<>"", 'work here'!D12, "") | Y13: =IF('work here'!#REF!<>"","color","") -> #REF! | Z13: =IF('work here'!#REF!<>"",'work here'!#REF!,"") -> #REF! | AA13: =IF(AND(OR(A13="simple", A13="variable"), Y13="color"), 1, "") -> #REF! | AB13: =IF(AND( Y13="color"), 1, "") -> #REF! | AC13: =IF(A13="variable", Z14, "") | AD13: =IF('work here'!#REF!<>"",'work here'!#REF!,"") -> #REF! | AE13: =IF('work here'!#REF!<>"",'work here'!#REF!,"") -> #REF! | AF13: =IF(AD13<>"", 1, "") -> #REF! | AG13: =IF(AD13<>"", 1, "") -> #REF! | AH13: =IF(A13="variable", AE14, "") | AI13: =IF('work here'!AE12<>"","Jewellery Work","") | AJ13: =IF('work here'!AE12<>"",'work here'!AE12,"") | AK13: =IF(AND(OR(A13="simple", A13="variable"), AI13="Jewellery Work"), 1, "") | AL13: =IF(AND(OR(A13="simple", A13="variable"), AI13="Jewellery Work"), 1, "") | AM13: =IF('work here'!#REF!<>"","Gemstone","") -> #REF! | AN13: =IF('work here'!#REF!<>"",'work here'!#REF!,"") -> #REF! | AO13: =IF(AND(OR(A13="simple", A13="variable"), AM13="Gemstone"), 1, "") -> #REF! | AP13: =IF(AND(OR(A13="simple", A13="variable"), AM13="Gemstone"), 1, "") -> #REF! | AQ13: =IF('work here'!AW12<>"","Plating","") | AR13: =IF('work here'!AW12<>"",'work here'!AW12,"") | AS13: =IF(AND(OR(A13="simple", A13="variable"), AQ13="Plating"), 1, "") | AT13: =IF(AND(OR(A13="simple", A13="variable"), AQ13="Plating"), 1, "") | AU13: =IF('work here'!AX12<>"","Material","") | AV13: =IF('work here'!AX12<>"",'work here'!AX12,"") | AW13: =IF(AND(OR(A13="simple", A13="variable"), AU13="Material"), 1, "") | AX13: =IF(AND(OR(A13="simple", A13="variable"), AU13="Material"), 1, "") | AY13: =IF('work here'!#REF!<>"","Look","") -> #REF! | AZ13: =IF('work here'!#REF!<>"",'work here'!#REF!,"") -> #REF! | BA13: =IF(AND(OR(A13="simple", A13="variable"), AY13="Look"), 1, "") -> #REF! | BB13: =IF(AND(OR(A13="simple", A13="variable"), AY13="Look"), 1, "") -> #REF! | BC13: =IF('work here'!#REF!<>"","Finish","") -> #REF! | BD13: =IF('work here'!#REF!<>"",'work here'!#REF!,"") -> #REF! | BE13: =IF(AND(OR(A13="simple", A13="variable"), BC13="Finish"), 1, "") -> #REF! | BF13: =IF(AND(OR(A13="simple", A13="variable"), BC13="Finish"), 1, "") -> #REF! | BG13: =IF('work here'!#REF!<>"","Care","") -> #REF! | BH13: =IF('work here'!#REF!<>"",'work here'!#REF!,"") -> #REF! | BI13: =IF(AND(OR(A13="simple", A13="variable"), BG13="Care"), 1, "") -> #REF! | BJ13: =IF(AND(OR(A13="simple", A13="variable"), BG13="Care"), 1, "") -> #REF! | BK13: =IF(OR('work here'!F12="Rings", 'work here'!F12="Bangles"), 'work here'!F12 & " Size", "") | BL13: =IF('work here'!#REF!<>"",'work here'!#REF!,"") -> #REF! | BM13: =IF(AND(OR(A13="simple", A13="variable"), OR(BK13="Rings Size", BK13="Bangles Size")), 1, "") | BN13: =IF(AND(OR(A13="simple", A13="variable"), OR(BK13="Rings Size", BK13="Bangles Size")), 1, "") | BO13: =IF(A13="variable", BL14, "")
A14: =IF('work here'!A13="simple","simple",IF('work here'!A13="parent","variable",IF('work here'!A13="child","variation",""))) | B14: =IF('work here'!C13<>"", 'work here'!C13, "") | C14: =IF('work here'!B13<>"", 'work here'!B13, "") | D14: =IF(A14<>"",1,"") | E14: =IF(A14<>"",0,"") | F14: =IF(A14<>"","visible","") | G14: =IF('work here'!#REF!<>"", 'work here'!#REF!, "") -> #REF! | I14: =IF('work here'!Z13<>"", 'work here'!Z13, "") | J14: =IF(A14<>"",2,"") | K14: =IF(A14<>"",0,"") | L14: =IF(A14<>"",0,"") | M14: =IF('work here'!AA13<>"", 'work here'!AA13, "") | N14: =IF('work here'!AD13<>"", 'work here'!AD13, "") | O14: =IF('work here'!AC13<>"", 'work here'!AC13, "") | P14: =IF('work here'!AB13<>"", 'work here'!AB13, "") | Q14: =IF(A14<>"",1,"") | S14: =IF('work here'!E13<>"", 'work here'!E13, "") | T14: =IF('work here'!#REF!<>"", 'work here'!#REF!, "") -> #REF! | U14: =IF(A14="", "", _xlfn.TEXTJOIN(", ", TRUE, "jewellery", "jewellery > " & 'work here'!F13, "jewellery > " & 'work here'!F13 & " > " & 'work here'!#REF!, 'work here'!#REF!, 'work here'!AY13, 'work here'!H13, 'work here'!I13, 'work here'!J13)) | V14: {=_xlfn.LET( _xlpm.yr, TEXT(TODAY(), "yyyy"), _xlpm.mn, TEXT(TODAY(), "mm"), _xlpm.path, "https://richlook.co.in/wp-content/uploads/" & _xlpm.yr & "/" & _xlpm.mn & "/", _xlpm.imgRange, 'work here'!N13:X13, _xlpm.imgLinks, IF(_xlpm.imgRange<>"", _xlpm.path & _xlpm.imgRange & ".webp", ""), _xlpm.urls, IF(A14="variable", _xlpm.imgLinks, IF(A14="variation", IF('work here'!N13<>"", _xlpm.path & 'work here'!N13 & ".webp", ""), IF(A14="simple", _xlpm.imgLinks, ""))), _xlfn.TEXTJOIN(", ", TRUE, _xlpm.urls) )} | W14: {=_xlfn.LET( _xlpm.yr, TEXT(TODAY(), "yyyy"), _xlpm.mn, TEXT(TODAY(), "mm"), _xlpm.path, "https://richlook.co.in/wp-content/uploads/" & _xlpm.yr & "/" & _xlpm.mn & "/", _xlpm.imgRange, 'work here'!O13:X13, _xlpm.imgLinks, IF(_xlpm.imgRange<>"", _xlpm.path & _xlpm.imgRange & ".webp", ""), _xlpm.urls, IF(A14="variable", "", IF(A14="variation", _xlpm.imgLinks, IF(A14="simple", "", ""))), _xlfn.TEXTJOIN(", ", TRUE, _xlpm.urls) )} | X14: =IF('work here'!D13<>"", 'work here'!D13, "") | Y14: =IF('work here'!#REF!<>"","color","") -> #REF! | Z14: =IF('work here'!#REF!<>"",'work here'!#REF!,"") -> #REF! | AA14: =IF(AND(OR(A14="simple", A14="variable"), Y14="color"), 1, "") -> #REF! | AB14: =IF(AND( Y14="color"), 1, "") -> #REF! | AC14: =IF(A14="variable", Z15, "") | AD14: =IF('work here'!#REF!<>"",'work here'!#REF!,"") -> #REF! | AE14: =IF('work here'!#REF!<>"",'work here'!#REF!,"") -> #REF! | AF14: =IF(AD14<>"", 1, "") -> #REF! | AG14: =IF(AD14<>"", 1, "") -> #REF! | AH14: =IF(A14="variable", AE15, "") | AI14: =IF('work here'!AE13<>"","Jewellery Work","") | AJ14: =IF('work here'!AE13<>"",'work here'!AE13,"") | AK14: =IF(AND(OR(A14="simple", A14="variable"), AI14="Jewellery Work"), 1, "") | AL14: =IF(AND(OR(A14="simple", A14="variable"), AI14="Jewellery Work"), 1, "") | AM14: =IF('work here'!#REF!<>"","Gemstone","") -> #REF! | AN14: =IF('work here'!#REF!<>"",'work here'!#REF!,"") -> #REF! | AO14: =IF(AND(OR(A14="simple", A14="variable"), AM14="Gemstone"), 1, "") -> #REF! | AP14: =IF(AND(OR(A14="simple", A14="variable"), AM14="Gemstone"), 1, "") -> #REF! | AQ14: =IF('work here'!AW13<>"","Plating","") | AR14: =IF('work here'!AW13<>"",'work here'!AW13,"") | AS14: =IF(AND(OR(A14="simple", A14="variable"), AQ14="Plating"), 1, "") | AT14: =IF(AND(OR(A14="simple", A14="variable"), AQ14="Plating"), 1, "") | AU14: =IF('work here'!AX13<>"","Material","") | AV14: =IF('work here'!AX13<>"",'work here'!AX13,"") | AW14: =IF(AND(OR(A14="simple", A14="variable"), AU14="Material"), 1, "") | AX14: =IF(AND(OR(A14="simple", A14="variable"), AU14="Material"), 1, "") | AY14: =IF('work here'!#REF!<>"","Look","") -> #REF! | AZ14: =IF('work here'!#REF!<>"",'work here'!#REF!,"") -> #REF! | BA14: =IF(AND(OR(A14="simple", A14="variable"), AY14="Look"), 1, "") -> #REF! | BB14: =IF(AND(OR(A14="simple", A14="variable"), AY14="Look"), 1, "") -> #REF! | BC14: =IF('work here'!#REF!<>"","Finish","") -> #REF! | BD14: =IF('work here'!#REF!<>"",'work here'!#REF!,"") -> #REF! | BE14: =IF(AND(OR(A14="simple", A14="variable"), BC14="Finish"), 1, "") -> #REF! | BF14: =IF(AND(OR(A14="simple", A14="variable"), BC14="Finish"), 1, "") -> #REF! | BG14: =IF('work here'!#REF!<>"","Care","") -> #REF! | BH14: =IF('work here'!#REF!<>"",'work here'!#REF!,"") -> #REF! | BI14: =IF(AND(OR(A14="simple", A14="variable"), BG14="Care"), 1, "") -> #REF! | BJ14: =IF(AND(OR(A14="simple", A14="variable"), BG14="Care"), 1, "") -> #REF! | BK14: =IF(OR('work here'!F13="Rings", 'work here'!F13="Bangles"), 'work here'!F13 & " Size", "") | BL14: =IF('work here'!#REF!<>"",'work here'!#REF!,"") -> #REF! | BM14: =IF(AND(OR(A14="simple", A14="variable"), OR(BK14="Rings Size", BK14="Bangles Size")), 1, "") | BN14: =IF(AND(OR(A14="simple", A14="variable"), OR(BK14="Rings Size", BK14="Bangles Size")), 1, "") | BO14: =IF(A14="variable", BL15, "")
A15: =IF('work here'!A14="simple","simple",IF('work here'!A14="parent","variable",IF('work here'!A14="child","variation",""))) | B15: =IF('work here'!C14<>"", 'work here'!C14, "") | C15: =IF('work here'!B14<>"", 'work here'!B14, "") | D15: =IF(A15<>"",1,"") | E15: =IF(A15<>"",0,"") | F15: =IF(A15<>"","visible","") | G15: =IF('work here'!#REF!<>"", 'work here'!#REF!, "") -> #REF! | I15: =IF('work here'!Z14<>"", 'work here'!Z14, "") | J15: =IF(A15<>"",2,"") | K15: =IF(A15<>"",0,"") | L15: =IF(A15<>"",0,"") | M15: =IF('work here'!AA14<>"", 'work here'!AA14, "") | N15: =IF('work here'!AD14<>"", 'work here'!AD14, "") | O15: =IF('work here'!AC14<>"", 'work here'!AC14, "") | P15: =IF('work here'!AB14<>"", 'work here'!AB14, "") | Q15: =IF(A15<>"",1,"") | S15: =IF('work here'!E14<>"", 'work here'!E14, "") | T15: =IF('work here'!#REF!<>"", 'work here'!#REF!, "") -> #REF! | U15: =IF(A15="", "", _xlfn.TEXTJOIN(", ", TRUE, "jewellery", "jewellery > " & 'work here'!F14, "jewellery > " & 'work here'!F14 & " > " & 'work here'!#REF!, 'work here'!#REF!, 'work here'!AY14, 'work here'!H14, 'work here'!I14, 'work here'!J14)) | V15: {=_xlfn.LET( _xlpm.yr, TEXT(TODAY(), "yyyy"), _xlpm.mn, TEXT(TODAY(), "mm"), _xlpm.path, "https://richlook.co.in/wp-content/uploads/" & _xlpm.yr & "/" & _xlpm.mn & "/", _xlpm.imgRange, 'work here'!N14:X14, _xlpm.imgLinks, IF(_xlpm.imgRange<>"", _xlpm.path & _xlpm.imgRange & ".webp", ""), _xlpm.urls, IF(A15="variable", _xlpm.imgLinks, IF(A15="variation", IF('work here'!N14<>"", _xlpm.path & 'work here'!N14 & ".webp", ""), IF(A15="simple", _xlpm.imgLinks, ""))), _xlfn.TEXTJOIN(", ", TRUE, _xlpm.urls) )} | W15: {=_xlfn.LET( _xlpm.yr, TEXT(TODAY(), "yyyy"), _xlpm.mn, TEXT(TODAY(), "mm"), _xlpm.path, "https://richlook.co.in/wp-content/uploads/" & _xlpm.yr & "/" & _xlpm.mn & "/", _xlpm.imgRange, 'work here'!O14:X14, _xlpm.imgLinks, IF(_xlpm.imgRange<>"", _xlpm.path & _xlpm.imgRange & ".webp", ""), _xlpm.urls, IF(A15="variable", "", IF(A15="variation", _xlpm.imgLinks, IF(A15="simple", "", ""))), _xlfn.TEXTJOIN(", ", TRUE, _xlpm.urls) )} | X15: =IF('work here'!D14<>"", 'work here'!D14, "") | Y15: =IF('work here'!#REF!<>"","color","") -> #REF! | Z15: =IF('work here'!#REF!<>"",'work here'!#REF!,"") -> #REF! | AA15: =IF(AND(OR(A15="simple", A15="variable"), Y15="color"), 1, "") -> #REF! | AB15: =IF(AND( Y15="color"), 1, "") -> #REF! | AC15: =IF(A15="variable", Z16, "") | AD15: =IF('work here'!#REF!<>"",'work here'!#REF!,"") -> #REF! | AE15: =IF('work here'!#REF!<>"",'work here'!#REF!,"") -> #REF! | AF15: =IF(AD15<>"", 1, "") -> #REF! | AG15: =IF(AD15<>"", 1, "") -> #REF! | AH15: =IF(A15="variable", AE16, "") | AI15: =IF('work here'!AE14<>"","Jewellery Work","") | AJ15: =IF('work here'!AE14<>"",'work here'!AE14,"") | AK15: =IF(AND(OR(A15="simple", A15="variable"), AI15="Jewellery Work"), 1, "") | AL15: =IF(AND(OR(A15="simple", A15="variable"), AI15="Jewellery Work"), 1, "") | AM15: =IF('work here'!#REF!<>"","Gemstone","") -> #REF! | AN15: =IF('work here'!#REF!<>"",'work here'!#REF!,"") -> #REF! | AO15: =IF(AND(OR(A15="simple", A15="variable"), AM15="Gemstone"), 1, "") -> #REF! | AP15: =IF(AND(OR(A15="simple", A15="variable"), AM15="Gemstone"), 1, "") -> #REF! | AQ15: =IF('work here'!AW14<>"","Plating","") | AR15: =IF('work here'!AW14<>"",'work here'!AW14,"") | AS15: =IF(AND(OR(A15="simple", A15="variable"), AQ15="Plating"), 1, "") | AT15: =IF(AND(OR(A15="simple", A15="variable"), AQ15="Plating"), 1, "") | AU15: =IF('work here'!AX14<>"","Material","") | AV15: =IF('work here'!AX14<>"",'work here'!AX14,"") | AW15: =IF(AND(OR(A15="simple", A15="variable"), AU15="Material"), 1, "") | AX15: =IF(AND(OR(A15="simple", A15="variable"), AU15="Material"), 1, "") | AY15: =IF('work here'!#REF!<>"","Look","") -> #REF! | AZ15: =IF('work here'!#REF!<>"",'work here'!#REF!,"") -> #REF! | BA15: =IF(AND(OR(A15="simple", A15="variable"), AY15="Look"), 1, "") -> #REF! | BB15: =IF(AND(OR(A15="simple", A15="variable"), AY15="Look"), 1, "") -> #REF! | BC15: =IF('work here'!#REF!<>"","Finish","") -> #REF! | BD15: =IF('work here'!#REF!<>"",'work here'!#REF!,"") -> #REF! | BE15: =IF(AND(OR(A15="simple", A15="variable"), BC15="Finish"), 1, "") -> #REF! | BF15: =IF(AND(OR(A15="simple", A15="variable"), BC15="Finish"), 1, "") -> #REF! | BG15: =IF('work here'!#REF!<>"","Care","") -> #REF! | BH15: =IF('work here'!#REF!<>"",'work here'!#REF!,"") -> #REF! | BI15: =IF(AND(OR(A15="simple", A15="variable"), BG15="Care"), 1, "") -> #REF! | BJ15: =IF(AND(OR(A15="simple", A15="variable"), BG15="Care"), 1, "") -> #REF! | BK15: =IF(OR('work here'!F14="Rings", 'work here'!F14="Bangles"), 'work here'!F14 & " Size", "") | BL15: =IF('work here'!#REF!<>"",'work here'!#REF!,"") -> #REF! | BM15: =IF(AND(OR(A15="simple", A15="variable"), OR(BK15="Rings Size", BK15="Bangles Size")), 1, "") | BN15: =IF(AND(OR(A15="simple", A15="variable"), OR(BK15="Rings Size", BK15="Bangles Size")), 1, "") | BO15: =IF(A15="variable", BL16, "")
... A1001: =IF('work here'!A1000="simple","simple",IF('work here'!A1000="parent","variable",IF('work here'!A1000="child","variation",""))) | B1001: =IF('work here'!C1000<>"", 'work here'!C1000, "") | C1001: =IF('work here'!B1000<>"", 'work here'!B1000, "") | D1001: =IF(A1001<>"",1,"") | E1001: =IF(A1001<>"",0,"") | F1001: =IF(A1001<>"","visible","") | G1001: =IF('work here'!#REF!<>"", 'work here'!#REF!, "") -> #REF! | I1001: =IF('work here'!Z1000<>"", 'work here'!Z1000, "") | J1001: =IF(A1001<>"",2,"") | K1001: =IF(A1001<>"",0,"") | L1001: =IF(A1001<>"",0,"") | M1001: =IF('work here'!AA1000<>"", 'work here'!AA1000, "") | N1001: =IF('work here'!AD1000<>"", 'work here'!AD1000, "") | O1001: =IF('work here'!AC1000<>"", 'work here'!AC1000, "") | P1001: =IF('work here'!AB1000<>"", 'work here'!AB1000, "") | Q1001: =IF(A1001<>"",1,"") | S1001: =IF('work here'!E1000<>"", 'work here'!E1000, "") | T1001: =IF('work here'!#REF!<>"", 'work here'!#REF!, "") -> #REF! | U1001: =IF(A1001="", "", _xlfn.TEXTJOIN(", ", TRUE, "jewellery", "jewellery > " & 'work here'!F1000, "jewellery > " & 'work here'!F1000 & " > " & 'work here'!#REF!, 'work here'!#REF!, 'work here'!AY1000, 'work here'!H1000, 'work here'!I1000, 'work here'!J1000)) | V1001: {=_xlfn.LET( _xlpm.yr, TEXT(TODAY(), "yyyy"), _xlpm.mn, TEXT(TODAY(), "mm"), _xlpm.path, "https://richlook.co.in/wp-content/uploads/" & _xlpm.yr & "/" & _xlpm.mn & "/", _xlpm.imgRange, 'work here'!N1000:X1000, _xlpm.imgLinks, IF(_xlpm.imgRange<>"", _xlpm.path & _xlpm.imgRange & ".webp", ""), _xlpm.urls, IF(A1001="variable", _xlpm.imgLinks, IF(A1001="variation", IF('work here'!N1000<>"", _xlpm.path & 'work here'!N1000 & ".webp", ""), IF(A1001="simple", _xlpm.imgLinks, ""))), _xlfn.TEXTJOIN(", ", TRUE, _xlpm.urls) )} | W1001: {=_xlfn.LET( _xlpm.yr, TEXT(TODAY(), "yyyy"), _xlpm.mn, TEXT(TODAY(), "mm"), _xlpm.path, "https://richlook.co.in/wp-content/uploads/" & _xlpm.yr & "/" & _xlpm.mn & "/", _xlpm.imgRange, 'work here'!O1000:X1000, _xlpm.imgLinks, IF(_xlpm.imgRange<>"", _xlpm.path & _xlpm.imgRange & ".webp", ""), _xlpm.urls, IF(A1001="variable", "", IF(A1001="variation", _xlpm.imgLinks, IF(A1001="simple", "", ""))), _xlfn.TEXTJOIN(", ", TRUE, _xlpm.urls) )} | X1001: =IF('work here'!D1000<>"", 'work here'!D1000, "") | Y1001: =IF('work here'!#REF!<>"","color","") -> #REF! | Z1001: =IF('work here'!#REF!<>"",'work here'!#REF!,"") -> #REF! | AA1001: =IF(AND(OR(A1001="simple", A1001="variable"), Y1001="color"), 1, "") -> #REF! | AB1001: =IF(AND( Y1001="color"), 1, "") -> #REF! | AC1001: =IF(A1001="variable", Z1002, "") | AD1001: =IF('work here'!#REF!<>"",'work here'!#REF!,"") -> #REF! | AE1001: =IF('work here'!#REF!<>"",'work here'!#REF!,"") -> #REF! | AF1001: =IF(AD1001<>"", 1, "") -> #REF! | AG1001: =IF(AD1001<>"", 1, "") -> #REF! | AH1001: =IF(A1001="variable", AE1002, "") | AI1001: =IF('work here'!AE1000<>"","Jewellery Work","") | AJ1001: =IF('work here'!AE1000<>"",'work here'!AE1000,"") | AK1001: =IF(AND(OR(A1001="simple", A1001="variable"), AI1001="Jewellery Work"), 1, "") | AL1001: =IF(AND(OR(A1001="simple", A1001="variable"), AI1001="Jewellery Work"), 1, "") | AM1001: =IF('work here'!#REF!<>"","Gemstone","") -> #REF! | AN1001: =IF('work here'!#REF!<>"",'work here'!#REF!,"") -> #REF! | AO1001: =IF(AND(OR(A1001="simple", A1001="variable"), AM1001="Gemstone"), 1, "") -> #REF! | AP1001: =IF(AND(OR(A1001="simple", A1001="variable"), AM1001="Gemstone"), 1, "") -> #REF! | AQ1001: =IF('work here'!AW1000<>"","Plating","") | AR1001: =IF('work here'!AW1000<>"",'work here'!AW1000,"") | AS1001: =IF(AND(OR(A1001="simple", A1001="variable"), AQ1001="Plating"), 1, "") | AT1001: =IF(AND(OR(A1001="simple", A1001="variable"), AQ1001="Plating"), 1, "") | AU1001: =IF('work here'!AX1000<>"","Material","") | AV1001: =IF('work here'!AX1000<>"",'work here'!AX1000,"") | AW1001: =IF(AND(OR(A1001="simple", A1001="variable"), AU1001="Material"), 1, "") | AX1001: =IF(AND(OR(A1001="simple", A1001="variable"), AU1001="Material"), 1, "") | AY1001: =IF('work here'!#REF!<>"","Look","") -> #REF! | AZ1001: =IF('work here'!#REF!<>"",'work here'!#REF!,"") -> #REF! | BA1001: =IF(AND(OR(A1001="simple", A1001="variable"), AY1001="Look"), 1, "") -> #REF! | BB1001: =IF(AND(OR(A1001="simple", A1001="variable"), AY1001="Look"), 1, "") -> #REF! | BC1001: =IF('work here'!#REF!<>"","Finish","") -> #REF! | BD1001: =IF('work here'!#REF!<>"",'work here'!#REF!,"") -> #REF! | BE1001: =IF(AND(OR(A1001="simple", A1001="variable"), BC1001="Finish"), 1, "") -> #REF! | BF1001: =IF(AND(OR(A1001="simple", A1001="variable"), BC1001="Finish"), 1, "") -> #REF! | BG1001: =IF('work here'!#REF!<>"","Care","") -> #REF! | BH1001: =IF('work here'!#REF!<>"",'work here'!#REF!,"") -> #REF! | BI1001: =IF(AND(OR(A1001="simple", A1001="variable"), BG1001="Care"), 1, "") -> #REF! | BJ1001: =IF(AND(OR(A1001="simple", A1001="variable"), BG1001="Care"), 1, "") -> #REF! | BK1001: =IF(OR('work here'!F1000="Rings", 'work here'!F1000="Bangles"), 'work here'!F1000 & " Size", "") | BL1001: =IF('work here'!#REF!<>"",'work here'!#REF!,"") -> #REF! | BM1001: =IF(AND(OR(A1001="simple", A1001="variable"), OR(BK1001="Rings Size", BK1001="Bangles Size")), 1, "") | BN1001: =IF(AND(OR(A1001="simple", A1001="variable"), OR(BK1001="Rings Size", BK1001="Bangles Size")), 1, "") | BO1001: =IF(A1001="variable", BL1002, "")

Sheet vba code for rings and bangles
A1: Sub InsertChildRowsWithRingSizesInBB() Dim ws As Worksheet Set ws = ThisWorkbook.Sheets("work here") ' Updated sheet name Dim lastRow As Long lastRow = ws.Cells(ws.Rows.Count, "A").End(xlUp).Row Dim i As Long Dim parentSKU As String Dim childIndex As Long Dim filledCount As Long Dim col As Long Dim tempSize As Variant Dim sizeOutputCol As Long: sizeOutputCol = ws.Range("BB1").Column ' Output = BB Dim startCol As Long: startCol = ws.Range("AQ1").Column ' Size starts at AQ Dim endCol As Long: endCol = ws.Range("BA1").Column ' Size ends at BA ' Loop bottom to top For i = lastRow To 1 Step -1 If Trim(ws.Cells(i, 1).Value) = "Parent" Then ' Step 1: Collect size values from AQ to BA Dim sizeList As Collection Set sizeList = New Collection For col = startCol To endCol tempSize = Trim(ws.Cells(i, col).Value) If tempSize <> "" Then sizeList.Add tempSize End If Next col filledCount = sizeList.Count If filledCount > 0 Then ' Step 2: Write merged size string in BB Dim joinedSizes As String joinedSizes = "" For Each tempSize In sizeList joinedSizes = joinedSizes & tempSize & ", " Next tempSize joinedSizes = Left(joinedSizes, Len(joinedSizes) - 2) ws.Cells(i, sizeOutputCol).Value = joinedSizes ' Step 3: Clear AQ to BA ws.Range(ws.Cells(i, startCol), ws.Cells(i, endCol)).ClearContents ' Step 4: Insert child rows parentSKU = Trim(ws.Cells(i, 3).Value) ws.Rows(i + 1 & ":" & i + filledCount).Insert Shift:=xlDown ' Step 5: Fill child rows For childIndex = 1 To filledCount ' Copy A to F ws.Range(ws.Cells(i, 1), ws.Cells(i, 6)).Copy _ Destination:=ws.Cells(i + childIndex, 1) ' Set child values ws.Cells(i + childIndex, 1).Value = "Child" ws.Cells(i + childIndex, 3).Value = parentSKU & "-" & childIndex ws.Cells(i + childIndex, 4).Value = parentSKU ws.Cells(i + childIndex, sizeOutputCol).Value = sizeList(childIndex) Next childIndex End If End If Next i MsgBox "Child rows created with ring sizes in column BB.", vbInformation End Sub

Sheet valid values
A1: type | B1: Collection / Look | C1: Color | D1: Material | E1: Jewellery Work | F1: Gemstones | G1: Stone Shape | H1: Pearl Type | I1: pearl_shape | J1: necklace_type | K1: Ornamentation Type | L1: Clasp Type | M1: Trend | N1: Style | O1: design | P1: ocassion | Q1: gift for | R1: tags | S1: Package Contains | T1: Pandent shape
A2: simple | B2: Ethnic | C2: Beige | D2: Alloy | E2: Stone | F2: Agate | G2: Asscher | H2: Abalone Pearl | I2: Ball | J2: Chain Necklace | K2: Beads | L2: Ball | M2: Afghani | N2: Bib Necklace | O2: Bohemian | P2: Jewellery > Occasion > diwali-jewellery | Q2: Jewellery > Occasion > Gift For Mom | R2: rajasthani jewellery full set | S2: Necklace | T2: Alphabet
A3: Parent | B3: Contemporary | C3: Black | D3: Brass | E3: American Diamonds | F3: Alexandrite | G3: Baguette | H3: Akoya Cultured Pearl | I3: Bar | J3: Pendant Necklace | K3: Coins | L3: Barrel | M3: Antique Picks | N3: Choker | O3: Botanical | P3: Jewellery > Occasion > eid-jewellery | Q3: Jewellery > Occasion > Gift For Wife | R3: marathi jewellery set for women bridal wedding | S3: Pendant | T3: Anchor
A4: Child | B4: Modern Fusion | C4: Blue | D4: Ceramic | E4: Beaded | F4: Amber | G4: Bullet | H4: Basra Pearl | I4: Bismark | J4: Choker Necklace | K4: Cutwork/Filigree | L4: Bayonet | M4: Boho | N4: Layered Necklace | O4: Chunky | P4: Jewellery > Occasion > ganpati-jewellery | Q4: Jewellery > Occasion > Gift For Sis | R4: necklace for women | T4: Animal
B5: Traditional | C5: Bronze | D5: Copper | E5: Metallic | F5: Amethyst | G5: Cushion Cut | H5: Biwa Cultured Pearl | I5: Boston | J5: Collar Necklace | K5: Dried Flowers | L5: Bolt Ring | M5: Chokers | N5: Multi-String Necklace | O5: Cluster | P5: Jewellery > Occasion > navratri-jewellery | Q5: Jewellery > Occasion > Gift For GF | R5: long necklace for women | T5: Arrow
C6: Brown | D6: Crystal | E6: Gold Plated | F6: Aquamarine | G6: Emerald Shape | H6: Blister Pearl | I6: Box | J6: Lariat Necklace | K6: Enamel Decorations | L6: Box | M6: Chuncky Chain Jewellery | O6: Delicate | P6: Jewellery > Occasion > ceremonial | R6: temple jewellery set | T6: Bar
C7: Copper | D7: Dori | E7: Kundan | F7: Beryl | G7: Half Moon | H7: Blue Mussel Pearl | I7: Byzantine | J7: Bib Necklace | K7: Gemstones | L7: Box-With-Tongue | M7: Chunky | O7: Floral | P7: Jewellery > Occasion > party | R7: pearl jewellery set for women | T7: Bees
C8: Gold | D8: Fabric | E8: Polki | F8: Carnelian | G8: Heart Shape | H8: Chinese Freshwater Cultured Pearl | I8: C-Link | J8: Beaded Necklace | K8: Ghungroo | L8: Box-With-Tongue & safety | M8: Coin Necklace | O8: Temple | P8: Jewellery > Occasion > wedding | R8: layered necklace | T8: Bird
C9: Green | D9: Glass | E9: Meenakari | F9: Cat's Eye | G9: Irregular | H9: Conch Pearl | I9: Cable | J9: Statement Necklace | K9: Glitter | L9: Buckle | M9: Crystal | P9: Jewellery > Occasion > casual | R9: american diamond | T9: Bows
C10: Grey | D10: Jute | E10: Teracotta Anddokra | F10: Chalcedony | G10: Marquise | H10: Edison Pearl | I10: Cobra | J10: Multi-Strand Necklace | K10: Hand-painted | L10: Double Safety | M10: Cutwork | P10: Jewellery > Occasion > festival | R10: choker | T10: Butterfly
C11: Lavender | D11: Lac | E11: Pearl | F11: Citrine | G11: Nugget Shape | H11: Fireballs Pearl | I11: Cord | K11: Kundan | L11: Fishhook | M11: Dainty-Light | P11: Jewellery > Occasion > bridal | R11: bridal jewellery | T11: Celestial
C12: Lime | D12: Leather | E12: Silver Plated | F12: Coral | G12: Other Shape | H12: Freshwater Cultured Pearl | I12: Crisscross | K12: Mirror Work | L12: Fold Over | M12: Dual Tone | P12: Jewellery > Occasion > Haldi | T12: Coin
C13: Maroon | D13: Metal | E13: Victorian | F13: Crystal | G13: Oval | H13: Hybrid Cultured Pearl | I13: Cuban | K13: Stones | L13: Hook | M13: Enamel | P13: Jewellery > Occasion > Mahndi | T13: Cross
C14: Multicolor | D14: Mother of Pearl | E14: Wooden | F14: Cubic Zirconia | G14: Pear | H14: Keshi Cultured Pearl | I14: Curb | L14: Hook & Eye | M14: Ethnic Chokers | P14: Jewellery > Occasion > Engagement | T14: Elephant
C15: Orange | D15: Oxidised Silver | E15: Thewa | F15: Diamond | G15: Princess | H15: Mabe Cultured Pearl | I15: Figaro | L15: Lobster | M15: Handcrafted | P15: Jewellery > Occasion > Cocktail | T15: Feather
C16: Pink | D16: Paper | E16: Pota | F16: Emerald | G16: Radiant | H16: Majorca Pearl | I16: Franco | L16: Magnetic | M16: Kundan | P16: Jewellery > Occasion > Traditional | T16: Floral
C17: Platinum | D17: Plastic | E17: Plain | F17: Garnet | G17: Rectangular | H17: Melo Pearl | I17: French Rope | L17: No Clasp | M17: Layered | P17: Jewellery > Occasion > Reception | T17: Fruits
C18: Purple | D18: Resin | F18: Jade | G18: Round | H18: Natural Pearl | I18: Herringbone | L18: Pinch Clip | M18: Long Chain with pendants | P18: Jewellery > Occasion > Valentine | T18: Ganesha
C19: Red | D19: Rubber | F19: Lapis Lazuli | G19: Round Brilliant Shape | H19: Saltwater Pearl | I19: Link | L19: Push Button | M19: Metal Chain neckpiece | T19: Heart
C20: Rose | D20: Rudraksha | F20: Malachite | G20: Special Cut Shape | H20: Scallop Pearl | I20: Mariner | L20: S-Hook | M20: Minimal Pearl Jewellery | T20: Hexagon
C21: Rose Gold | D21: Shell | F21: Moissanite | G21: Square | H21: Seed Pearl | I21: Omega | L21: Slide Lock | M21: Organic Forms | T21: Infinity
C22: Silver | D22: Silver | F22: Moonstone | G22: Trapezoid | H22: Shell Pearl | I22: Popcorn | L22: Snap | M22: Ornate Choker | T22: Insects
C23: Turquoise | D23: Stainless Steel | F23: Mother of Pearl | G23: Triangle | H23: Simulated Pearl | I23: Railroad | L23: Spring Ring | M23: Oversized Statement | T23: Irregular
C24: White | D24: Steel | F24: Onyx | H24: South Sea Cultured Pearl | I24: Rolo | L24: Swivel | M24: Oxidized Silver | T24: Medallion
C25: Yellow | D25: Sterling Silver | F25: Opal | H25: Tahitian Cultured Pearl | I25: Singapore | L25: Toggle | M25: Peacock | T25: Moon
D26: Stone | F26: Pearl | H26: Tahitian Pearl | I26: Snake | L26: Twist | M26: Pearl | T26: Musical Notes
D27: Terracotta | F27: Peridot | I27: Tennis | M27: Pearl & Uncut Stones | T27: Om
D28: Wood | F28: Quartz | I28: Wheat | M28: Rose Gold | T28: Oval
F29: Ruby | M29: Silver | T29: Owl
F30: Sapphire | M30: Silver - Bold Collection | T30: Paisley/Mango
F31: Spinel | M31: Statement | T31: Peacock
F32: Swarovski Crystal | M32: Studded | T32: Pear
F33: Tanzanite | M33: Swarovski | T33: Religious Symbols
F34: Topaz | M34: Tassel | T34: Rose
F35: Tourmaline | M35: Tribal | T35: Round
F36: Tsavorite | M36: Tribal Trims | T36: Spike
F37: Turquoise | M37: White Gold | T37: Square
F38: Zircon | M38: White Jewellery | T38: Stars
F39: kundan | T39: Sun
F40: NA | T40: Tassels
T41: Teardrop
T42: Tree
T43: Triangle

Sheet Image Checker
A1: SKU | B1: Main Image | C1: White Background Image | D1: Other Image 1 | E1: Other Image 2 | F1: Other Image 3 | G1: Other Image 4 | H1: Other Image 5 | I1: Other Image 6 | J1: Other Image 7 | K1: Other Image 8 | L1: Other Image 9 | M1: Swatch Image
